BEGIN:VCALENDAR
VERSION:2.0
PRODID:-//Mind Body Spirit - ECPv6.15.20//NONSGML v1.0//EN
CALSCALE:GREGORIAN
METHOD:PUBLISH
X-WR-CALNAME:Mind Body Spirit
X-ORIGINAL-URL:https://mindbodyspirithw.com
X-WR-CALDESC:Events for Mind Body Spirit
REFRESH-INTERVAL;VALUE=DURATION:PT1H
X-Robots-Tag:noindex
X-PUBLISHED-TTL:PT1H
BEGIN:VTIMEZONE
TZID:America/Los_Angeles
BEGIN:DAYLIGHT
TZOFFSETFROM:-0800
TZOFFSETTO:-0700
TZNAME:PDT
DTSTART:20230312T100000
END:DAYLIGHT
BEGIN:STANDARD
TZOFFSETFROM:-0700
TZOFFSETTO:-0800
TZNAME:PST
DTSTART:20231105T090000
END:STANDARD
BEGIN:DAYLIGHT
TZOFFSETFROM:-0800
TZOFFSETTO:-0700
TZNAME:PDT
DTSTART:20240310T100000
END:DAYLIGHT
BEGIN:STANDARD
TZOFFSETFROM:-0700
TZOFFSETTO:-0800
TZNAME:PST
DTSTART:20241103T090000
END:STANDARD
BEGIN:DAYLIGHT
TZOFFSETFROM:-0800
TZOFFSETTO:-0700
TZNAME:PDT
DTSTART:20250309T100000
END:DAYLIGHT
BEGIN:STANDARD
TZOFFSETFROM:-0700
TZOFFSETTO:-0800
TZNAME:PST
DTSTART:20251102T090000
END:STANDARD
BEGIN:DAYLIGHT
TZOFFSETFROM:-0800
TZOFFSETTO:-0700
TZNAME:PDT
DTSTART:20260308T100000
END:DAYLIGHT
BEGIN:STANDARD
TZOFFSETFROM:-0700
TZOFFSETTO:-0800
TZNAME:PST
DTSTART:20261101T090000
END:STANDARD
END:VTIMEZONE
BEGIN:VEVENT
DTSTART;TZID=America/Los_Angeles:20250330T130000
DTEND;TZID=America/Los_Angeles:20250330T140000
DTSTAMP:20260423T163425
CREATED:20250107T040631Z
LAST-MODIFIED:20250107T040631Z
UID:10001229-1743339600-1743343200@mindbodyspirithw.com
SUMMARY:New Moon Ritual
DESCRIPTION:Join us as we celebrate the new moon. \nSunset Bay State Park \nWest end of the beach near the stream on your left when facing the ocean. \nSunday closest to the new moon each month at 1 pm \n  \nEvent is subject to change\, please contact event organizer to confirm event details.
URL:https://mindbodyspirithw.com/event/new-moon-ritual-3/
LOCATION:Sunset Bay State Park\, Coos Bay\, OR\, United States
ATTACH;FMTTYPE=image/png:https://mindbodyspirithw.com/wp-content/uploads/2024/02/New-Moon-Ritual-1920-x-1080-px-1.png
ORGANIZER;CN="Sheena Snyder":MAILTO:sheenasnyder@yahoo.com
END:VEVENT
BEGIN:VEVENT
DTSTART;TZID=America/Los_Angeles:20250223T130000
DTEND;TZID=America/Los_Angeles:20250223T140000
DTSTAMP:20260423T163425
CREATED:20250107T040536Z
LAST-MODIFIED:20250107T040536Z
UID:10001228-1740315600-1740319200@mindbodyspirithw.com
SUMMARY:New Moon Ritual
DESCRIPTION:Join us as we celebrate the new moon. \nSunset Bay State Park \nWest end of the beach near the stream on your left when facing the ocean. \nSunday closest to the new moon each month at 1 pm \n  \nEvent is subject to change\, please contact event organizer to confirm event details.
URL:https://mindbodyspirithw.com/event/new-moon-ritual-2/
LOCATION:Sunset Bay State Park\, Coos Bay\, OR\, United States
ATTACH;FMTTYPE=image/png:https://mindbodyspirithw.com/wp-content/uploads/2024/02/New-Moon-Ritual-1920-x-1080-px-1.png
ORGANIZER;CN="Sheena Snyder":MAILTO:sheenasnyder@yahoo.com
END:VEVENT
BEGIN:VEVENT
DTSTART;TZID=America/Los_Angeles:20250126T130000
DTEND;TZID=America/Los_Angeles:20250126T140000
DTSTAMP:20260423T163425
CREATED:20250107T040158Z
LAST-MODIFIED:20250107T040158Z
UID:10001227-1737896400-1737900000@mindbodyspirithw.com
SUMMARY:New Moon Ritual
DESCRIPTION:Join us as we celebrate the new moon. \nSunset Bay State Park \nWest end of the beach near the stream on your left when facing the ocean. \nSunday closest to the new moon each month at 1 pm \n  \nEvent is subject to change\, please contact event organizer to confirm event details.
URL:https://mindbodyspirithw.com/event/new-moon-ritual/
LOCATION:Sunset Bay State Park\, Coos Bay\, OR\, United States
ATTACH;FMTTYPE=image/png:https://mindbodyspirithw.com/wp-content/uploads/2024/02/New-Moon-Ritual-1920-x-1080-px-1.png
ORGANIZER;CN="Sheena Snyder":MAILTO:sheenasnyder@yahoo.com
END:VEVENT
BEGIN:VEVENT
DTSTART;TZID=America/Los_Angeles:20240505T130000
DTEND;TZID=America/Los_Angeles:20240505T140000
DTSTAMP:20260423T163425
CREATED:20240301T012805Z
LAST-MODIFIED:20240301T012805Z
UID:10000025-1714914000-1714917600@mindbodyspirithw.com
SUMMARY:New Moon Ritual - May 2024
DESCRIPTION:Join us as we celebrate the new moon. \nSunset Bay State Park \nWest end of the beach near the stream on your left when facing the ocean. \nSunday closest to the new moon each month at 1 pm \n  \nEvent is subject to change\, please contact event organizer to confirm event details.
URL:https://mindbodyspirithw.com/event/new-moon-ritual-may-2024/
LOCATION:Sunset Bay State Park\, Coos Bay\, OR\, United States
CATEGORIES:Classes and Workshops
ATTACH;FMTTYPE=image/png:https://mindbodyspirithw.com/wp-content/uploads/2024/02/New-Moon-Ritual-1920-x-1080-px-1.png
ORGANIZER;CN="Sheena Snyder":MAILTO:sheenasnyder@yahoo.com
END:VEVENT
BEGIN:VEVENT
DTSTART;TZID=America/Los_Angeles:20240407T130000
DTEND;TZID=America/Los_Angeles:20240407T140000
DTSTAMP:20260423T163425
CREATED:20240301T012450Z
LAST-MODIFIED:20240301T012641Z
UID:10000024-1712494800-1712498400@mindbodyspirithw.com
SUMMARY:New Moon Ritual - April 2024
DESCRIPTION:Join us as we celebrate the new moon. \nSunset Bay State Park \nWest end of the beach near the stream on your left when facing the ocean. \nSunday closest to the new moon each month at 1 pm \n  \nEvent is subject to change\, please contact event organizer to confirm event details.
URL:https://mindbodyspirithw.com/event/new-moon-ritual-april-2024/
LOCATION:Sunset Bay State Park\, Coos Bay\, OR\, United States
CATEGORIES:Classes and Workshops
ATTACH;FMTTYPE=image/png:https://mindbodyspirithw.com/wp-content/uploads/2024/02/New-Moon-Ritual-1920-x-1080-px-1.png
ORGANIZER;CN="Sheena Snyder":MAILTO:sheenasnyder@yahoo.com
END:VEVENT
BEGIN:VEVENT
DTSTART;TZID=America/Los_Angeles:20240310T130000
DTEND;TZID=America/Los_Angeles:20240310T140000
DTSTAMP:20260423T163425
CREATED:20240301T012339Z
LAST-MODIFIED:20240301T012339Z
UID:10000023-1710075600-1710079200@mindbodyspirithw.com
SUMMARY:New Moon Ritual - March 2024
DESCRIPTION:Join us as we celebrate the new moon. \nSunset Bay State Park \nWest end of the beach near the stream on your left when facing the ocean. \nSunday closest to the new moon each month at 1 pm \n  \nEvent is subject to change\, please contact event organizer to confirm event details.
URL:https://mindbodyspirithw.com/event/new-moon-ritual-march-2024/
LOCATION:Sunset Bay State Park\, Coos Bay\, OR\, United States
ATTACH;FMTTYPE=image/png:https://mindbodyspirithw.com/wp-content/uploads/2024/02/New-Moon-Ritual-1920-x-1080-px-1.png
ORGANIZER;CN="Sheena Snyder":MAILTO:sheenasnyder@yahoo.com
END:VEVENT
END:VCALENDAR