BEGIN:VCALENDAR
VERSION:2.0
PRODID:-//Mind Body Spirit - ECPv6.15.20//NONSGML v1.0//EN
CALSCALE:GREGORIAN
METHOD:PUBLISH
X-WR-CALNAME:Mind Body Spirit
X-ORIGINAL-URL:https://mindbodyspirithw.com
X-WR-CALDESC:Events for Mind Body Spirit
REFRESH-INTERVAL;VALUE=DURATION:PT1H
X-Robots-Tag:noindex
X-PUBLISHED-TTL:PT1H
BEGIN:VTIMEZONE
TZID:America/Los_Angeles
BEGIN:DAYLIGHT
TZOFFSETFROM:-0800
TZOFFSETTO:-0700
TZNAME:PDT
DTSTART:20230312T100000
END:DAYLIGHT
BEGIN:STANDARD
TZOFFSETFROM:-0700
TZOFFSETTO:-0800
TZNAME:PST
DTSTART:20231105T090000
END:STANDARD
BEGIN:DAYLIGHT
TZOFFSETFROM:-0800
TZOFFSETTO:-0700
TZNAME:PDT
DTSTART:20240310T100000
END:DAYLIGHT
BEGIN:STANDARD
TZOFFSETFROM:-0700
TZOFFSETTO:-0800
TZNAME:PST
DTSTART:20241103T090000
END:STANDARD
BEGIN:DAYLIGHT
TZOFFSETFROM:-0800
TZOFFSETTO:-0700
TZNAME:PDT
DTSTART:20250309T100000
END:DAYLIGHT
BEGIN:STANDARD
TZOFFSETFROM:-0700
TZOFFSETTO:-0800
TZNAME:PST
DTSTART:20251102T090000
END:STANDARD
END:VTIMEZONE
BEGIN:VEVENT
DTSTART;TZID=America/Los_Angeles:20241015T180000
DTEND;TZID=America/Los_Angeles:20241015T200000
DTSTAMP:20260423T173657
CREATED:20240816T191013Z
LAST-MODIFIED:20241228T205903Z
UID:10000609-1729015200-1729022400@mindbodyspirithw.com
SUMMARY:Channeling with LightSong
DESCRIPTION:Join us as we welcome LightSong for another amazing Channeling event. During the session\, she will hold a meditation/journey with her Spirit Guides\, EARTH MEDICINE and STAR DANCER. She will offer group messages as well as individual messages.\n\nWant to know just what to expect during our Channeling with LightSong Session? Check out our quick video with Martha LightSong as she tells us what to expect here.\n\nSpace is limited so be sure to register today! Contact Martha at 541-294-2550 or use the ticket link.
URL:https://mindbodyspirithw.com/event/lightsong-channeling/2024-10-15/
LOCATION:Mind Body Spirit Classroom\, 1611 Virginia Ave\, Ste 124\, North Bend\, OR\, 97459\, United States
CATEGORIES:Classes and Workshops,Readings
ATTACH;FMTTYPE=image/png:https://mindbodyspirithw.com/wp-content/uploads/2024/08/Lightsong-Channeling.png
END:VEVENT
BEGIN:VEVENT
DTSTART;TZID=America/Los_Angeles:20240917T180000
DTEND;TZID=America/Los_Angeles:20240917T200000
DTSTAMP:20260423T173657
CREATED:20240816T191013Z
LAST-MODIFIED:20241228T205903Z
UID:10000607-1726596000-1726603200@mindbodyspirithw.com
SUMMARY:Channeling with LightSong
DESCRIPTION:Join us as we welcome LightSong for another amazing Channeling event. During the session\, she will hold a meditation/journey with her Spirit Guides\, EARTH MEDICINE and STAR DANCER. She will offer group messages as well as individual messages.\n\nWant to know just what to expect during our Channeling with LightSong Session? Check out our quick video with Martha LightSong as she tells us what to expect here.\n\nSpace is limited so be sure to register today! Contact Martha at 541-294-2550 or use the ticket link.
URL:https://mindbodyspirithw.com/event/lightsong-channeling/2024-09-17/
LOCATION:Mind Body Spirit Classroom\, 1611 Virginia Ave\, Ste 124\, North Bend\, OR\, 97459\, United States
CATEGORIES:Classes and Workshops,Readings
ATTACH;FMTTYPE=image/png:https://mindbodyspirithw.com/wp-content/uploads/2024/08/Lightsong-Channeling.png
END:VEVENT
BEGIN:VEVENT
DTSTART;TZID=America/Los_Angeles:20240820T180000
DTEND;TZID=America/Los_Angeles:20240820T200000
DTSTAMP:20260423T173657
CREATED:20240802T185618Z
LAST-MODIFIED:20241228T205841Z
UID:10000538-1724176800-1724184000@mindbodyspirithw.com
SUMMARY:Channeling with LightSong
DESCRIPTION:Join us as we welcome LightSong for another amazing Channeling event. During the session\, she will hold a meditation/journey with her Spirit Guides\, EARTH MEDICINE and STAR DANCER. She will offer group messages as well as individual messages.\n\nWant to know just what to expect during our Channeling with LightSong Session? Check out our quick video with Martha LightSong as she tells us what to expect here.\n\nSpace is limited so be sure to register today! Contact Martha at 541-294-2550 or use the ticket link.
URL:https://mindbodyspirithw.com/event/channeling-with-lightsong-2/
LOCATION:Mind Body Spirit Classroom\, 1611 Virginia Ave\, Ste 124\, North Bend\, OR\, 97459\, United States
CATEGORIES:Classes and Workshops,Readings
ATTACH;FMTTYPE=image/png:https://mindbodyspirithw.com/wp-content/uploads/2024/08/Lightsong-Channeling.png
END:VEVENT
BEGIN:VEVENT
DTSTART;TZID=America/Los_Angeles:20240604T180000
DTEND;TZID=America/Los_Angeles:20240604T200000
DTSTAMP:20260423T173657
CREATED:20240522T193342Z
LAST-MODIFIED:20240526T213029Z
UID:10000039-1717524000-1717531200@mindbodyspirithw.com
SUMMARY:Channeling with LightSong
DESCRIPTION:Join us on June 4th for Channeling with LightSong. During the session she will hold a meditation/journey with her Spirit Guides\, EARTH MEDICINE and STAR DANCER. She will offer group messages as well as individual messages.\n\nWant to know just what to expect during our Channeling with LightSong Session? Check out our quick video with Martha LightSong as she tells us what to expect here.\n\nSpace is limited so be sure to register today! Contact Martha at 541-294-2550 or use the ticket link.
URL:https://mindbodyspirithw.com/event/channeling-with-lightsong/
LOCATION:Mind Body Spirit Classroom\, 1611 Virginia Ave\, Ste 124\, North Bend\, OR\, 97459\, United States
CATEGORIES:Classes and Workshops
ATTACH;FMTTYPE=image/png:https://mindbodyspirithw.com/wp-content/uploads/2024/05/Lightsong-Channeling-1.png
END:VEVENT
BEGIN:VEVENT
DTSTART;TZID=America/Los_Angeles:20240521T180000
DTEND;TZID=America/Los_Angeles:20240521T200000
DTSTAMP:20260423T173657
CREATED:20240505T201946Z
LAST-MODIFIED:20241228T205150Z
UID:10000037-1716314400-1716321600@mindbodyspirithw.com
SUMMARY:Energy Healing Workshop
DESCRIPTION:Introducing Energy Healing\, a comprehensive workshop that empowers you with the knowledge and techniques to harness the power of energy healing. With this workshop\, you will explore various methods such as the Tapping method\, muscle testing\, a 5-minute energy balancing routine\, and much more. Each key feature is designed to equip you with effective tools to unlock energy healing potential and promote holistic well-being. \nKey methods taught during the workshop include: \n\nTapping method: Discover the transformative practice of Tapping\, a powerful technique that combines acupressure and psychology to release negative emotions\, reduce stress\, and restore energy flow.\nMuscle Testing: Learn how to utilize muscle testing\, an intuitive tool to access the body’s wisdom and identify imbalances within the energy system\, enabling targeted healing.\n5-minute energy balancing routine: Incorporate a quick and efficient energy balancing routine into your daily life\, promoting harmony\, vitality\, and a sense of calm.\nAnd much more: Dive into additional energy healing protocols\, techniques\, and insights that will expand your understanding and enhance your practice.\n\nWith Energy Healing Protocols\, you can embark on a transformative journey of self-healing and personal growth. Experience the profound benefits of energy healing as you tap into the innate power within you\, restore balance\, and cultivate a harmonious mind\, body\, and spirit. \n 
URL:https://mindbodyspirithw.com/event/energy-healing-workshop-2/
LOCATION:Mind Body Spirit Classroom\, 1611 Virginia Ave\, Ste 124\, North Bend\, OR\, 97459\, United States
CATEGORIES:Classes and Workshops
ATTACH;FMTTYPE=image/png:https://mindbodyspirithw.com/wp-content/uploads/2024/05/Event-Lightsong-Energy-Medicine-May.png
END:VEVENT
BEGIN:VEVENT
DTSTART;TZID=America/Los_Angeles:20240326T180000
DTEND;TZID=America/Los_Angeles:20240326T200000
DTSTAMP:20260423T173657
CREATED:20240301T192952Z
LAST-MODIFIED:20241228T205225Z
UID:10000027-1711476000-1711483200@mindbodyspirithw.com
SUMMARY:Energy Healing Workshop
DESCRIPTION:Introducing Energy Healing\, a comprehensive workshop that empowers you with the knowledge and techniques to harness the power of energy healing. With this workshop\, you will explore various methods such as the Tapping method\, muscle testing\, a 5-minute energy balancing routine\, and much more. Each key feature is designed to equip you with effective tools to unlock energy healing potential and promote holistic well-being. \nKey methods taught during the workshop include: \n\nTapping method: Discover the transformative practice of Tapping\, a powerful technique that combines acupressure and psychology to release negative emotions\, reduce stress\, and restore energy flow.\nMuscle Testing: Learn how to utilize muscle testing\, an intuitive tool to access the body’s wisdom and identify imbalances within the energy system\, enabling targeted healing.\n5-minute energy balancing routine: Incorporate a quick and efficient energy balancing routine into your daily life\, promoting harmony\, vitality\, and a sense of calm.\nAnd much more: Dive into additional energy healing protocols\, techniques\, and insights that will expand your understanding and enhance your practice.\n\nWith Energy Healing Protocols\, you can embark on a transformative journey of self-healing and personal growth. Experience the profound benefits of energy healing as you tap into the innate power within you\, restore balance\, and cultivate a harmonious mind\, body\, and spirit. \nReserve your space here.
URL:https://mindbodyspirithw.com/event/energy-healing-workshop/
LOCATION:Mind Body Spirit Classroom\, 1611 Virginia Ave\, Ste 124\, North Bend\, OR\, 97459\, United States
CATEGORIES:Classes and Workshops
ATTACH;FMTTYPE=image/png:https://mindbodyspirithw.com/wp-content/uploads/2024/03/Lightsong-Energy-Medicine-March-Banner.png
END:VEVENT
BEGIN:VEVENT
DTSTART;TZID=America/Los_Angeles:20240220T180000
DTEND;TZID=America/Los_Angeles:20240220T200000
DTSTAMP:20260423T173657
CREATED:20240129T194413Z
LAST-MODIFIED:20241228T210407Z
UID:10000006-1708452000-1708459200@mindbodyspirithw.com
SUMMARY:Energy Medicine
DESCRIPTION:Our next Energy Medicine Class is fast approaching\, learn self-performed healing protocols that can be performed daily or as needed. \nSpace is limited\, so be sure to text Martha to reserve your spot!
URL:https://mindbodyspirithw.com/event/energy-medicine/
LOCATION:Mind Body Spirit Classroom\, 1611 Virginia Ave\, Ste 124\, North Bend\, OR\, 97459\, United States
CATEGORIES:Classes and Workshops
ATTACH;FMTTYPE=image/png:https://mindbodyspirithw.com/wp-content/uploads/2024/01/LIGHTSONG-Energy-Medicine-2.20-5.5-x-8.5-in-Instagram-Post.png
END:VEVENT
END:VCALENDAR