BEGIN:VCALENDAR
VERSION:2.0
PRODID:-//Mind Body Spirit - ECPv6.15.20//NONSGML v1.0//EN
CALSCALE:GREGORIAN
METHOD:PUBLISH
X-WR-CALNAME:Mind Body Spirit
X-ORIGINAL-URL:https://mindbodyspirithw.com
X-WR-CALDESC:Events for Mind Body Spirit
REFRESH-INTERVAL;VALUE=DURATION:PT1H
X-Robots-Tag:noindex
X-PUBLISHED-TTL:PT1H
BEGIN:VTIMEZONE
TZID:America/Los_Angeles
BEGIN:DAYLIGHT
TZOFFSETFROM:-0800
TZOFFSETTO:-0700
TZNAME:PDT
DTSTART:20230312T100000
END:DAYLIGHT
BEGIN:STANDARD
TZOFFSETFROM:-0700
TZOFFSETTO:-0800
TZNAME:PST
DTSTART:20231105T090000
END:STANDARD
BEGIN:DAYLIGHT
TZOFFSETFROM:-0800
TZOFFSETTO:-0700
TZNAME:PDT
DTSTART:20240310T100000
END:DAYLIGHT
BEGIN:STANDARD
TZOFFSETFROM:-0700
TZOFFSETTO:-0800
TZNAME:PST
DTSTART:20241103T090000
END:STANDARD
BEGIN:DAYLIGHT
TZOFFSETFROM:-0800
TZOFFSETTO:-0700
TZNAME:PDT
DTSTART:20250309T100000
END:DAYLIGHT
BEGIN:STANDARD
TZOFFSETFROM:-0700
TZOFFSETTO:-0800
TZNAME:PST
DTSTART:20251102T090000
END:STANDARD
BEGIN:DAYLIGHT
TZOFFSETFROM:-0800
TZOFFSETTO:-0700
TZNAME:PDT
DTSTART:20260308T100000
END:DAYLIGHT
BEGIN:STANDARD
TZOFFSETFROM:-0700
TZOFFSETTO:-0800
TZNAME:PST
DTSTART:20261101T090000
END:STANDARD
END:VTIMEZONE
BEGIN:VEVENT
DTSTART;TZID=America/Los_Angeles:20250111T130000
DTEND;TZID=America/Los_Angeles:20250111T150000
DTSTAMP:20260423T214932
CREATED:20241202T000244Z
LAST-MODIFIED:20241228T204946Z
UID:10001216-1736600400-1736607600@mindbodyspirithw.com
SUMMARY:Healing 101 Workshop
DESCRIPTION:Healing 101Workshop is presented by Margo Day\, a lifelong practitioner. \n“My belief is All healing comes from God”\, Margo Day. \nDo you feel energy flow from you when you are around sick people? Do you feel drained when you leave them? This class will teach you how to set up protection for you and your client\, look at and scan people’s auras and clear negative energy\, tap into divine healing energy\, and finish a session when done. We will also cover do’s & don’ts. There will be handouts\, demonstrations\, and practice.
URL:https://mindbodyspirithw.com/event/healing-101-workshop-2/
LOCATION:Mind Body Spirit Classroom\, 1611 Virginia Ave\, Ste 124\, North Bend\, OR\, 97459\, United States
CATEGORIES:Classes and Workshops
ATTACH;FMTTYPE=image/png:https://mindbodyspirithw.com/wp-content/uploads/2024/12/Healing-101.png
END:VEVENT
BEGIN:VEVENT
DTSTART;TZID=America/Los_Angeles:20241101T130000
DTEND;TZID=America/Los_Angeles:20241101T150000
DTSTAMP:20260423T214932
CREATED:20241030T223337Z
LAST-MODIFIED:20241228T210618Z
UID:10000932-1730466000-1730473200@mindbodyspirithw.com
SUMMARY:Healing 101 Workshop
DESCRIPTION:Healing 101Workshop is presented by Margo Day\, a lifelong practitioner. \n“My belief is All healing comes from God”\, Margo Day. \nDo you feel energy flow from you when you are around sick people? Do you feel drained when you leave them? This class will teach you how to set up protection for you and your client\, look at and scan people’s auras and clear negative energy\, tap into divine healing energy\, and finish a session when done. We will also cover do’s & don’ts. There will be handouts\, demonstrations\, and practice.
URL:https://mindbodyspirithw.com/event/healing-101-workshop/
LOCATION:Mind Body Spirit Classroom\, 1611 Virginia Ave\, Ste 124\, North Bend\, OR\, 97459\, United States
CATEGORIES:Classes and Workshops
ATTACH;FMTTYPE=image/png:https://mindbodyspirithw.com/wp-content/uploads/2024/08/Copy-of-Lightsong-Channeling.png
END:VEVENT
BEGIN:VEVENT
DTSTART;TZID=America/Los_Angeles:20240907T130000
DTEND;TZID=America/Los_Angeles:20240907T150000
DTSTAMP:20260423T214932
CREATED:20240821T184929Z
LAST-MODIFIED:20241228T210626Z
UID:10000608-1725714000-1725721200@mindbodyspirithw.com
SUMMARY:Healing 101
DESCRIPTION:Healing 101 presented by Margo Day\, a lifelong practitioner. \n“My belief is All healing comes from God”\, Margo Day. \nDo you feel energy flow from you when you are around sick people? Do you feel drained when you leave them? This class will teach you how to set up protection for you and your client\, look at and scan people’s auras and clear negative energy\, tap into divine healing energy\, and finish a session when done. We will also cover do’s & don’ts. There will be handouts\, demonstrations\, and practice.
URL:https://mindbodyspirithw.com/event/healing-101/
LOCATION:Mind Body Spirit Classroom\, 1611 Virginia Ave\, Ste 124\, North Bend\, OR\, 97459\, United States
CATEGORIES:Classes and Workshops
ATTACH;FMTTYPE=image/png:https://mindbodyspirithw.com/wp-content/uploads/2024/08/Copy-of-Lightsong-Channeling.png
END:VEVENT
END:VCALENDAR