BEGIN:VCALENDAR
VERSION:2.0
PRODID:-//Mind Body Spirit - ECPv6.15.20//NONSGML v1.0//EN
CALSCALE:GREGORIAN
METHOD:PUBLISH
X-WR-CALNAME:Mind Body Spirit
X-ORIGINAL-URL:https://mindbodyspirithw.com
X-WR-CALDESC:Events for Mind Body Spirit
REFRESH-INTERVAL;VALUE=DURATION:PT1H
X-Robots-Tag:noindex
X-PUBLISHED-TTL:PT1H
BEGIN:VTIMEZONE
TZID:America/Los_Angeles
BEGIN:DAYLIGHT
TZOFFSETFROM:-0800
TZOFFSETTO:-0700
TZNAME:PDT
DTSTART:20230312T100000
END:DAYLIGHT
BEGIN:STANDARD
TZOFFSETFROM:-0700
TZOFFSETTO:-0800
TZNAME:PST
DTSTART:20231105T090000
END:STANDARD
BEGIN:DAYLIGHT
TZOFFSETFROM:-0800
TZOFFSETTO:-0700
TZNAME:PDT
DTSTART:20240310T100000
END:DAYLIGHT
BEGIN:STANDARD
TZOFFSETFROM:-0700
TZOFFSETTO:-0800
TZNAME:PST
DTSTART:20241103T090000
END:STANDARD
BEGIN:DAYLIGHT
TZOFFSETFROM:-0800
TZOFFSETTO:-0700
TZNAME:PDT
DTSTART:20250309T100000
END:DAYLIGHT
BEGIN:STANDARD
TZOFFSETFROM:-0700
TZOFFSETTO:-0800
TZNAME:PST
DTSTART:20251102T090000
END:STANDARD
END:VTIMEZONE
BEGIN:VEVENT
DTSTART;TZID=America/Los_Angeles:20240727T130000
DTEND;TZID=America/Los_Angeles:20240727T150000
DTSTAMP:20260423T161703
CREATED:20240718T234827Z
LAST-MODIFIED:20241228T205713Z
UID:10000231-1722085200-1722092400@mindbodyspirithw.com
SUMMARY:Astrology 102
DESCRIPTION:Beginning Astrology Classes \nWhy Astrology?   To Know Yourself\nWhat is Astrology?    A Mythic Language\nWhen? Note that classes are repeated on Saturdays\, you are not required to attend Thursday and Saturday\nAstrology 101 July 11 Thursday 6PM $25 or Astrology 101 July 13 Saturday 1PM $25\nAstrology 102 July 25 Thursday 6PM $10 or Astrology 102 July 27 Saturday 1PM $10 \nJewell Starsinger 541.290.0411
URL:https://mindbodyspirithw.com/event/astrology-102-2/
LOCATION:Mind Body Spirit Classroom\, 1611 Virginia Ave\, Ste 124\, North Bend\, OR\, 97459\, United States
CATEGORIES:Classes and Workshops
ATTACH;FMTTYPE=image/png:https://mindbodyspirithw.com/wp-content/uploads/2024/06/Astrology-101-102.png
END:VEVENT
BEGIN:VEVENT
DTSTART;TZID=America/Los_Angeles:20240725T180000
DTEND;TZID=America/Los_Angeles:20240725T200000
DTSTAMP:20260423T161703
CREATED:20240718T234728Z
LAST-MODIFIED:20241228T205703Z
UID:10000230-1721930400-1721937600@mindbodyspirithw.com
SUMMARY:Astrology 102
DESCRIPTION:Beginning Astrology Classes \nWhy Astrology?   To Know Yourself\nWhat is Astrology?    A Mythic Language\nWhen? Note that classes are repeated on Saturdays\, you are not required to attend Thursday and Saturday\nAstrology 101 July 11 Thursday 6PM $25 or Astrology 101 July 13 Saturday 1PM $25\nAstrology 102 July 25 Thursday 6PM $10 or Astrology 102 July 27 Saturday 1PM $10 \nJewell Starsinger 541.290.0411
URL:https://mindbodyspirithw.com/event/astrology-102/
LOCATION:Mind Body Spirit Classroom\, 1611 Virginia Ave\, Ste 124\, North Bend\, OR\, 97459\, United States
CATEGORIES:Classes and Workshops
ATTACH;FMTTYPE=image/png:https://mindbodyspirithw.com/wp-content/uploads/2024/06/Astrology-101-102.png
END:VEVENT
BEGIN:VEVENT
DTSTART;TZID=America/Los_Angeles:20240711T180000
DTEND;TZID=America/Los_Angeles:20240711T193000
DTSTAMP:20260423T161703
CREATED:20240628T193303Z
LAST-MODIFIED:20241228T205041Z
UID:10000048-1720720800-1720726200@mindbodyspirithw.com
SUMMARY:Astrology Classes
DESCRIPTION:Beginning Astrology Classes \nWhy Astrology?   To Know Yourself\nWhat is Astrology?    A Mythic Language\nWhen? Note that classes are repeated on Saturdays\, you are not required to attend Thursday and Saturday\nAstrology 101 July 11 Thursday 6PM $25 or Astrology 101 July 13 Saturday 1PM $25\nAstrology 102 July 25 Thursday 6PM $10 or Astrology 102 July 27 Saturday 1PM $10 \nJewell Starsinger 541.290.0411\nDorine Hartnett \nPreregister with your birth data to get your\npersonal astrology chart. Charts and educational\nmaterials will be provided in the first session.
URL:https://mindbodyspirithw.com/event/astrology-classes/
LOCATION:Mind Body Spirit Classroom\, 1611 Virginia Ave\, Ste 124\, North Bend\, OR\, 97459\, United States
CATEGORIES:Classes and Workshops
ATTACH;FMTTYPE=image/png:https://mindbodyspirithw.com/wp-content/uploads/2024/06/Astrology-101-102.png
END:VEVENT
BEGIN:VEVENT
DTSTART;TZID=America/Los_Angeles:20240615T130000
DTEND;TZID=America/Los_Angeles:20240615T150000
DTSTAMP:20260423T161703
CREATED:20240603T201041Z
LAST-MODIFIED:20241228T205108Z
UID:10000043-1718456400-1718463600@mindbodyspirithw.com
SUMMARY:Tarology
DESCRIPTION:Come learn TAROLOGY! What is it and what will it do for you? \nYour life story matters because it belongs to you. That means you can tell it however you choose. When choices are confusing there is help in the form of Astrology plus Tarot =Tarology. Telling your story in a new way will help you live a new\, stronger version of yourself. \nJewell Starsinger\, a veteran Astrologer and Tarot buff will be holding introductory classes June 8 and 15 for all of you who want to understand the story of your life in more detail. \nPre-register with your birth data so Jewell can provide your printed Astrology chart. \nBring Tarot cards if you have them\, but no worries\, Jewell has lots of cards! \nOnce registered\, please email your date\, time and city/state/country of birth to mindbodyspirithw@gmail.com so that Jewell can have your astrology chart ready for class.
URL:https://mindbodyspirithw.com/event/tarology-2/
LOCATION:Mind Body Spirit Classroom\, 1611 Virginia Ave\, Ste 124\, North Bend\, OR\, 97459\, United States
CATEGORIES:Classes and Workshops
ATTACH;FMTTYPE=image/jpeg:https://mindbodyspirithw.com/wp-content/uploads/2024/05/Tarology.jpg
END:VEVENT
BEGIN:VEVENT
DTSTART;TZID=America/Los_Angeles:20240608T130000
DTEND;TZID=America/Los_Angeles:20240608T150000
DTSTAMP:20260423T161703
CREATED:20240526T214319Z
LAST-MODIFIED:20241228T205124Z
UID:10000041-1717851600-1717858800@mindbodyspirithw.com
SUMMARY:Tarology
DESCRIPTION:Come learn TAROLOGY! What is it and what will it do for you?Your life story matters because it belongs to you. That means you can tell it however you choose.When choices are confusing there is help in the form of Astrology plus Tarot =Tarology.Telling your story in a new way will help you live a new\, stronger version of yourself. What is Tarology? Check out of quick minute with Jewell and let here explain here.\n\nJewell Starsinger\, a veteran Astrologer and Tarot buff will be holding introductory classes June 8 and 15for all of you who want to understand the story of your life in more detail.\n\nPre-register with your birth data so Jewell can provide your printed Astrology chart.\nBring Tarot cards if you have them\, but no worries\, Jewell has lots of cards! Or you can purchase one at the store\, here.\n\nBe sure to select your preferred date when purchasing your Tarology ticket.
URL:https://mindbodyspirithw.com/event/tarology/
LOCATION:Mind Body Spirit Classroom\, 1611 Virginia Ave\, Ste 124\, North Bend\, OR\, 97459\, United States
CATEGORIES:Classes and Workshops
ATTACH;FMTTYPE=image/jpeg:https://mindbodyspirithw.com/wp-content/uploads/2024/05/Tarology.jpg
END:VEVENT
END:VCALENDAR