BEGIN:VCALENDAR
VERSION:2.0
PRODID:-//Mind Body Spirit - ECPv6.15.20//NONSGML v1.0//EN
CALSCALE:GREGORIAN
METHOD:PUBLISH
X-ORIGINAL-URL:https://mindbodyspirithw.com
X-WR-CALDESC:Events for Mind Body Spirit
REFRESH-INTERVAL;VALUE=DURATION:PT1H
X-Robots-Tag:noindex
X-PUBLISHED-TTL:PT1H
BEGIN:VTIMEZONE
TZID:America/Los_Angeles
BEGIN:DAYLIGHT
TZOFFSETFROM:-0800
TZOFFSETTO:-0700
TZNAME:PDT
DTSTART:20230312T100000
END:DAYLIGHT
BEGIN:STANDARD
TZOFFSETFROM:-0700
TZOFFSETTO:-0800
TZNAME:PST
DTSTART:20231105T090000
END:STANDARD
BEGIN:DAYLIGHT
TZOFFSETFROM:-0800
TZOFFSETTO:-0700
TZNAME:PDT
DTSTART:20240310T100000
END:DAYLIGHT
BEGIN:STANDARD
TZOFFSETFROM:-0700
TZOFFSETTO:-0800
TZNAME:PST
DTSTART:20241103T090000
END:STANDARD
BEGIN:DAYLIGHT
TZOFFSETFROM:-0800
TZOFFSETTO:-0700
TZNAME:PDT
DTSTART:20250309T100000
END:DAYLIGHT
BEGIN:STANDARD
TZOFFSETFROM:-0700
TZOFFSETTO:-0800
TZNAME:PST
DTSTART:20251102T090000
END:STANDARD
END:VTIMEZONE
BEGIN:VEVENT
DTSTART;TZID=America/Los_Angeles:20240628T180000
DTEND;TZID=America/Los_Angeles:20240628T200000
DTSTAMP:20260423T174026
CREATED:20240628T184644Z
LAST-MODIFIED:20241228T210921Z
UID:10000045-1719597600-1719604800@mindbodyspirithw.com
SUMMARY:Smudge Wand & Broom Making
DESCRIPTION:🌿✨ Unleash the power of positive energy with our Smudge Wand and Broom Making Workshop! Join us for an enchanting experience where you’ll learn to craft your own smudge wands and broom from locally sourced materials. Say goodbye to negative vibes and hello to a harmonious space. 🌸🔮 Don’t miss out! Reserve your spot now and embark on a journey of purification and tranquility. ✨🌿 The Smudge Wand Making Workshop is open to all ages. \n$30 per person \nYou can also visit our Facebook page for more events. \nUnable to attend the event but still need a quality smudge wand? Check out our locally made Cedar and Jasmine Wand here.
URL:https://mindbodyspirithw.com/event/smudge-wand-broom-making/
LOCATION:Mind Body Spirit Classroom\, 1611 Virginia Ave\, Ste 124\, North Bend\, OR\, 97459\, United States
CATEGORIES:Classes and Workshops
END:VEVENT
BEGIN:VEVENT
DTSTART;TZID=America/Los_Angeles:20240601T130000
DTEND;TZID=America/Los_Angeles:20240601T150000
DTSTAMP:20260423T174026
CREATED:20240526T212617Z
LAST-MODIFIED:20241228T205133Z
UID:10000040-1717246800-1717254000@mindbodyspirithw.com
SUMMARY:Smudge Wand Making Workshop
DESCRIPTION:🌿✨ Unleash the power of positive energy with our Smudge Wand Workshop! Join us for an enchanting experience where you’ll learn to craft your own smudge wands from locally sourced materials. Say goodbye to negative vibes and hello to a harmonious space. 🌸🔮 Don’t miss out! Reserve your spot now and embark on a journey of purification and tranquility. ✨🌿 The Smudge Wand Making Workshop is open to all ages. \n$20 per person \nYou can also visit our Facebook page for more events. \nUnable to attend the event but still need a quality smudge wand? Check out our locally made Cedar and Jasmine Wand here.
URL:https://mindbodyspirithw.com/event/smudge-wand-making-workshop/
LOCATION:Mind Body Spirit Classroom\, 1611 Virginia Ave\, Ste 124\, North Bend\, OR\, 97459\, United States
CATEGORIES:Classes and Workshops
ATTACH;FMTTYPE=image/png:https://mindbodyspirithw.com/wp-content/uploads/2024/05/Smudge-wand-making.png
END:VEVENT
BEGIN:VEVENT
DTSTART;TZID=America/Los_Angeles:20240525T130000
DTEND;TZID=America/Los_Angeles:20240525T150000
DTSTAMP:20260423T174026
CREATED:20240505T201521Z
LAST-MODIFIED:20241228T205143Z
UID:10000036-1716642000-1716649200@mindbodyspirithw.com
SUMMARY:Witchy Hat Decorating Workshop
DESCRIPTION:Step into a world of enchantment with our Witchy Hat Decorating Workshop. This unique experience offers an afternoon filled with creativity\, fun\, and a touch of magic. Unleash your imagination as you adorn your very own witch hat. We will have locally foraged flora and fauna available\, creating a truly one-of-a-kind masterpiece. With an array of vibrant crystals and all supplies provided\, you’ll have everything you need to bring your vision to life. Whether you’re a seasoned witch or a curious beginner\, this workshop is the perfect opportunity to explore your artistic side and embrace the whimsy of the mystical world. Join us and let your creativity soar! \nKey features of the Witchy Hat Decorating Workshop: \n• Witchy Hat Decorating: Personalize your own witch hat\, transforming it into a unique expression of your style and personality. \n• Locally Foraged Flora and Fauna: Use hand-picked botanical elements sourced from our local surroundings. These will be sure to add an authentic and natural touch to your creation. \n• Crystals: Enhance the magical allure of your witch hat with an assortment of shimmering crystals\, adding an extra touch of sparkle and mystique. \n• All Supplies Provided: We take care of all the materials\, ensuring a hassle-free experience where you can focus solely on your artistic journey. \nEmbrace the spirit of the mystical and dive into a world of creativity with our Witchy Hat Decorating Workshop. Unleash your inner artist\, create memories\, and leave with a stunning masterpiece that will captivate all who see it. Don’t miss this enchanting \nPre-registration is required due to space and supplies. Click here to stay up to date on the Witchy Hat Decorating Workshop via our Facebook event.
URL:https://mindbodyspirithw.com/event/witchy-hat-decorating-workshop/
LOCATION:Mind Body Spirit Classroom\, 1611 Virginia Ave\, Ste 124\, North Bend\, OR\, 97459\, United States
CATEGORIES:Classes and Workshops
ATTACH;FMTTYPE=image/png:https://mindbodyspirithw.com/wp-content/uploads/2024/05/Witchy-Hat-Decorating-event-cover.png
END:VEVENT
END:VCALENDAR