BEGIN:VCALENDAR
VERSION:2.0
PRODID:-//Mind Body Spirit - ECPv6.15.20//NONSGML v1.0//EN
CALSCALE:GREGORIAN
METHOD:PUBLISH
X-ORIGINAL-URL:https://mindbodyspirithw.com
X-WR-CALDESC:Events for Mind Body Spirit
REFRESH-INTERVAL;VALUE=DURATION:PT1H
X-Robots-Tag:noindex
X-PUBLISHED-TTL:PT1H
BEGIN:VTIMEZONE
TZID:America/Los_Angeles
BEGIN:DAYLIGHT
TZOFFSETFROM:-0800
TZOFFSETTO:-0700
TZNAME:PDT
DTSTART:20230312T100000
END:DAYLIGHT
BEGIN:STANDARD
TZOFFSETFROM:-0700
TZOFFSETTO:-0800
TZNAME:PST
DTSTART:20231105T090000
END:STANDARD
BEGIN:DAYLIGHT
TZOFFSETFROM:-0800
TZOFFSETTO:-0700
TZNAME:PDT
DTSTART:20240310T100000
END:DAYLIGHT
BEGIN:STANDARD
TZOFFSETFROM:-0700
TZOFFSETTO:-0800
TZNAME:PST
DTSTART:20241103T090000
END:STANDARD
BEGIN:DAYLIGHT
TZOFFSETFROM:-0800
TZOFFSETTO:-0700
TZNAME:PDT
DTSTART:20250309T100000
END:DAYLIGHT
BEGIN:STANDARD
TZOFFSETFROM:-0700
TZOFFSETTO:-0800
TZNAME:PST
DTSTART:20251102T090000
END:STANDARD
END:VTIMEZONE
BEGIN:VEVENT
DTSTART;TZID=America/Los_Angeles:20241026T130000
DTEND;TZID=America/Los_Angeles:20241026T150000
DTSTAMP:20260423T174000
CREATED:20240719T005536Z
LAST-MODIFIED:20241228T205617Z
UID:10000520-1729947600-1729954800@mindbodyspirithw.com
SUMMARY:Mediumship Development
DESCRIPTION:Are you intuitive\, have dreams that come true?\nCome to our Mediumship Development class to see if you may develop 6th sense abilities. Class is conducted by a natural born Medium.\nEvery other Saturday\, from 1:00pm -3:00pm\, Cost is just $25 per class.\n\nJuly 20th – Natural Law and How it Works/Mental MediumshipAugust 3rd – Spirit Guides/Spirit MeditationAugust 17th – Different Levels of Trance Mediumship/Spirit ImpressionsAugust 31st – Healing/Astral Travel/Aura ReadingsSeptember 14th – Psychometry and Billet ReadingSeptember 28th – Physical MediumshipOctober 12th – Physical Mediumship types continuedOctober 26th –  Tea Leaf Reading and Crystal Gazing\n\nClasses fill quickly so Text Alicia at (541-294-1390 to reserve your space.Or sign up directly with Mind Body Spirit
URL:https://mindbodyspirithw.com/event/mediumship-development/2024-10-26/
LOCATION:Mind Body Spirit Classroom\, 1611 Virginia Ave\, Ste 124\, North Bend\, OR\, 97459\, United States
CATEGORIES:Classes and Workshops
ATTACH;FMTTYPE=image/png:https://mindbodyspirithw.com/wp-content/uploads/2024/07/Mediumship-Development.png
END:VEVENT
BEGIN:VEVENT
DTSTART;TZID=America/Los_Angeles:20241012T130000
DTEND;TZID=America/Los_Angeles:20241012T150000
DTSTAMP:20260423T174000
CREATED:20240719T005536Z
LAST-MODIFIED:20241228T205617Z
UID:10000519-1728738000-1728745200@mindbodyspirithw.com
SUMMARY:Mediumship Development
DESCRIPTION:Are you intuitive\, have dreams that come true?\nCome to our Mediumship Development class to see if you may develop 6th sense abilities. Class is conducted by a natural born Medium.\nEvery other Saturday\, from 1:00pm -3:00pm\, Cost is just $25 per class.\n\nJuly 20th – Natural Law and How it Works/Mental MediumshipAugust 3rd – Spirit Guides/Spirit MeditationAugust 17th – Different Levels of Trance Mediumship/Spirit ImpressionsAugust 31st – Healing/Astral Travel/Aura ReadingsSeptember 14th – Psychometry and Billet ReadingSeptember 28th – Physical MediumshipOctober 12th – Physical Mediumship types continuedOctober 26th –  Tea Leaf Reading and Crystal Gazing\n\nClasses fill quickly so Text Alicia at (541-294-1390 to reserve your space.Or sign up directly with Mind Body Spirit
URL:https://mindbodyspirithw.com/event/mediumship-development/2024-10-12/
LOCATION:Mind Body Spirit Classroom\, 1611 Virginia Ave\, Ste 124\, North Bend\, OR\, 97459\, United States
CATEGORIES:Classes and Workshops
ATTACH;FMTTYPE=image/png:https://mindbodyspirithw.com/wp-content/uploads/2024/07/Mediumship-Development.png
END:VEVENT
BEGIN:VEVENT
DTSTART;TZID=America/Los_Angeles:20240928T130000
DTEND;TZID=America/Los_Angeles:20240928T150000
DTSTAMP:20260423T174000
CREATED:20240719T005536Z
LAST-MODIFIED:20241228T205617Z
UID:10000518-1727528400-1727535600@mindbodyspirithw.com
SUMMARY:Mediumship Development
DESCRIPTION:Are you intuitive\, have dreams that come true?\nCome to our Mediumship Development class to see if you may develop 6th sense abilities. Class is conducted by a natural born Medium.\nEvery other Saturday\, from 1:00pm -3:00pm\, Cost is just $25 per class.\n\nJuly 20th – Natural Law and How it Works/Mental MediumshipAugust 3rd – Spirit Guides/Spirit MeditationAugust 17th – Different Levels of Trance Mediumship/Spirit ImpressionsAugust 31st – Healing/Astral Travel/Aura ReadingsSeptember 14th – Psychometry and Billet ReadingSeptember 28th – Physical MediumshipOctober 12th – Physical Mediumship types continuedOctober 26th –  Tea Leaf Reading and Crystal Gazing\n\nClasses fill quickly so Text Alicia at (541-294-1390 to reserve your space.Or sign up directly with Mind Body Spirit
URL:https://mindbodyspirithw.com/event/mediumship-development/2024-09-28/
LOCATION:Mind Body Spirit Classroom\, 1611 Virginia Ave\, Ste 124\, North Bend\, OR\, 97459\, United States
CATEGORIES:Classes and Workshops
ATTACH;FMTTYPE=image/png:https://mindbodyspirithw.com/wp-content/uploads/2024/07/Mediumship-Development.png
END:VEVENT
BEGIN:VEVENT
DTSTART;TZID=America/Los_Angeles:20240914T130000
DTEND;TZID=America/Los_Angeles:20240914T150000
DTSTAMP:20260423T174000
CREATED:20240719T005536Z
LAST-MODIFIED:20241228T205617Z
UID:10000517-1726318800-1726326000@mindbodyspirithw.com
SUMMARY:Mediumship Development
DESCRIPTION:Are you intuitive\, have dreams that come true?\nCome to our Mediumship Development class to see if you may develop 6th sense abilities. Class is conducted by a natural born Medium.\nEvery other Saturday\, from 1:00pm -3:00pm\, Cost is just $25 per class.\n\nJuly 20th – Natural Law and How it Works/Mental MediumshipAugust 3rd – Spirit Guides/Spirit MeditationAugust 17th – Different Levels of Trance Mediumship/Spirit ImpressionsAugust 31st – Healing/Astral Travel/Aura ReadingsSeptember 14th – Psychometry and Billet ReadingSeptember 28th – Physical MediumshipOctober 12th – Physical Mediumship types continuedOctober 26th –  Tea Leaf Reading and Crystal Gazing\n\nClasses fill quickly so Text Alicia at (541-294-1390 to reserve your space.Or sign up directly with Mind Body Spirit
URL:https://mindbodyspirithw.com/event/mediumship-development/2024-09-14/
LOCATION:Mind Body Spirit Classroom\, 1611 Virginia Ave\, Ste 124\, North Bend\, OR\, 97459\, United States
CATEGORIES:Classes and Workshops
ATTACH;FMTTYPE=image/png:https://mindbodyspirithw.com/wp-content/uploads/2024/07/Mediumship-Development.png
END:VEVENT
BEGIN:VEVENT
DTSTART;TZID=America/Los_Angeles:20240831T130000
DTEND;TZID=America/Los_Angeles:20240831T150000
DTSTAMP:20260423T174000
CREATED:20240719T005536Z
LAST-MODIFIED:20241228T205617Z
UID:10000516-1725109200-1725116400@mindbodyspirithw.com
SUMMARY:Mediumship Development
DESCRIPTION:Are you intuitive\, have dreams that come true?\nCome to our Mediumship Development class to see if you may develop 6th sense abilities. Class is conducted by a natural born Medium.\nEvery other Saturday\, from 1:00pm -3:00pm\, Cost is just $25 per class.\n\nJuly 20th – Natural Law and How it Works/Mental MediumshipAugust 3rd – Spirit Guides/Spirit MeditationAugust 17th – Different Levels of Trance Mediumship/Spirit ImpressionsAugust 31st – Healing/Astral Travel/Aura ReadingsSeptember 14th – Psychometry and Billet ReadingSeptember 28th – Physical MediumshipOctober 12th – Physical Mediumship types continuedOctober 26th –  Tea Leaf Reading and Crystal Gazing\n\nClasses fill quickly so Text Alicia at (541-294-1390 to reserve your space.Or sign up directly with Mind Body Spirit
URL:https://mindbodyspirithw.com/event/mediumship-development/2024-08-31/
LOCATION:Mind Body Spirit Classroom\, 1611 Virginia Ave\, Ste 124\, North Bend\, OR\, 97459\, United States
CATEGORIES:Classes and Workshops
ATTACH;FMTTYPE=image/png:https://mindbodyspirithw.com/wp-content/uploads/2024/07/Mediumship-Development.png
END:VEVENT
BEGIN:VEVENT
DTSTART;TZID=America/Los_Angeles:20240817T130000
DTEND;TZID=America/Los_Angeles:20240817T150000
DTSTAMP:20260423T174000
CREATED:20240719T005536Z
LAST-MODIFIED:20241228T205617Z
UID:10000515-1723899600-1723906800@mindbodyspirithw.com
SUMMARY:Mediumship Development
DESCRIPTION:Are you intuitive\, have dreams that come true?\nCome to our Mediumship Development class to see if you may develop 6th sense abilities. Class is conducted by a natural born Medium.\nEvery other Saturday\, from 1:00pm -3:00pm\, Cost is just $25 per class.\n\nJuly 20th – Natural Law and How it Works/Mental MediumshipAugust 3rd – Spirit Guides/Spirit MeditationAugust 17th – Different Levels of Trance Mediumship/Spirit ImpressionsAugust 31st – Healing/Astral Travel/Aura ReadingsSeptember 14th – Psychometry and Billet ReadingSeptember 28th – Physical MediumshipOctober 12th – Physical Mediumship types continuedOctober 26th –  Tea Leaf Reading and Crystal Gazing\n\nClasses fill quickly so Text Alicia at (541-294-1390 to reserve your space.Or sign up directly with Mind Body Spirit
URL:https://mindbodyspirithw.com/event/mediumship-development/2024-08-17/
LOCATION:Mind Body Spirit Classroom\, 1611 Virginia Ave\, Ste 124\, North Bend\, OR\, 97459\, United States
CATEGORIES:Classes and Workshops
ATTACH;FMTTYPE=image/png:https://mindbodyspirithw.com/wp-content/uploads/2024/07/Mediumship-Development.png
END:VEVENT
BEGIN:VEVENT
DTSTART;TZID=America/Los_Angeles:20240803T130000
DTEND;TZID=America/Los_Angeles:20240803T150000
DTSTAMP:20260423T174000
CREATED:20240719T005536Z
LAST-MODIFIED:20241228T205617Z
UID:10000514-1722690000-1722697200@mindbodyspirithw.com
SUMMARY:Mediumship Development
DESCRIPTION:Are you intuitive\, have dreams that come true?\nCome to our Mediumship Development class to see if you may develop 6th sense abilities. Class is conducted by a natural born Medium.\nEvery other Saturday\, from 1:00pm -3:00pm\, Cost is just $25 per class.\n\nJuly 20th – Natural Law and How it Works/Mental MediumshipAugust 3rd – Spirit Guides/Spirit MeditationAugust 17th – Different Levels of Trance Mediumship/Spirit ImpressionsAugust 31st – Healing/Astral Travel/Aura ReadingsSeptember 14th – Psychometry and Billet ReadingSeptember 28th – Physical MediumshipOctober 12th – Physical Mediumship types continuedOctober 26th –  Tea Leaf Reading and Crystal Gazing\n\nClasses fill quickly so Text Alicia at (541-294-1390 to reserve your space.Or sign up directly with Mind Body Spirit
URL:https://mindbodyspirithw.com/event/mediumship-development/2024-08-03/
LOCATION:Mind Body Spirit Classroom\, 1611 Virginia Ave\, Ste 124\, North Bend\, OR\, 97459\, United States
CATEGORIES:Classes and Workshops
ATTACH;FMTTYPE=image/png:https://mindbodyspirithw.com/wp-content/uploads/2024/07/Mediumship-Development.png
END:VEVENT
BEGIN:VEVENT
DTSTART;TZID=America/Los_Angeles:20240720T130000
DTEND;TZID=America/Los_Angeles:20240720T150000
DTSTAMP:20260423T174000
CREATED:20240719T005536Z
LAST-MODIFIED:20241228T205617Z
UID:10000232-1721480400-1721487600@mindbodyspirithw.com
SUMMARY:Mediumship Development
DESCRIPTION:Are you intuitive\, have dreams that come true?\nCome to our Mediumship Development class to see if you may develop 6th sense abilities. Class is conducted by a natural born Medium.\nEvery other Saturday\, from 1:00pm -3:00pm\, Cost is just $25 per class.\n\nJuly 20th – Natural Law and How it Works/Mental MediumshipAugust 3rd – Spirit Guides/Spirit MeditationAugust 17th – Different Levels of Trance Mediumship/Spirit ImpressionsAugust 31st – Healing/Astral Travel/Aura ReadingsSeptember 14th – Psychometry and Billet ReadingSeptember 28th – Physical MediumshipOctober 12th – Physical Mediumship types continuedOctober 26th –  Tea Leaf Reading and Crystal Gazing\n\nClasses fill quickly so Text Alicia at (541-294-1390 to reserve your space.Or sign up directly with Mind Body Spirit
URL:https://mindbodyspirithw.com/event/mediumship-development/2024-07-20/
LOCATION:Mind Body Spirit Classroom\, 1611 Virginia Ave\, Ste 124\, North Bend\, OR\, 97459\, United States
CATEGORIES:Classes and Workshops
ATTACH;FMTTYPE=image/png:https://mindbodyspirithw.com/wp-content/uploads/2024/07/Mediumship-Development.png
END:VEVENT
END:VCALENDAR