BEGIN:VCALENDAR
VERSION:2.0
PRODID:-//Mind Body Spirit - ECPv6.15.20//NONSGML v1.0//EN
CALSCALE:GREGORIAN
METHOD:PUBLISH
X-WR-CALNAME:Mind Body Spirit
X-ORIGINAL-URL:https://mindbodyspirithw.com
X-WR-CALDESC:Events for Mind Body Spirit
REFRESH-INTERVAL;VALUE=DURATION:PT1H
X-Robots-Tag:noindex
X-PUBLISHED-TTL:PT1H
BEGIN:VTIMEZONE
TZID:America/Los_Angeles
BEGIN:DAYLIGHT
TZOFFSETFROM:-0800
TZOFFSETTO:-0700
TZNAME:PDT
DTSTART:20250309T100000
END:DAYLIGHT
BEGIN:STANDARD
TZOFFSETFROM:-0700
TZOFFSETTO:-0800
TZNAME:PST
DTSTART:20251102T090000
END:STANDARD
BEGIN:DAYLIGHT
TZOFFSETFROM:-0800
TZOFFSETTO:-0700
TZNAME:PDT
DTSTART:20260308T100000
END:DAYLIGHT
BEGIN:STANDARD
TZOFFSETFROM:-0700
TZOFFSETTO:-0800
TZNAME:PST
DTSTART:20261101T090000
END:STANDARD
BEGIN:DAYLIGHT
TZOFFSETFROM:-0800
TZOFFSETTO:-0700
TZNAME:PDT
DTSTART:20270314T100000
END:DAYLIGHT
BEGIN:STANDARD
TZOFFSETFROM:-0700
TZOFFSETTO:-0800
TZNAME:PST
DTSTART:20271107T090000
END:STANDARD
END:VTIMEZONE
BEGIN:VEVENT
DTSTART;TZID=America/Los_Angeles:20260520T180000
DTEND;TZID=America/Los_Angeles:20260520T200000
DTSTAMP:20260423T112548
CREATED:20251201T010226Z
LAST-MODIFIED:20251201T010226Z
UID:10001562-1779300000-1779307200@mindbodyspirithw.com
SUMMARY:The Council of the Cauldron
DESCRIPTION:The Council of the Cauldron\nA Community Conversation Circle \nStep into a warm\, welcoming space where wisdom is shared\, perspectives are honored\, and connections are strengthened. During The Council of the Cauldron\, we gather around in community as a cauldron is passed from hand to hand. Each participant draws a question—ranging from lighthearted ice-breakers to deeper topics in spirituality\, holistic wellness\, energy ethics\, and personal growth. \nTogether\, we explore ideas\, share experiences\, and hold space for meaningful conversation. This gathering is gentle\, inclusive\, and designed to help you connect with others on the mind–body–spirit path. \nWhether you’re new to metaphysical discussions or a seasoned practitioner\, the Council offers a place for reflection\, curiosity\, and community connection. \nAll are welcome. Come as you are\, and add your voice to the circle.
URL:https://mindbodyspirithw.com/event/the-council-of-the-cauldron/2026-05-20/
LOCATION:Mind Body Spirit Classroom\, 1611 Virginia Ave\, Ste 124\, North Bend\, OR\, 97459\, United States
CATEGORIES:Meetup
ATTACH;FMTTYPE=image/png:https://mindbodyspirithw.com/wp-content/uploads/2025/11/The-Council-of-the-Cauldron.png
ORGANIZER;CN="Mind Body Spirit Holistic Wellness":MAILTO:mindbodyspirithw@gmail.com
END:VEVENT
BEGIN:VEVENT
DTSTART;TZID=America/Los_Angeles:20260617T180000
DTEND;TZID=America/Los_Angeles:20260617T200000
DTSTAMP:20260423T112548
CREATED:20251201T010226Z
LAST-MODIFIED:20251201T010226Z
UID:10001563-1781719200-1781726400@mindbodyspirithw.com
SUMMARY:The Council of the Cauldron
DESCRIPTION:The Council of the Cauldron\nA Community Conversation Circle \nStep into a warm\, welcoming space where wisdom is shared\, perspectives are honored\, and connections are strengthened. During The Council of the Cauldron\, we gather around in community as a cauldron is passed from hand to hand. Each participant draws a question—ranging from lighthearted ice-breakers to deeper topics in spirituality\, holistic wellness\, energy ethics\, and personal growth. \nTogether\, we explore ideas\, share experiences\, and hold space for meaningful conversation. This gathering is gentle\, inclusive\, and designed to help you connect with others on the mind–body–spirit path. \nWhether you’re new to metaphysical discussions or a seasoned practitioner\, the Council offers a place for reflection\, curiosity\, and community connection. \nAll are welcome. Come as you are\, and add your voice to the circle.
URL:https://mindbodyspirithw.com/event/the-council-of-the-cauldron/2026-06-17/
LOCATION:Mind Body Spirit Classroom\, 1611 Virginia Ave\, Ste 124\, North Bend\, OR\, 97459\, United States
CATEGORIES:Meetup
ATTACH;FMTTYPE=image/png:https://mindbodyspirithw.com/wp-content/uploads/2025/11/The-Council-of-the-Cauldron.png
ORGANIZER;CN="Mind Body Spirit Holistic Wellness":MAILTO:mindbodyspirithw@gmail.com
END:VEVENT
END:VCALENDAR