BEGIN:VCALENDAR
VERSION:2.0
PRODID:-//Mind Body Spirit - ECPv6.15.20//NONSGML v1.0//EN
CALSCALE:GREGORIAN
METHOD:PUBLISH
X-WR-CALNAME:Mind Body Spirit
X-ORIGINAL-URL:https://mindbodyspirithw.com
X-WR-CALDESC:Events for Mind Body Spirit
REFRESH-INTERVAL;VALUE=DURATION:PT1H
X-Robots-Tag:noindex
X-PUBLISHED-TTL:PT1H
BEGIN:VTIMEZONE
TZID:America/Los_Angeles
BEGIN:DAYLIGHT
TZOFFSETFROM:-0800
TZOFFSETTO:-0700
TZNAME:PDT
DTSTART:20230312T100000
END:DAYLIGHT
BEGIN:STANDARD
TZOFFSETFROM:-0700
TZOFFSETTO:-0800
TZNAME:PST
DTSTART:20231105T090000
END:STANDARD
BEGIN:DAYLIGHT
TZOFFSETFROM:-0800
TZOFFSETTO:-0700
TZNAME:PDT
DTSTART:20240310T100000
END:DAYLIGHT
BEGIN:STANDARD
TZOFFSETFROM:-0700
TZOFFSETTO:-0800
TZNAME:PST
DTSTART:20241103T090000
END:STANDARD
BEGIN:DAYLIGHT
TZOFFSETFROM:-0800
TZOFFSETTO:-0700
TZNAME:PDT
DTSTART:20250309T100000
END:DAYLIGHT
BEGIN:STANDARD
TZOFFSETFROM:-0700
TZOFFSETTO:-0800
TZNAME:PST
DTSTART:20251102T090000
END:STANDARD
END:VTIMEZONE
BEGIN:VEVENT
DTSTART;TZID=America/Los_Angeles:20240406T100000
DTEND;TZID=America/Los_Angeles:20240406T150000
DTSTAMP:20260425T203151
CREATED:20240203T195906Z
LAST-MODIFIED:20240204T013932Z
UID:10000009-1712397600-1712415600@mindbodyspirithw.com
SUMMARY:April Metaphysical Faire
DESCRIPTION:Our April Metaphysical Faire will be our next large event. We will have tarot and oracle readers\, energy workers\, vendors and so much more. Check out more details here!
URL:https://mindbodyspirithw.com/event/april-metaphysical-faire/
LOCATION:Mind Body Spirit\, 1611 Virginia Ave\, Ste 124\, North Bend\, OR\, 97459\, United States
CATEGORIES:Faire
ATTACH;FMTTYPE=image/png:https://mindbodyspirithw.com/wp-content/uploads/2024/02/Metaphysical-Faire-Instagram-Post.png
ORGANIZER;CN="Mind Body Spirit Holistic Wellness":MAILTO:mindbodyspirithw@gmail.com
END:VEVENT
BEGIN:VEVENT
DTSTART;TZID=America/Los_Angeles:20240407T130000
DTEND;TZID=America/Los_Angeles:20240407T140000
DTSTAMP:20260425T203151
CREATED:20240301T012450Z
LAST-MODIFIED:20240301T012641Z
UID:10000024-1712494800-1712498400@mindbodyspirithw.com
SUMMARY:New Moon Ritual - April 2024
DESCRIPTION:Join us as we celebrate the new moon. \nSunset Bay State Park \nWest end of the beach near the stream on your left when facing the ocean. \nSunday closest to the new moon each month at 1 pm \n  \nEvent is subject to change\, please contact event organizer to confirm event details.
URL:https://mindbodyspirithw.com/event/new-moon-ritual-april-2024/
LOCATION:Sunset Bay State Park\, Coos Bay\, OR\, United States
CATEGORIES:Classes and Workshops
ATTACH;FMTTYPE=image/png:https://mindbodyspirithw.com/wp-content/uploads/2024/02/New-Moon-Ritual-1920-x-1080-px-1.png
ORGANIZER;CN="Sheena Snyder":MAILTO:sheenasnyder@yahoo.com
END:VEVENT
BEGIN:VEVENT
DTSTART;TZID=America/Los_Angeles:20240409T180000
DTEND;TZID=America/Los_Angeles:20240409T190000
DTSTAMP:20260425T203151
CREATED:20240322T013246Z
LAST-MODIFIED:20241228T210228Z
UID:10000031-1712685600-1712689200@mindbodyspirithw.com
SUMMARY:Chair Yoga
DESCRIPTION:What is Chair Yoga? \nChair Yoga is a transformative practice that offers the benefits of yoga in a gentle and accessible way. This complimentary class is designed to provide a relaxing experience for individuals of any age. \nKey Features: \n• Gentle and Relaxing: Chair Yoga offers a gentle approach to yoga\, allowing participants to comfortably engage in the practice regardless of fitness level or physical limitations. \n• Improved Flexibility: By incorporating gentle stretches and movements\, Chair Yoga helps to improve flexibility and promote better range of motion. \n• Enhanced Concentration: The mindful nature of Chair Yoga exercises helps to improve focus and concentration\, allowing participants to feel more present and centered. \n• Increased Strength: Despite being seated\, Chair Yoga incorporates poses and exercises that target various muscle groups\, providing a gentle strength-building experience. \nExperience the numerous benefits of Chair Yoga\, from improved flexibility to better concentration and increased strength. Discover a practice that can be enjoyed by individuals of all ages and fitness levels\, and embark on a journey of relaxation and self-discovery. \n\nSo stop in and join us as we offer a complimentary Chair Yoga class that’s open to anyone.
URL:https://mindbodyspirithw.com/event/complimentary-chair-yoga/
LOCATION:Mind Body Spirit Classroom\, 1611 Virginia Ave\, Ste 124\, North Bend\, OR\, 97459\, United States
CATEGORIES:Yoga
ATTACH;FMTTYPE=image/png:https://mindbodyspirithw.com/wp-content/uploads/2024/03/Chair-Yoga-Banner.png
ORGANIZER;CN="Mind Body Spirit Holistic Wellness":MAILTO:mindbodyspirithw@gmail.com
END:VEVENT
BEGIN:VEVENT
DTSTART;TZID=America/Los_Angeles:20240410T180000
DTEND;TZID=America/Los_Angeles:20240410T200000
DTSTAMP:20260425T203152
CREATED:20240329T193323Z
LAST-MODIFIED:20241228T210217Z
UID:10000032-1712772000-1712779200@mindbodyspirithw.com
SUMMARY:Paranormal Investigation 101 - April Class
DESCRIPTION:Discover the captivating world of paranormal investigations with Paranormal Investigation 101. This immersive workshop offers you the opportunity to delve into the realm of the unknown and gain valuable insights into the art of ghost hunting. \nKey Features: \n• Review actual reveal footage: Get a firsthand look at paranormal encounters captured on camera. Analyze and study these recordings to understand the intricacies of unexplained phenomena. \n• Learn about basic investigation tools: Familiarize yourself with the essential equipment used by seasoned investigators. From EMF detectors to EVP recorders\, you’ll gain valuable knowledge about the tools of the trade. \n• Vigil protocol/Do’s and Don’ts: Understand the importance of maintaining a respectful and safe environment during paranormal investigations. Learn the protocols\, do’s\, and don’ts to ensure a responsible approach to the supernatural. \n• Workshop 102 available: Upon completing Paranormal Investigation 1010\, you’ll have the opportunity to further enhance your skills and knowledge with Workshop 102. \nUnlock the mysteries lurking in the shadows with Paranormal Investigation 1010. This exclusive workshop is priced at $35 and spaces are limited\, so be sure to reserve your spot today. Unleash your inner investigator and embark on a journey that will leave you spellbound.
URL:https://mindbodyspirithw.com/event/paranormal-investigation-101-april-class/
LOCATION:Mind Body Spirit Classroom\, 1611 Virginia Ave\, Ste 124\, North Bend\, OR\, 97459\, United States
CATEGORIES:Classes and Workshops
ATTACH;FMTTYPE=image/png:https://mindbodyspirithw.com/wp-content/uploads/2024/03/Paranormal-Investigation-2.png
END:VEVENT
BEGIN:VEVENT
DTSTART;TZID=America/Los_Angeles:20240427T130000
DTEND;TZID=America/Los_Angeles:20240427T150000
DTSTAMP:20260425T203152
CREATED:20240424T181944Z
LAST-MODIFIED:20241228T210820Z
UID:10000033-1714222800-1714230000@mindbodyspirithw.com
SUMMARY:Energy Bead Bracelet Workshop - Sold Out
DESCRIPTION:Introducing our Energy Bracelet Workshop\, a perfect blend of creativity and positive energy. This workshop offers a unique opportunity to craft your very own bracelet using exquisite gemstone beads. With our supplies provided\, you can unleash your creativity and design a bracelet that reflects your personal style and energy. Each bead chosen carries its own unique properties\, allowing you to create a bracelet that promotes harmony\, balance\, and well-being. \nKey features of our Energy Bracelet Workshop include: \n• Gemstone Beads: We offer a variety of gemstone beads\, each carefully selected for their unique energy properties. From vibrant amethyst to soothing rose quartz\, you’ll find the perfect gemstone to enhance your bracelet’s energy. \n• Make Your Own Bracelet: This workshop is a hands-on experience where you get to design and create your very own bracelet from start to finish. Our knowledgeable instructors will guide you through the process\, ensuring that your bracelet represents your intentions and personal style. \n• Supplies Provided: We provide all the necessary supplies. You won’t need to worry about sourcing materials – everything you need will be readily available\, allowing you to fully immerse yourself in the creative process. \nExperience the joy of crafting a personalized energy bracelet that not only looks beautiful but also carries positive vibrations. Join our Energy Bracelet Workshop today and discover the power of self-expression while harnessing the energy of gemstones.
URL:https://mindbodyspirithw.com/event/energy-bead-bracelet-workshop-sold-out/
LOCATION:Mind Body Spirit Classroom\, 1611 Virginia Ave\, Ste 124\, North Bend\, OR\, 97459\, United States
CATEGORIES:Classes and Workshops
ATTACH;FMTTYPE=image/png:https://mindbodyspirithw.com/wp-content/uploads/2024/04/Energy-Bracelet-event-cover-2.png
ORGANIZER;CN="Mind Body Spirit Holistic Wellness":MAILTO:mindbodyspirithw@gmail.com
END:VEVENT
BEGIN:VEVENT
DTSTART;TZID=America/Los_Angeles:20240428T130000
DTEND;TZID=America/Los_Angeles:20240428T160000
DTSTAMP:20260425T203152
CREATED:20240424T190424Z
LAST-MODIFIED:20241228T210827Z
UID:10000034-1714309200-1714320000@mindbodyspirithw.com
SUMMARY:Tarot Class
DESCRIPTION:Discover the mystical world of Tarot with Tarot 101. This comprehensive guide is designed to help you unlock the secrets of the major and minor arcana\, providing you with valuable insights and card cues to remember the deep meaning behind each card. Whether you’re a beginner or an experienced practitioner\, Tarot 101 is your gateway to developing a profound understanding of this ancient divination tool.\n\nKey features of Tarot 101 include:\n• In-depth exploration of the major arcana\, illuminating the symbolism and significance of each card.\n• Detailed analysis of the minor arcana\, offering a comprehensive understanding of the four suits and their corresponding elements.\n• Practical card cues and mnemonic techniques to aid in remembering the interpretations and messages conveyed by each card.\n\nUnlock the power of Tarot with Tarot 101\, your trusted companion on your spiritual journey. Delve into the captivating world of divination\, gain profound insights\, and connect with your intuition like never before. Whether you’re seeking guidance\, personal growth\, or simply a deeper understanding of the Tarot\, Tarot 101 is the ultimate resource to help you unlock the wisdom within the cards and embark on a transformative experience.
URL:https://mindbodyspirithw.com/event/tarot-class/
LOCATION:Mind Body Spirit Classroom\, 1611 Virginia Ave\, Ste 124\, North Bend\, OR\, 97459\, United States
CATEGORIES:Classes and Workshops
ATTACH;FMTTYPE=image/png:https://mindbodyspirithw.com/wp-content/uploads/2024/04/Tarot-101.png
END:VEVENT
END:VCALENDAR