BEGIN:VCALENDAR
VERSION:2.0
PRODID:-//Mind Body Spirit - ECPv6.15.20//NONSGML v1.0//EN
CALSCALE:GREGORIAN
METHOD:PUBLISH
X-WR-CALNAME:Mind Body Spirit
X-ORIGINAL-URL:https://mindbodyspirithw.com
X-WR-CALDESC:Events for Mind Body Spirit
REFRESH-INTERVAL;VALUE=DURATION:PT1H
X-Robots-Tag:noindex
X-PUBLISHED-TTL:PT1H
BEGIN:VTIMEZONE
TZID:America/Los_Angeles
BEGIN:DAYLIGHT
TZOFFSETFROM:-0800
TZOFFSETTO:-0700
TZNAME:PDT
DTSTART:20240310T100000
END:DAYLIGHT
BEGIN:STANDARD
TZOFFSETFROM:-0700
TZOFFSETTO:-0800
TZNAME:PST
DTSTART:20241103T090000
END:STANDARD
BEGIN:DAYLIGHT
TZOFFSETFROM:-0800
TZOFFSETTO:-0700
TZNAME:PDT
DTSTART:20250309T100000
END:DAYLIGHT
BEGIN:STANDARD
TZOFFSETFROM:-0700
TZOFFSETTO:-0800
TZNAME:PST
DTSTART:20251102T090000
END:STANDARD
BEGIN:DAYLIGHT
TZOFFSETFROM:-0800
TZOFFSETTO:-0700
TZNAME:PDT
DTSTART:20260308T100000
END:DAYLIGHT
BEGIN:STANDARD
TZOFFSETFROM:-0700
TZOFFSETTO:-0800
TZNAME:PST
DTSTART:20261101T090000
END:STANDARD
END:VTIMEZONE
BEGIN:VEVENT
DTSTART;TZID=America/Los_Angeles:20250329T140000
DTEND;TZID=America/Los_Angeles:20250329T160000
DTSTAMP:20260425T075514
CREATED:20241030T225942Z
LAST-MODIFIED:20250319T221407Z
UID:10001322-1743256800-1743264000@mindbodyspirithw.com
SUMMARY:Tarot Readings
DESCRIPTION:Unlock the Mysteries of Your Future with Tarot Reading \nStep into the enchanting world of tarot and discover the hidden truths that await you. Join us for an insightful and transformative tarot reading session with our experienced and intuitive tarot reader. \nEvent Highlights: \n\nPersonalized Readings: Receive a one-on-one tarot reading tailored to your unique energy and questions.\nGuidance and Clarity: Gain valuable insights and guidance on various aspects of your life\, including love\, career\, and personal growth.\nInteractive Experience: Engage in a dynamic and interactive session where you can ask questions and explore different tarot spreads.\nHolistic Approach: Our tarot reader incorporates a holistic perspective\, blending intuition with deep knowledge of tarot symbolism.\n\nWhy Attend: \n\nEmpowerment: Take control of your destiny by understanding the influences and energies at play in your life.\nSelf-Discovery: Uncover hidden aspects of yourself and gain a deeper understanding of your inner world.\nSpiritual Connection: Connect with your higher self and the spiritual realm through the ancient wisdom of tarot.\n\n\n\n\nJoin us for a magical journey into the world of tarot and unlock the secrets that lie within. Whether you seek answers\, guidance\, or a deeper connection to your spiritual path\, our tarot reading event is the perfect opportunity to explore the mysteries of your future. \n\n#MindBodySpirit #HolisticWellness #Divination
URL:https://mindbodyspirithw.com/event/tarot-readings/2025-03-29/
LOCATION:Mind Body Spirit Classroom\, 1611 Virginia Ave\, Ste 124\, North Bend\, OR\, 97459\, United States
CATEGORIES:Readings
ATTACH;FMTTYPE=image/jpeg:https://mindbodyspirithw.com/wp-content/uploads/2024/10/Readings.jpg
ORGANIZER;CN="Mind Body Spirit Holistic Wellness":MAILTO:mindbodyspirithw@gmail.com
END:VEVENT
BEGIN:VEVENT
DTSTART;TZID=America/Los_Angeles:20250426T140000
DTEND;TZID=America/Los_Angeles:20250426T160000
DTSTAMP:20260425T075514
CREATED:20241030T225942Z
LAST-MODIFIED:20250319T221407Z
UID:10001323-1745676000-1745683200@mindbodyspirithw.com
SUMMARY:Tarot Readings
DESCRIPTION:Unlock the Mysteries of Your Future with Tarot Reading \nStep into the enchanting world of tarot and discover the hidden truths that await you. Join us for an insightful and transformative tarot reading session with our experienced and intuitive tarot reader. \nEvent Highlights: \n\nPersonalized Readings: Receive a one-on-one tarot reading tailored to your unique energy and questions.\nGuidance and Clarity: Gain valuable insights and guidance on various aspects of your life\, including love\, career\, and personal growth.\nInteractive Experience: Engage in a dynamic and interactive session where you can ask questions and explore different tarot spreads.\nHolistic Approach: Our tarot reader incorporates a holistic perspective\, blending intuition with deep knowledge of tarot symbolism.\n\nWhy Attend: \n\nEmpowerment: Take control of your destiny by understanding the influences and energies at play in your life.\nSelf-Discovery: Uncover hidden aspects of yourself and gain a deeper understanding of your inner world.\nSpiritual Connection: Connect with your higher self and the spiritual realm through the ancient wisdom of tarot.\n\n\n\n\nJoin us for a magical journey into the world of tarot and unlock the secrets that lie within. Whether you seek answers\, guidance\, or a deeper connection to your spiritual path\, our tarot reading event is the perfect opportunity to explore the mysteries of your future. \n\n#MindBodySpirit #HolisticWellness #Divination
URL:https://mindbodyspirithw.com/event/tarot-readings/2025-04-26/
LOCATION:Mind Body Spirit Classroom\, 1611 Virginia Ave\, Ste 124\, North Bend\, OR\, 97459\, United States
CATEGORIES:Readings
ATTACH;FMTTYPE=image/jpeg:https://mindbodyspirithw.com/wp-content/uploads/2024/10/Readings.jpg
ORGANIZER;CN="Mind Body Spirit Holistic Wellness":MAILTO:mindbodyspirithw@gmail.com
END:VEVENT
END:VCALENDAR