BEGIN:VCALENDAR
VERSION:2.0
PRODID:-//Mind Body Spirit - ECPv6.15.20//NONSGML v1.0//EN
CALSCALE:GREGORIAN
METHOD:PUBLISH
X-WR-CALNAME:Mind Body Spirit
X-ORIGINAL-URL:https://mindbodyspirithw.com
X-WR-CALDESC:Events for Mind Body Spirit
REFRESH-INTERVAL;VALUE=DURATION:PT1H
X-Robots-Tag:noindex
X-PUBLISHED-TTL:PT1H
BEGIN:VTIMEZONE
TZID:America/Los_Angeles
BEGIN:DAYLIGHT
TZOFFSETFROM:-0800
TZOFFSETTO:-0700
TZNAME:PDT
DTSTART:20240310T100000
END:DAYLIGHT
BEGIN:STANDARD
TZOFFSETFROM:-0700
TZOFFSETTO:-0800
TZNAME:PST
DTSTART:20241103T090000
END:STANDARD
BEGIN:DAYLIGHT
TZOFFSETFROM:-0800
TZOFFSETTO:-0700
TZNAME:PDT
DTSTART:20250309T100000
END:DAYLIGHT
BEGIN:STANDARD
TZOFFSETFROM:-0700
TZOFFSETTO:-0800
TZNAME:PST
DTSTART:20251102T090000
END:STANDARD
BEGIN:DAYLIGHT
TZOFFSETFROM:-0800
TZOFFSETTO:-0700
TZNAME:PDT
DTSTART:20260308T100000
END:DAYLIGHT
BEGIN:STANDARD
TZOFFSETFROM:-0700
TZOFFSETTO:-0800
TZNAME:PST
DTSTART:20261101T090000
END:STANDARD
BEGIN:DAYLIGHT
TZOFFSETFROM:-0800
TZOFFSETTO:-0700
TZNAME:PDT
DTSTART:20270314T100000
END:DAYLIGHT
BEGIN:STANDARD
TZOFFSETFROM:-0700
TZOFFSETTO:-0800
TZNAME:PST
DTSTART:20271107T090000
END:STANDARD
END:VTIMEZONE
BEGIN:VEVENT
DTSTART;TZID=America/Los_Angeles:20251015T180000
DTEND;TZID=America/Los_Angeles:20251015T200000
DTSTAMP:20260425T080140
CREATED:20250319T212040Z
LAST-MODIFIED:20250320T004723Z
UID:10001253-1760551200-1760558400@mindbodyspirithw.com
SUMMARY:Round Table
DESCRIPTION:Join Us for a Monthly Round Table Discussion! \n📅 When: The 3rd Wednesday of every month at 6:00 PM📍 Where: Mind Body Spirit Holistic Wellness🧙‍♀️ What: A guided discussion on metaphysical and holistic topics—chosen by YOU! \nEach month\, we gather to explore thought-provoking topics submitted by our community. Drop your suggestions into our in-store cauldron\, and we’ll draw a topic at random for the evening’s discussion. Whether you’re new to holistic practices or a seasoned practitioner\, this is a space for open dialogue\, shared wisdom\, and deeper exploration. \n✨ No RSVP required—just bring your curiosity and an open mind! \n#MindBodySpirit #HolisticWellness #MetaphysicalRoundTable #CommunityDiscussion
URL:https://mindbodyspirithw.com/event/round-table/2025-10-15/
LOCATION:Mind Body Spirit Classroom\, 1611 Virginia Ave\, Ste 124\, North Bend\, OR\, 97459\, United States
CATEGORIES:Meetup
ATTACH;FMTTYPE=image/png:https://mindbodyspirithw.com/wp-content/uploads/2025/03/Round-Table-Facebook-Cover.png
ORGANIZER;CN="Mind Body Spirit Holistic Wellness":MAILTO:mindbodyspirithw@gmail.com
END:VEVENT
BEGIN:VEVENT
DTSTART;TZID=America/Los_Angeles:20251119T180000
DTEND;TZID=America/Los_Angeles:20251119T200000
DTSTAMP:20260425T080140
CREATED:20250319T212040Z
LAST-MODIFIED:20250320T004723Z
UID:10001254-1763575200-1763582400@mindbodyspirithw.com
SUMMARY:Round Table
DESCRIPTION:Join Us for a Monthly Round Table Discussion! \n📅 When: The 3rd Wednesday of every month at 6:00 PM📍 Where: Mind Body Spirit Holistic Wellness🧙‍♀️ What: A guided discussion on metaphysical and holistic topics—chosen by YOU! \nEach month\, we gather to explore thought-provoking topics submitted by our community. Drop your suggestions into our in-store cauldron\, and we’ll draw a topic at random for the evening’s discussion. Whether you’re new to holistic practices or a seasoned practitioner\, this is a space for open dialogue\, shared wisdom\, and deeper exploration. \n✨ No RSVP required—just bring your curiosity and an open mind! \n#MindBodySpirit #HolisticWellness #MetaphysicalRoundTable #CommunityDiscussion
URL:https://mindbodyspirithw.com/event/round-table/2025-11-19/
LOCATION:Mind Body Spirit Classroom\, 1611 Virginia Ave\, Ste 124\, North Bend\, OR\, 97459\, United States
CATEGORIES:Meetup
ATTACH;FMTTYPE=image/png:https://mindbodyspirithw.com/wp-content/uploads/2025/03/Round-Table-Facebook-Cover.png
ORGANIZER;CN="Mind Body Spirit Holistic Wellness":MAILTO:mindbodyspirithw@gmail.com
END:VEVENT
BEGIN:VEVENT
DTSTART;TZID=America/Los_Angeles:20251212T180000
DTEND;TZID=America/Los_Angeles:20251212T200000
DTSTAMP:20260425T080140
CREATED:20251201T003904Z
LAST-MODIFIED:20251201T003904Z
UID:10001545-1765562400-1765569600@mindbodyspirithw.com
SUMMARY:Crow Party Community Gathering
DESCRIPTION:🖤 Crow Party! A Community Gathering 🖤 \nEmbrace the mystery and magic at Mind Body Spirit Holistic Wellness’s Crow Party Community Gathering! Come dressed in black and bring an ornament for our December Exchange. \nIn December\, we will be accepting donations for local charities and organizations. Bring your favorite snacks or drinks to share. It’s a perfect opportunity to meet like-minded individuals and enjoy a night of magical exchanges! \nWe look forward to seeing you at our next Crow Party Community Gathering! \n 
URL:https://mindbodyspirithw.com/event/crow-party-ornament-exchange/
LOCATION:Mind Body Spirit Classroom\, 1611 Virginia Ave\, Ste 124\, North Bend\, OR\, 97459\, United States
CATEGORIES:Classes and Workshops,Meetup
ATTACH;FMTTYPE=image/png:https://mindbodyspirithw.com/wp-content/uploads/2025/11/Crow-Party-December-1.png
ORGANIZER;CN="Mind Body Spirit Holistic Wellness":MAILTO:mindbodyspirithw@gmail.com
END:VEVENT
BEGIN:VEVENT
DTSTART;TZID=America/Los_Angeles:20251217T180000
DTEND;TZID=America/Los_Angeles:20251217T200000
DTSTAMP:20260425T080140
CREATED:20251201T004242Z
LAST-MODIFIED:20251201T004242Z
UID:10001255-1765994400-1766001600@mindbodyspirithw.com
SUMMARY:Round Table - Cancelled for December
DESCRIPTION:Join Us for a Monthly Round Table Discussion! \n📅 When: The 3rd Wednesday of every month at 6:00 PM📍 Where: Mind Body Spirit Holistic Wellness🧙‍♀️ What: A guided discussion on metaphysical and holistic topics—chosen by YOU! \nEach month\, we gather to explore thought-provoking topics submitted by our community. Drop your suggestions into our in-store cauldron\, and we’ll draw a topic at random for the evening’s discussion. Whether you’re new to holistic practices or a seasoned practitioner\, this is a space for open dialogue\, shared wisdom\, and deeper exploration. \n✨ No RSVP required—just bring your curiosity and an open mind! \n#MindBodySpirit #HolisticWellness #MetaphysicalRoundTable #CommunityDiscussion
URL:https://mindbodyspirithw.com/event/round-table-2/2025-12-17/
LOCATION:Mind Body Spirit Classroom\, 1611 Virginia Ave\, Ste 124\, North Bend\, OR\, 97459\, United States
CATEGORIES:Meetup
ATTACH;FMTTYPE=image/png:https://mindbodyspirithw.com/wp-content/uploads/2025/03/Round-Table-Facebook-Cover.png
ORGANIZER;CN="Mind Body Spirit Holistic Wellness":MAILTO:mindbodyspirithw@gmail.com
END:VEVENT
BEGIN:VEVENT
DTSTART;TZID=America/Los_Angeles:20260121T180000
DTEND;TZID=America/Los_Angeles:20260121T200000
DTSTAMP:20260425T080140
CREATED:20251201T010226Z
LAST-MODIFIED:20251201T010226Z
UID:10001558-1769018400-1769025600@mindbodyspirithw.com
SUMMARY:The Council of the Cauldron
DESCRIPTION:The Council of the Cauldron\nA Community Conversation Circle \nStep into a warm\, welcoming space where wisdom is shared\, perspectives are honored\, and connections are strengthened. During The Council of the Cauldron\, we gather around in community as a cauldron is passed from hand to hand. Each participant draws a question—ranging from lighthearted ice-breakers to deeper topics in spirituality\, holistic wellness\, energy ethics\, and personal growth. \nTogether\, we explore ideas\, share experiences\, and hold space for meaningful conversation. This gathering is gentle\, inclusive\, and designed to help you connect with others on the mind–body–spirit path. \nWhether you’re new to metaphysical discussions or a seasoned practitioner\, the Council offers a place for reflection\, curiosity\, and community connection. \nAll are welcome. Come as you are\, and add your voice to the circle.
URL:https://mindbodyspirithw.com/event/the-council-of-the-cauldron/2026-01-21/
LOCATION:Mind Body Spirit Classroom\, 1611 Virginia Ave\, Ste 124\, North Bend\, OR\, 97459\, United States
CATEGORIES:Meetup
ATTACH;FMTTYPE=image/png:https://mindbodyspirithw.com/wp-content/uploads/2025/11/The-Council-of-the-Cauldron.png
ORGANIZER;CN="Mind Body Spirit Holistic Wellness":MAILTO:mindbodyspirithw@gmail.com
END:VEVENT
BEGIN:VEVENT
DTSTART;TZID=America/Los_Angeles:20260218T180000
DTEND;TZID=America/Los_Angeles:20260218T200000
DTSTAMP:20260425T080140
CREATED:20251201T010226Z
LAST-MODIFIED:20251201T010226Z
UID:10001559-1771437600-1771444800@mindbodyspirithw.com
SUMMARY:The Council of the Cauldron
DESCRIPTION:The Council of the Cauldron\nA Community Conversation Circle \nStep into a warm\, welcoming space where wisdom is shared\, perspectives are honored\, and connections are strengthened. During The Council of the Cauldron\, we gather around in community as a cauldron is passed from hand to hand. Each participant draws a question—ranging from lighthearted ice-breakers to deeper topics in spirituality\, holistic wellness\, energy ethics\, and personal growth. \nTogether\, we explore ideas\, share experiences\, and hold space for meaningful conversation. This gathering is gentle\, inclusive\, and designed to help you connect with others on the mind–body–spirit path. \nWhether you’re new to metaphysical discussions or a seasoned practitioner\, the Council offers a place for reflection\, curiosity\, and community connection. \nAll are welcome. Come as you are\, and add your voice to the circle.
URL:https://mindbodyspirithw.com/event/the-council-of-the-cauldron/2026-02-18/
LOCATION:Mind Body Spirit Classroom\, 1611 Virginia Ave\, Ste 124\, North Bend\, OR\, 97459\, United States
CATEGORIES:Meetup
ATTACH;FMTTYPE=image/png:https://mindbodyspirithw.com/wp-content/uploads/2025/11/The-Council-of-the-Cauldron.png
ORGANIZER;CN="Mind Body Spirit Holistic Wellness":MAILTO:mindbodyspirithw@gmail.com
END:VEVENT
BEGIN:VEVENT
DTSTART;TZID=America/Los_Angeles:20260318T180000
DTEND;TZID=America/Los_Angeles:20260318T200000
DTSTAMP:20260425T080140
CREATED:20251201T010226Z
LAST-MODIFIED:20251201T010226Z
UID:10001560-1773856800-1773864000@mindbodyspirithw.com
SUMMARY:The Council of the Cauldron
DESCRIPTION:The Council of the Cauldron\nA Community Conversation Circle \nStep into a warm\, welcoming space where wisdom is shared\, perspectives are honored\, and connections are strengthened. During The Council of the Cauldron\, we gather around in community as a cauldron is passed from hand to hand. Each participant draws a question—ranging from lighthearted ice-breakers to deeper topics in spirituality\, holistic wellness\, energy ethics\, and personal growth. \nTogether\, we explore ideas\, share experiences\, and hold space for meaningful conversation. This gathering is gentle\, inclusive\, and designed to help you connect with others on the mind–body–spirit path. \nWhether you’re new to metaphysical discussions or a seasoned practitioner\, the Council offers a place for reflection\, curiosity\, and community connection. \nAll are welcome. Come as you are\, and add your voice to the circle.
URL:https://mindbodyspirithw.com/event/the-council-of-the-cauldron/2026-03-18/
LOCATION:Mind Body Spirit Classroom\, 1611 Virginia Ave\, Ste 124\, North Bend\, OR\, 97459\, United States
CATEGORIES:Meetup
ATTACH;FMTTYPE=image/png:https://mindbodyspirithw.com/wp-content/uploads/2025/11/The-Council-of-the-Cauldron.png
ORGANIZER;CN="Mind Body Spirit Holistic Wellness":MAILTO:mindbodyspirithw@gmail.com
END:VEVENT
BEGIN:VEVENT
DTSTART;TZID=America/Los_Angeles:20260415T180000
DTEND;TZID=America/Los_Angeles:20260415T200000
DTSTAMP:20260425T080140
CREATED:20251201T010226Z
LAST-MODIFIED:20251201T010226Z
UID:10001561-1776276000-1776283200@mindbodyspirithw.com
SUMMARY:The Council of the Cauldron
DESCRIPTION:The Council of the Cauldron\nA Community Conversation Circle \nStep into a warm\, welcoming space where wisdom is shared\, perspectives are honored\, and connections are strengthened. During The Council of the Cauldron\, we gather around in community as a cauldron is passed from hand to hand. Each participant draws a question—ranging from lighthearted ice-breakers to deeper topics in spirituality\, holistic wellness\, energy ethics\, and personal growth. \nTogether\, we explore ideas\, share experiences\, and hold space for meaningful conversation. This gathering is gentle\, inclusive\, and designed to help you connect with others on the mind–body–spirit path. \nWhether you’re new to metaphysical discussions or a seasoned practitioner\, the Council offers a place for reflection\, curiosity\, and community connection. \nAll are welcome. Come as you are\, and add your voice to the circle.
URL:https://mindbodyspirithw.com/event/the-council-of-the-cauldron/2026-04-15/
LOCATION:Mind Body Spirit Classroom\, 1611 Virginia Ave\, Ste 124\, North Bend\, OR\, 97459\, United States
CATEGORIES:Meetup
ATTACH;FMTTYPE=image/png:https://mindbodyspirithw.com/wp-content/uploads/2025/11/The-Council-of-the-Cauldron.png
ORGANIZER;CN="Mind Body Spirit Holistic Wellness":MAILTO:mindbodyspirithw@gmail.com
END:VEVENT
BEGIN:VEVENT
DTSTART;TZID=America/Los_Angeles:20260520T180000
DTEND;TZID=America/Los_Angeles:20260520T200000
DTSTAMP:20260425T080140
CREATED:20251201T010226Z
LAST-MODIFIED:20251201T010226Z
UID:10001562-1779300000-1779307200@mindbodyspirithw.com
SUMMARY:The Council of the Cauldron
DESCRIPTION:The Council of the Cauldron\nA Community Conversation Circle \nStep into a warm\, welcoming space where wisdom is shared\, perspectives are honored\, and connections are strengthened. During The Council of the Cauldron\, we gather around in community as a cauldron is passed from hand to hand. Each participant draws a question—ranging from lighthearted ice-breakers to deeper topics in spirituality\, holistic wellness\, energy ethics\, and personal growth. \nTogether\, we explore ideas\, share experiences\, and hold space for meaningful conversation. This gathering is gentle\, inclusive\, and designed to help you connect with others on the mind–body–spirit path. \nWhether you’re new to metaphysical discussions or a seasoned practitioner\, the Council offers a place for reflection\, curiosity\, and community connection. \nAll are welcome. Come as you are\, and add your voice to the circle.
URL:https://mindbodyspirithw.com/event/the-council-of-the-cauldron/2026-05-20/
LOCATION:Mind Body Spirit Classroom\, 1611 Virginia Ave\, Ste 124\, North Bend\, OR\, 97459\, United States
CATEGORIES:Meetup
ATTACH;FMTTYPE=image/png:https://mindbodyspirithw.com/wp-content/uploads/2025/11/The-Council-of-the-Cauldron.png
ORGANIZER;CN="Mind Body Spirit Holistic Wellness":MAILTO:mindbodyspirithw@gmail.com
END:VEVENT
BEGIN:VEVENT
DTSTART;TZID=America/Los_Angeles:20260617T180000
DTEND;TZID=America/Los_Angeles:20260617T200000
DTSTAMP:20260425T080140
CREATED:20251201T010226Z
LAST-MODIFIED:20251201T010226Z
UID:10001563-1781719200-1781726400@mindbodyspirithw.com
SUMMARY:The Council of the Cauldron
DESCRIPTION:The Council of the Cauldron\nA Community Conversation Circle \nStep into a warm\, welcoming space where wisdom is shared\, perspectives are honored\, and connections are strengthened. During The Council of the Cauldron\, we gather around in community as a cauldron is passed from hand to hand. Each participant draws a question—ranging from lighthearted ice-breakers to deeper topics in spirituality\, holistic wellness\, energy ethics\, and personal growth. \nTogether\, we explore ideas\, share experiences\, and hold space for meaningful conversation. This gathering is gentle\, inclusive\, and designed to help you connect with others on the mind–body–spirit path. \nWhether you’re new to metaphysical discussions or a seasoned practitioner\, the Council offers a place for reflection\, curiosity\, and community connection. \nAll are welcome. Come as you are\, and add your voice to the circle.
URL:https://mindbodyspirithw.com/event/the-council-of-the-cauldron/2026-06-17/
LOCATION:Mind Body Spirit Classroom\, 1611 Virginia Ave\, Ste 124\, North Bend\, OR\, 97459\, United States
CATEGORIES:Meetup
ATTACH;FMTTYPE=image/png:https://mindbodyspirithw.com/wp-content/uploads/2025/11/The-Council-of-the-Cauldron.png
ORGANIZER;CN="Mind Body Spirit Holistic Wellness":MAILTO:mindbodyspirithw@gmail.com
END:VEVENT
END:VCALENDAR