BEGIN:VCALENDAR
VERSION:2.0
PRODID:-//Mind Body Spirit - ECPv6.15.20//NONSGML v1.0//EN
CALSCALE:GREGORIAN
METHOD:PUBLISH
X-WR-CALNAME:Mind Body Spirit
X-ORIGINAL-URL:https://mindbodyspirithw.com
X-WR-CALDESC:Events for Mind Body Spirit
REFRESH-INTERVAL;VALUE=DURATION:PT1H
X-Robots-Tag:noindex
X-PUBLISHED-TTL:PT1H
BEGIN:VTIMEZONE
TZID:America/Los_Angeles
BEGIN:DAYLIGHT
TZOFFSETFROM:-0800
TZOFFSETTO:-0700
TZNAME:PDT
DTSTART:20230312T100000
END:DAYLIGHT
BEGIN:STANDARD
TZOFFSETFROM:-0700
TZOFFSETTO:-0800
TZNAME:PST
DTSTART:20231105T090000
END:STANDARD
BEGIN:DAYLIGHT
TZOFFSETFROM:-0800
TZOFFSETTO:-0700
TZNAME:PDT
DTSTART:20240310T100000
END:DAYLIGHT
BEGIN:STANDARD
TZOFFSETFROM:-0700
TZOFFSETTO:-0800
TZNAME:PST
DTSTART:20241103T090000
END:STANDARD
BEGIN:DAYLIGHT
TZOFFSETFROM:-0800
TZOFFSETTO:-0700
TZNAME:PDT
DTSTART:20250309T100000
END:DAYLIGHT
BEGIN:STANDARD
TZOFFSETFROM:-0700
TZOFFSETTO:-0800
TZNAME:PST
DTSTART:20251102T090000
END:STANDARD
BEGIN:DAYLIGHT
TZOFFSETFROM:-0800
TZOFFSETTO:-0700
TZNAME:PDT
DTSTART:20260308T100000
END:DAYLIGHT
BEGIN:STANDARD
TZOFFSETFROM:-0700
TZOFFSETTO:-0800
TZNAME:PST
DTSTART:20261101T090000
END:STANDARD
END:VTIMEZONE
BEGIN:VEVENT
DTSTART;TZID=America/Los_Angeles:20250316T130000
DTEND;TZID=America/Los_Angeles:20250316T140000
DTSTAMP:20260423T162525
CREATED:20250107T041749Z
LAST-MODIFIED:20250107T041749Z
UID:10001232-1742130000-1742133600@mindbodyspirithw.com
SUMMARY:Full Moon Ritual
DESCRIPTION:🌕 Monthly Full Moon Ritual 🌕\nJoin us each month to honor the energy of the full moon with a guided ritual. Connect with your intentions\, release what no longer serves you\, and embrace the power of lunar energy. Each gathering includes meditation\, energy clearing\, and community sharing. \nCome as you are and bring an open heart. 🌙 \nDuring the winter\, ritual will be held at Mind Body Spirit. All other months will be held at Sunset Bay.
URL:https://mindbodyspirithw.com/event/full-moon-ritual-3/
LOCATION:Mind Body Spirit Classroom\, 1611 Virginia Ave\, Ste 124\, North Bend\, OR\, 97459\, United States
CATEGORIES:Meetup
ORGANIZER;CN="Mind Body Spirit Holistic Wellness":MAILTO:mindbodyspirithw@gmail.com
END:VEVENT
BEGIN:VEVENT
DTSTART;TZID=America/Los_Angeles:20250221T180000
DTEND;TZID=America/Los_Angeles:20250221T200000
DTSTAMP:20260423T162525
CREATED:20240725T232223Z
LAST-MODIFIED:20240821T175837Z
UID:10000528-1740160800-1740168000@mindbodyspirithw.com
SUMMARY:Crow Party
DESCRIPTION:🖤✨ Join Our Monthly Crow Party! ✨🖤 \nEmbrace the mystery and magic at Mind Body Spirit Holistic Wellness’ Crow Party! Come dressed in black and trade trinkets with fellow enthusiasts. We meet on the third Friday of each month at 6pm for a night of fun\, connection\, and creativity. \nEach month\, trinkets are themed and open to your unique interpretation. Bring your favorite items to trade\, share a treat\, or make a donation. It’s a perfect opportunity to meet like-minded individuals and enjoy a night of magical exchanges! \nWe look forward to seeing you at our next Crow Party! \n2024 Themes – \n\nAugust – Parts\nSeptember – Fall/Autumn\nOctober – Samhain/Halloween\nNovember – Thanks\nDecember – Yule/Christmas Ornament exchange to celebrate the season\n\n#MindBodySpirit #HolisticWellness #CrowParty #TrinketTrade #CommunityEvent #MysticalGathering #nationalwellnessmonth
URL:https://mindbodyspirithw.com/event/crow-party/2025-02-21/
LOCATION:Mind Body Spirit Classroom\, 1611 Virginia Ave\, Ste 124\, North Bend\, OR\, 97459\, United States
CATEGORIES:Classes and Workshops,Meetup
ATTACH;FMTTYPE=image/png:https://mindbodyspirithw.com/wp-content/uploads/2024/06/Crow-Party.png
ORGANIZER;CN="Mind Body Spirit Holistic Wellness":MAILTO:mindbodyspirithw@gmail.com
END:VEVENT
BEGIN:VEVENT
DTSTART;TZID=America/Los_Angeles:20250209T130000
DTEND;TZID=America/Los_Angeles:20250209T140000
DTSTAMP:20260423T162525
CREATED:20250107T041714Z
LAST-MODIFIED:20250107T041714Z
UID:10001231-1739106000-1739109600@mindbodyspirithw.com
SUMMARY:Full Moon Ritual
DESCRIPTION:🌕 Monthly Full Moon Ritual 🌕\nJoin us each month to honor the energy of the full moon with a guided ritual. Connect with your intentions\, release what no longer serves you\, and embrace the power of lunar energy. Each gathering includes meditation\, energy clearing\, and community sharing. \nCome as you are and bring an open heart. 🌙 \nDuring the winter\, ritual will be held at Mind Body Spirit. All other months will be held at Sunset Bay.
URL:https://mindbodyspirithw.com/event/full-moon-ritual-2/
LOCATION:Mind Body Spirit Classroom\, 1611 Virginia Ave\, Ste 124\, North Bend\, OR\, 97459\, United States
CATEGORIES:Meetup
ORGANIZER;CN="Mind Body Spirit Holistic Wellness":MAILTO:mindbodyspirithw@gmail.com
END:VEVENT
BEGIN:VEVENT
DTSTART;TZID=America/Los_Angeles:20250117T180000
DTEND;TZID=America/Los_Angeles:20250117T200000
DTSTAMP:20260423T162525
CREATED:20240725T232223Z
LAST-MODIFIED:20240821T175837Z
UID:10000527-1737136800-1737144000@mindbodyspirithw.com
SUMMARY:Crow Party
DESCRIPTION:🖤✨ Join Our Monthly Crow Party! ✨🖤 \nEmbrace the mystery and magic at Mind Body Spirit Holistic Wellness’ Crow Party! Come dressed in black and trade trinkets with fellow enthusiasts. We meet on the third Friday of each month at 6pm for a night of fun\, connection\, and creativity. \nEach month\, trinkets are themed and open to your unique interpretation. Bring your favorite items to trade\, share a treat\, or make a donation. It’s a perfect opportunity to meet like-minded individuals and enjoy a night of magical exchanges! \nWe look forward to seeing you at our next Crow Party! \n2024 Themes – \n\nAugust – Parts\nSeptember – Fall/Autumn\nOctober – Samhain/Halloween\nNovember – Thanks\nDecember – Yule/Christmas Ornament exchange to celebrate the season\n\n#MindBodySpirit #HolisticWellness #CrowParty #TrinketTrade #CommunityEvent #MysticalGathering #nationalwellnessmonth
URL:https://mindbodyspirithw.com/event/crow-party/2025-01-17/
LOCATION:Mind Body Spirit Classroom\, 1611 Virginia Ave\, Ste 124\, North Bend\, OR\, 97459\, United States
CATEGORIES:Classes and Workshops,Meetup
ATTACH;FMTTYPE=image/png:https://mindbodyspirithw.com/wp-content/uploads/2024/06/Crow-Party.png
ORGANIZER;CN="Mind Body Spirit Holistic Wellness":MAILTO:mindbodyspirithw@gmail.com
END:VEVENT
BEGIN:VEVENT
DTSTART;TZID=America/Los_Angeles:20250112T130000
DTEND;TZID=America/Los_Angeles:20250112T140000
DTSTAMP:20260423T162525
CREATED:20250107T041644Z
LAST-MODIFIED:20250107T041644Z
UID:10001230-1736686800-1736690400@mindbodyspirithw.com
SUMMARY:Full Moon Ritual
DESCRIPTION:🌕 Monthly Full Moon Ritual 🌕\nJoin us each month to honor the energy of the full moon with a guided ritual. Connect with your intentions\, release what no longer serves you\, and embrace the power of lunar energy. Each gathering includes meditation\, energy clearing\, and community sharing. \nCome as you are and bring an open heart. 🌙 \nDuring the winter\, ritual will be held at Mind Body Spirit. All other months will be held at Sunset Bay.
URL:https://mindbodyspirithw.com/event/full-moon-ritual/
LOCATION:Mind Body Spirit Classroom\, 1611 Virginia Ave\, Ste 124\, North Bend\, OR\, 97459\, United States
CATEGORIES:Meetup
ORGANIZER;CN="Mind Body Spirit Holistic Wellness":MAILTO:mindbodyspirithw@gmail.com
END:VEVENT
BEGIN:VEVENT
DTSTART;TZID=America/Los_Angeles:20241220T180000
DTEND;TZID=America/Los_Angeles:20241220T200000
DTSTAMP:20260423T162525
CREATED:20240725T232223Z
LAST-MODIFIED:20240821T175837Z
UID:10000526-1734717600-1734724800@mindbodyspirithw.com
SUMMARY:Crow Party
DESCRIPTION:🖤✨ Join Our Monthly Crow Party! ✨🖤 \nEmbrace the mystery and magic at Mind Body Spirit Holistic Wellness’ Crow Party! Come dressed in black and trade trinkets with fellow enthusiasts. We meet on the third Friday of each month at 6pm for a night of fun\, connection\, and creativity. \nEach month\, trinkets are themed and open to your unique interpretation. Bring your favorite items to trade\, share a treat\, or make a donation. It’s a perfect opportunity to meet like-minded individuals and enjoy a night of magical exchanges! \nWe look forward to seeing you at our next Crow Party! \n2024 Themes – \n\nAugust – Parts\nSeptember – Fall/Autumn\nOctober – Samhain/Halloween\nNovember – Thanks\nDecember – Yule/Christmas Ornament exchange to celebrate the season\n\n#MindBodySpirit #HolisticWellness #CrowParty #TrinketTrade #CommunityEvent #MysticalGathering #nationalwellnessmonth
URL:https://mindbodyspirithw.com/event/crow-party/2024-12-20/
LOCATION:Mind Body Spirit Classroom\, 1611 Virginia Ave\, Ste 124\, North Bend\, OR\, 97459\, United States
CATEGORIES:Classes and Workshops,Meetup
ATTACH;FMTTYPE=image/png:https://mindbodyspirithw.com/wp-content/uploads/2024/06/Crow-Party.png
ORGANIZER;CN="Mind Body Spirit Holistic Wellness":MAILTO:mindbodyspirithw@gmail.com
END:VEVENT
BEGIN:VEVENT
DTSTART;TZID=America/Los_Angeles:20241115T180000
DTEND;TZID=America/Los_Angeles:20241115T200000
DTSTAMP:20260423T162525
CREATED:20240725T232223Z
LAST-MODIFIED:20240821T175837Z
UID:10000525-1731693600-1731700800@mindbodyspirithw.com
SUMMARY:Crow Party
DESCRIPTION:🖤✨ Join Our Monthly Crow Party! ✨🖤 \nEmbrace the mystery and magic at Mind Body Spirit Holistic Wellness’ Crow Party! Come dressed in black and trade trinkets with fellow enthusiasts. We meet on the third Friday of each month at 6pm for a night of fun\, connection\, and creativity. \nEach month\, trinkets are themed and open to your unique interpretation. Bring your favorite items to trade\, share a treat\, or make a donation. It’s a perfect opportunity to meet like-minded individuals and enjoy a night of magical exchanges! \nWe look forward to seeing you at our next Crow Party! \n2024 Themes – \n\nAugust – Parts\nSeptember – Fall/Autumn\nOctober – Samhain/Halloween\nNovember – Thanks\nDecember – Yule/Christmas Ornament exchange to celebrate the season\n\n#MindBodySpirit #HolisticWellness #CrowParty #TrinketTrade #CommunityEvent #MysticalGathering #nationalwellnessmonth
URL:https://mindbodyspirithw.com/event/crow-party/2024-11-15/
LOCATION:Mind Body Spirit Classroom\, 1611 Virginia Ave\, Ste 124\, North Bend\, OR\, 97459\, United States
CATEGORIES:Classes and Workshops,Meetup
ATTACH;FMTTYPE=image/png:https://mindbodyspirithw.com/wp-content/uploads/2024/06/Crow-Party.png
ORGANIZER;CN="Mind Body Spirit Holistic Wellness":MAILTO:mindbodyspirithw@gmail.com
END:VEVENT
BEGIN:VEVENT
DTSTART;TZID=America/Los_Angeles:20241018T180000
DTEND;TZID=America/Los_Angeles:20241018T200000
DTSTAMP:20260423T162525
CREATED:20240725T232223Z
LAST-MODIFIED:20240821T175837Z
UID:10000524-1729274400-1729281600@mindbodyspirithw.com
SUMMARY:Crow Party
DESCRIPTION:🖤✨ Join Our Monthly Crow Party! ✨🖤 \nEmbrace the mystery and magic at Mind Body Spirit Holistic Wellness’ Crow Party! Come dressed in black and trade trinkets with fellow enthusiasts. We meet on the third Friday of each month at 6pm for a night of fun\, connection\, and creativity. \nEach month\, trinkets are themed and open to your unique interpretation. Bring your favorite items to trade\, share a treat\, or make a donation. It’s a perfect opportunity to meet like-minded individuals and enjoy a night of magical exchanges! \nWe look forward to seeing you at our next Crow Party! \n2024 Themes – \n\nAugust – Parts\nSeptember – Fall/Autumn\nOctober – Samhain/Halloween\nNovember – Thanks\nDecember – Yule/Christmas Ornament exchange to celebrate the season\n\n#MindBodySpirit #HolisticWellness #CrowParty #TrinketTrade #CommunityEvent #MysticalGathering #nationalwellnessmonth
URL:https://mindbodyspirithw.com/event/crow-party/2024-10-18/
LOCATION:Mind Body Spirit Classroom\, 1611 Virginia Ave\, Ste 124\, North Bend\, OR\, 97459\, United States
CATEGORIES:Classes and Workshops,Meetup
ATTACH;FMTTYPE=image/png:https://mindbodyspirithw.com/wp-content/uploads/2024/06/Crow-Party.png
ORGANIZER;CN="Mind Body Spirit Holistic Wellness":MAILTO:mindbodyspirithw@gmail.com
END:VEVENT
BEGIN:VEVENT
DTSTART;TZID=America/Los_Angeles:20240920T180000
DTEND;TZID=America/Los_Angeles:20240920T200000
DTSTAMP:20260423T162525
CREATED:20240725T232223Z
LAST-MODIFIED:20240821T175837Z
UID:10000523-1726855200-1726862400@mindbodyspirithw.com
SUMMARY:Crow Party
DESCRIPTION:🖤✨ Join Our Monthly Crow Party! ✨🖤 \nEmbrace the mystery and magic at Mind Body Spirit Holistic Wellness’ Crow Party! Come dressed in black and trade trinkets with fellow enthusiasts. We meet on the third Friday of each month at 6pm for a night of fun\, connection\, and creativity. \nEach month\, trinkets are themed and open to your unique interpretation. Bring your favorite items to trade\, share a treat\, or make a donation. It’s a perfect opportunity to meet like-minded individuals and enjoy a night of magical exchanges! \nWe look forward to seeing you at our next Crow Party! \n2024 Themes – \n\nAugust – Parts\nSeptember – Fall/Autumn\nOctober – Samhain/Halloween\nNovember – Thanks\nDecember – Yule/Christmas Ornament exchange to celebrate the season\n\n#MindBodySpirit #HolisticWellness #CrowParty #TrinketTrade #CommunityEvent #MysticalGathering #nationalwellnessmonth
URL:https://mindbodyspirithw.com/event/crow-party/2024-09-20/
LOCATION:Mind Body Spirit Classroom\, 1611 Virginia Ave\, Ste 124\, North Bend\, OR\, 97459\, United States
CATEGORIES:Classes and Workshops,Meetup
ATTACH;FMTTYPE=image/png:https://mindbodyspirithw.com/wp-content/uploads/2024/06/Crow-Party.png
ORGANIZER;CN="Mind Body Spirit Holistic Wellness":MAILTO:mindbodyspirithw@gmail.com
END:VEVENT
BEGIN:VEVENT
DTSTART;TZID=America/Los_Angeles:20240816T180000
DTEND;TZID=America/Los_Angeles:20240816T200000
DTSTAMP:20260423T162525
CREATED:20240725T232223Z
LAST-MODIFIED:20240821T175837Z
UID:10000522-1723831200-1723838400@mindbodyspirithw.com
SUMMARY:Crow Party
DESCRIPTION:🖤✨ Join Our Monthly Crow Party! ✨🖤 \nEmbrace the mystery and magic at Mind Body Spirit Holistic Wellness’ Crow Party! Come dressed in black and trade trinkets with fellow enthusiasts. We meet on the third Friday of each month at 6pm for a night of fun\, connection\, and creativity. \nEach month\, trinkets are themed and open to your unique interpretation. Bring your favorite items to trade\, share a treat\, or make a donation. It’s a perfect opportunity to meet like-minded individuals and enjoy a night of magical exchanges! \nWe look forward to seeing you at our next Crow Party! \n2024 Themes – \n\nAugust – Parts\nSeptember – Fall/Autumn\nOctober – Samhain/Halloween\nNovember – Thanks\nDecember – Yule/Christmas Ornament exchange to celebrate the season\n\n#MindBodySpirit #HolisticWellness #CrowParty #TrinketTrade #CommunityEvent #MysticalGathering #nationalwellnessmonth
URL:https://mindbodyspirithw.com/event/crow-party/2024-08-16/
LOCATION:Mind Body Spirit Classroom\, 1611 Virginia Ave\, Ste 124\, North Bend\, OR\, 97459\, United States
CATEGORIES:Classes and Workshops,Meetup
ATTACH;FMTTYPE=image/png:https://mindbodyspirithw.com/wp-content/uploads/2024/06/Crow-Party.png
ORGANIZER;CN="Mind Body Spirit Holistic Wellness":MAILTO:mindbodyspirithw@gmail.com
END:VEVENT
END:VCALENDAR