BEGIN:VCALENDAR
VERSION:2.0
PRODID:-//Mind Body Spirit - ECPv6.15.20//NONSGML v1.0//EN
CALSCALE:GREGORIAN
METHOD:PUBLISH
X-WR-CALNAME:Mind Body Spirit
X-ORIGINAL-URL:https://mindbodyspirithw.com
X-WR-CALDESC:Events for Mind Body Spirit
REFRESH-INTERVAL;VALUE=DURATION:PT1H
X-Robots-Tag:noindex
X-PUBLISHED-TTL:PT1H
BEGIN:VTIMEZONE
TZID:America/Los_Angeles
BEGIN:DAYLIGHT
TZOFFSETFROM:-0800
TZOFFSETTO:-0700
TZNAME:PDT
DTSTART:20240310T100000
END:DAYLIGHT
BEGIN:STANDARD
TZOFFSETFROM:-0700
TZOFFSETTO:-0800
TZNAME:PST
DTSTART:20241103T090000
END:STANDARD
BEGIN:DAYLIGHT
TZOFFSETFROM:-0800
TZOFFSETTO:-0700
TZNAME:PDT
DTSTART:20250309T100000
END:DAYLIGHT
BEGIN:STANDARD
TZOFFSETFROM:-0700
TZOFFSETTO:-0800
TZNAME:PST
DTSTART:20251102T090000
END:STANDARD
BEGIN:DAYLIGHT
TZOFFSETFROM:-0800
TZOFFSETTO:-0700
TZNAME:PDT
DTSTART:20260308T100000
END:DAYLIGHT
BEGIN:STANDARD
TZOFFSETFROM:-0700
TZOFFSETTO:-0800
TZNAME:PST
DTSTART:20261101T090000
END:STANDARD
END:VTIMEZONE
BEGIN:VEVENT
DTSTART;TZID=America/Los_Angeles:20251217T180000
DTEND;TZID=America/Los_Angeles:20251217T200000
DTSTAMP:20260423T162600
CREATED:20251201T004242Z
LAST-MODIFIED:20251201T004242Z
UID:10001255-1765994400-1766001600@mindbodyspirithw.com
SUMMARY:Round Table - Cancelled for December
DESCRIPTION:Join Us for a Monthly Round Table Discussion! \n📅 When: The 3rd Wednesday of every month at 6:00 PM📍 Where: Mind Body Spirit Holistic Wellness🧙‍♀️ What: A guided discussion on metaphysical and holistic topics—chosen by YOU! \nEach month\, we gather to explore thought-provoking topics submitted by our community. Drop your suggestions into our in-store cauldron\, and we’ll draw a topic at random for the evening’s discussion. Whether you’re new to holistic practices or a seasoned practitioner\, this is a space for open dialogue\, shared wisdom\, and deeper exploration. \n✨ No RSVP required—just bring your curiosity and an open mind! \n#MindBodySpirit #HolisticWellness #MetaphysicalRoundTable #CommunityDiscussion
URL:https://mindbodyspirithw.com/event/round-table-2/2025-12-17/
LOCATION:Mind Body Spirit Classroom\, 1611 Virginia Ave\, Ste 124\, North Bend\, OR\, 97459\, United States
CATEGORIES:Meetup
ATTACH;FMTTYPE=image/png:https://mindbodyspirithw.com/wp-content/uploads/2025/03/Round-Table-Facebook-Cover.png
ORGANIZER;CN="Mind Body Spirit Holistic Wellness":MAILTO:mindbodyspirithw@gmail.com
END:VEVENT
END:VCALENDAR