BEGIN:VCALENDAR
VERSION:2.0
PRODID:-//Mind Body Spirit - ECPv6.15.20//NONSGML v1.0//EN
CALSCALE:GREGORIAN
METHOD:PUBLISH
X-ORIGINAL-URL:https://mindbodyspirithw.com
X-WR-CALDESC:Events for Mind Body Spirit
REFRESH-INTERVAL;VALUE=DURATION:PT1H
X-Robots-Tag:noindex
X-PUBLISHED-TTL:PT1H
BEGIN:VTIMEZONE
TZID:America/Los_Angeles
BEGIN:DAYLIGHT
TZOFFSETFROM:-0800
TZOFFSETTO:-0700
TZNAME:PDT
DTSTART:20240310T100000
END:DAYLIGHT
BEGIN:STANDARD
TZOFFSETFROM:-0700
TZOFFSETTO:-0800
TZNAME:PST
DTSTART:20241103T090000
END:STANDARD
BEGIN:DAYLIGHT
TZOFFSETFROM:-0800
TZOFFSETTO:-0700
TZNAME:PDT
DTSTART:20250309T100000
END:DAYLIGHT
BEGIN:STANDARD
TZOFFSETFROM:-0700
TZOFFSETTO:-0800
TZNAME:PST
DTSTART:20251102T090000
END:STANDARD
BEGIN:DAYLIGHT
TZOFFSETFROM:-0800
TZOFFSETTO:-0700
TZNAME:PDT
DTSTART:20260308T100000
END:DAYLIGHT
BEGIN:STANDARD
TZOFFSETFROM:-0700
TZOFFSETTO:-0800
TZNAME:PST
DTSTART:20261101T090000
END:STANDARD
END:VTIMEZONE
BEGIN:VEVENT
DTSTART;TZID=America/Los_Angeles:20251010T180000
DTEND;TZID=America/Los_Angeles:20251010T193000
DTSTAMP:20260423T195502
CREATED:20250615T205905Z
LAST-MODIFIED:20251003T233539Z
UID:10001334-1760119200-1760124600@mindbodyspirithw.com
SUMMARY:Sip n' Sweep
DESCRIPTION:Sip n’ Sweep – Whisk Broom Crafting with Wine6:00 PM | $25 per personMind Body Spirit Holistic Wellness \nUnwind\, sip\, and sweep your way into creativity! Join us for Sip n’ Sweep\, an evening of hands-on broom-making and relaxed vibes. You’ll learn how to craft your very own mini whisk broom\, choosing from a variety of colors to make it uniquely yours. Whether you use it for energy clearing\, altar decor\, or just love the witchy aesthetic\, your broom will be both beautiful and functional. \nWe’ll be serving wine to spark inspiration and conversation as we guide you through the traditional art of broom-making. No experience needed — just bring your creativity and a friend (or two)! \n✨ Space is limited to 10 — our last event sold out\, so reserve your spot early and sweep in some magic!
URL:https://mindbodyspirithw.com/event/sip-n-sweep-july/
LOCATION:Mind Body Spirit Classroom\, 1611 Virginia Ave\, Ste 124\, North Bend\, OR\, 97459\, United States
CATEGORIES:Classes and Workshops
ATTACH;FMTTYPE=image/png:https://mindbodyspirithw.com/wp-content/uploads/2025/06/Sip-n-Sweep-Instagram-Post-45-2.png
ORGANIZER;CN="Mind Body Spirit Holistic Wellness":MAILTO:mindbodyspirithw@gmail.com
END:VEVENT
END:VCALENDAR