BEGIN:VCALENDAR
VERSION:2.0
PRODID:-//Mind Body Spirit - ECPv6.15.20//NONSGML v1.0//EN
CALSCALE:GREGORIAN
METHOD:PUBLISH
X-WR-CALNAME:Mind Body Spirit
X-ORIGINAL-URL:https://mindbodyspirithw.com
X-WR-CALDESC:Events for Mind Body Spirit
REFRESH-INTERVAL;VALUE=DURATION:PT1H
X-Robots-Tag:noindex
X-PUBLISHED-TTL:PT1H
BEGIN:VTIMEZONE
TZID:America/Los_Angeles
BEGIN:DAYLIGHT
TZOFFSETFROM:-0800
TZOFFSETTO:-0700
TZNAME:PDT
DTSTART:20240310T100000
END:DAYLIGHT
BEGIN:STANDARD
TZOFFSETFROM:-0700
TZOFFSETTO:-0800
TZNAME:PST
DTSTART:20241103T090000
END:STANDARD
BEGIN:DAYLIGHT
TZOFFSETFROM:-0800
TZOFFSETTO:-0700
TZNAME:PDT
DTSTART:20250309T100000
END:DAYLIGHT
BEGIN:STANDARD
TZOFFSETFROM:-0700
TZOFFSETTO:-0800
TZNAME:PST
DTSTART:20251102T090000
END:STANDARD
BEGIN:DAYLIGHT
TZOFFSETFROM:-0800
TZOFFSETTO:-0700
TZNAME:PDT
DTSTART:20260308T100000
END:DAYLIGHT
BEGIN:STANDARD
TZOFFSETFROM:-0700
TZOFFSETTO:-0800
TZNAME:PST
DTSTART:20261101T090000
END:STANDARD
END:VTIMEZONE
BEGIN:VEVENT
DTSTART;TZID=America/Los_Angeles:20250724T180000
DTEND;TZID=America/Los_Angeles:20250724T200000
DTSTAMP:20260424T024432
CREATED:20250722T211437Z
LAST-MODIFIED:20250722T213529Z
UID:10001337-1753380000-1753387200@mindbodyspirithw.com
SUMMARY:Beginning Metaphysics
DESCRIPTION:How do you “know”? Meet the “Clairs” – Your intuitive messengers\nMany of us are familiar with Clairvoyance (the ability to perceive things in images) and\nClairaudience (the ability to receive information through hearing). Did you know there\nare six additional “Clairs”? In this class\, you will meet each of the Clairs and will have a\nchance to explore which ones work best for you. You may find\, as others have\, that you\nhave been receiving messages through avenues you haven’t yet recognized. \nThis class is the second in a 3-part series\, July 24th @6pm. Each class may be taken separately\, but is\nbest as a series. We suggest you bring a notebook and a writing instrument. Be\nprepared to capture new information and the inevitable “aha’s”. \n$25 per class/per person
URL:https://mindbodyspirithw.com/event/beginning-metaphysical-class-2-2/
LOCATION:Mind Body Spirit Classroom\, 1611 Virginia Ave\, Ste 124\, North Bend\, OR\, 97459\, United States
CATEGORIES:Classes and Workshops
ATTACH;FMTTYPE=image/png:https://mindbodyspirithw.com/wp-content/uploads/2025/07/Metaphysical-Basics-Instagram-Post.png
ORGANIZER;CN="Mind Body Spirit Holistic Wellness":MAILTO:mindbodyspirithw@gmail.com
END:VEVENT
END:VCALENDAR