BEGIN:VCALENDAR
VERSION:2.0
PRODID:-//Mind Body Spirit - ECPv6.15.20//NONSGML v1.0//EN
CALSCALE:GREGORIAN
METHOD:PUBLISH
X-WR-CALNAME:Mind Body Spirit
X-ORIGINAL-URL:https://mindbodyspirithw.com
X-WR-CALDESC:Events for Mind Body Spirit
REFRESH-INTERVAL;VALUE=DURATION:PT1H
X-Robots-Tag:noindex
X-PUBLISHED-TTL:PT1H
BEGIN:VTIMEZONE
TZID:America/Los_Angeles
BEGIN:DAYLIGHT
TZOFFSETFROM:-0800
TZOFFSETTO:-0700
TZNAME:PDT
DTSTART:20240310T100000
END:DAYLIGHT
BEGIN:STANDARD
TZOFFSETFROM:-0700
TZOFFSETTO:-0800
TZNAME:PST
DTSTART:20241103T090000
END:STANDARD
BEGIN:DAYLIGHT
TZOFFSETFROM:-0800
TZOFFSETTO:-0700
TZNAME:PDT
DTSTART:20250309T100000
END:DAYLIGHT
BEGIN:STANDARD
TZOFFSETFROM:-0700
TZOFFSETTO:-0800
TZNAME:PST
DTSTART:20251102T090000
END:STANDARD
BEGIN:DAYLIGHT
TZOFFSETFROM:-0800
TZOFFSETTO:-0700
TZNAME:PDT
DTSTART:20260308T100000
END:DAYLIGHT
BEGIN:STANDARD
TZOFFSETFROM:-0700
TZOFFSETTO:-0800
TZNAME:PST
DTSTART:20261101T090000
END:STANDARD
END:VTIMEZONE
BEGIN:VEVENT
DTSTART;TZID=America/Los_Angeles:20250624T180000
DTEND;TZID=America/Los_Angeles:20250624T193000
DTSTAMP:20260424T045231
CREATED:20250604T181657Z
LAST-MODIFIED:20250605T194937Z
UID:10001332-1750788000-1750793400@mindbodyspirithw.com
SUMMARY:Journaling Workshop
DESCRIPTION:🖊️ Unlock the Power of Journaling! 🖊️ \nJournaling Workshop at Mind Body Spirit Holistic Wellness! Discover how journaling can be a powerful tool for self-reflection\, personal growth\, and manifestation. We’ll explore different journaling styles\, discuss why it’s such a transformative practice\, and provide you with a list of inspiring prompts to get started. \nWhat you receive: \n\na new leather journal and pen ($32.95 value)\na list of 365 journal prompts\ninformation on journaling with time and prompts during class to write\n\n💰 Cost: $35 per person \n📍 1611 Virginia Avenue\, Suite 124\, North Bend\, OR \n📅 Space is limited—reserve your spot today!
URL:https://mindbodyspirithw.com/event/4667/
LOCATION:Mind Body Spirit Classroom\, 1611 Virginia Ave\, Ste 124\, North Bend\, OR\, 97459\, United States
CATEGORIES:Classes and Workshops
ATTACH;FMTTYPE=image/png:https://mindbodyspirithw.com/wp-content/uploads/2025/06/Journaling-Workshop-Instagram-Post-45.png
ORGANIZER;CN="Mind Body Spirit Holistic Wellness":MAILTO:mindbodyspirithw@gmail.com
END:VEVENT
END:VCALENDAR