BEGIN:VCALENDAR
VERSION:2.0
PRODID:-//Mind Body Spirit - ECPv6.15.20//NONSGML v1.0//EN
CALSCALE:GREGORIAN
METHOD:PUBLISH
X-WR-CALNAME:Mind Body Spirit
X-ORIGINAL-URL:https://mindbodyspirithw.com
X-WR-CALDESC:Events for Mind Body Spirit
REFRESH-INTERVAL;VALUE=DURATION:PT1H
X-Robots-Tag:noindex
X-PUBLISHED-TTL:PT1H
BEGIN:VTIMEZONE
TZID:America/Los_Angeles
BEGIN:DAYLIGHT
TZOFFSETFROM:-0800
TZOFFSETTO:-0700
TZNAME:PDT
DTSTART:20240310T100000
END:DAYLIGHT
BEGIN:STANDARD
TZOFFSETFROM:-0700
TZOFFSETTO:-0800
TZNAME:PST
DTSTART:20241103T090000
END:STANDARD
BEGIN:DAYLIGHT
TZOFFSETFROM:-0800
TZOFFSETTO:-0700
TZNAME:PDT
DTSTART:20250309T100000
END:DAYLIGHT
BEGIN:STANDARD
TZOFFSETFROM:-0700
TZOFFSETTO:-0800
TZNAME:PST
DTSTART:20251102T090000
END:STANDARD
BEGIN:DAYLIGHT
TZOFFSETFROM:-0800
TZOFFSETTO:-0700
TZNAME:PDT
DTSTART:20260308T100000
END:DAYLIGHT
BEGIN:STANDARD
TZOFFSETFROM:-0700
TZOFFSETTO:-0800
TZNAME:PST
DTSTART:20261101T090000
END:STANDARD
END:VTIMEZONE
BEGIN:VEVENT
DTSTART;TZID=America/Los_Angeles:20250604T180000
DTEND;TZID=America/Los_Angeles:20250604T193000
DTSTAMP:20260424T045213
CREATED:20250601T013559Z
LAST-MODIFIED:20250604T175851Z
UID:10001329-1749060000-1749065400@mindbodyspirithw.com
SUMMARY:Kitchen Witchery - Postponed
DESCRIPTION:Our instructor has been hit with the crud! We will be postponing tonight’s class and let everyone know when it’s been rescheduled for. \n🍽️✨ Explore the Magic of Taste! ✨🍽️\nOur kitchen witchery series explores the five senses of taste: sweet\, salty\, sour\, bitter\, and umami. Discover how these tastes can enhance your daily witchcraft practice. \nClick here to reserve your space. \nEach kitchen witchery class includes:\n🔮 A hands-on activity with a take-home element\n🍴 A snack relevant to the topic \n🌟 Don’t forget to let Dorine know at least three days in advance if you have allergies or dietary restrictions. \nFebruary 5th – Sweet \nMarch 5th – Salty \nApril 10th – Sour \nMay 7th – Bitter \nJune 4th – Umami \nSpaces are limited—reserve your spot today! Future class dates to be announced. \n#MindBodySpirit #HolisticWellness #DailyWitchcraft #TasteMagic
URL:https://mindbodyspirithw.com/event/kitchen-witchery-5/
LOCATION:Mind Body Spirit Classroom\, 1611 Virginia Ave\, Ste 124\, North Bend\, OR\, 97459\, United States
CATEGORIES:Classes and Workshops
ATTACH;FMTTYPE=image/png:https://mindbodyspirithw.com/wp-content/uploads/2025/01/Kitchen.png
ORGANIZER;CN="Mind Body Spirit Holistic Wellness":MAILTO:mindbodyspirithw@gmail.com
END:VEVENT
END:VCALENDAR