BEGIN:VCALENDAR
VERSION:2.0
PRODID:-//Mind Body Spirit - ECPv6.15.20//NONSGML v1.0//EN
CALSCALE:GREGORIAN
METHOD:PUBLISH
X-WR-CALNAME:Mind Body Spirit
X-ORIGINAL-URL:https://mindbodyspirithw.com
X-WR-CALDESC:Events for Mind Body Spirit
REFRESH-INTERVAL;VALUE=DURATION:PT1H
X-Robots-Tag:noindex
X-PUBLISHED-TTL:PT1H
BEGIN:VTIMEZONE
TZID:America/Los_Angeles
BEGIN:DAYLIGHT
TZOFFSETFROM:-0800
TZOFFSETTO:-0700
TZNAME:PDT
DTSTART:20240310T100000
END:DAYLIGHT
BEGIN:STANDARD
TZOFFSETFROM:-0700
TZOFFSETTO:-0800
TZNAME:PST
DTSTART:20241103T090000
END:STANDARD
BEGIN:DAYLIGHT
TZOFFSETFROM:-0800
TZOFFSETTO:-0700
TZNAME:PDT
DTSTART:20250309T100000
END:DAYLIGHT
BEGIN:STANDARD
TZOFFSETFROM:-0700
TZOFFSETTO:-0800
TZNAME:PST
DTSTART:20251102T090000
END:STANDARD
BEGIN:DAYLIGHT
TZOFFSETFROM:-0800
TZOFFSETTO:-0700
TZNAME:PDT
DTSTART:20260308T100000
END:DAYLIGHT
BEGIN:STANDARD
TZOFFSETFROM:-0700
TZOFFSETTO:-0800
TZNAME:PST
DTSTART:20261101T090000
END:STANDARD
END:VTIMEZONE
BEGIN:VEVENT
DTSTART;TZID=America/Los_Angeles:20250502T180000
DTEND;TZID=America/Los_Angeles:20250502T200000
DTSTAMP:20260424T064436
CREATED:20250126T014505Z
LAST-MODIFIED:20250319T210611Z
UID:10001242-1746208800-1746216000@mindbodyspirithw.com
SUMMARY:Call Yourself Home
DESCRIPTION:Call Yourself Home \n🌸 Self-Love & Detox Workshop 🌸 \n⏰ Time: 6:00 PM\n💰 Cost: $40\n📍 Location: Mind Body Spirit Holistic Wellness\, 1611 Virginia Avenue\, Suite 124\, North Bend\, OR \nI am thrilled to invite you to my next workshop\, all about self-love and detox! Together\, we’ll explore holistic ways to:\n💖 Release old thoughts and sticky emotions\n🌿 Detoxify the body and clear the heart’s arcline\n✨ Simplify your health\, reduce stress\, and embrace love and acceptance \nThis workshop includes:\n🎁 A gift package (valued at the cost of the workshop!) with everything you need for a daily pampering routine free of plastics\, artificial fragrances\, and hormone-disrupting chemicals\n🌸 Somatic practices to support lymphatic health and holistic well-being \nSpace is limited\, so don’t miss your chance to nurture your mind\, body\, and soul with a midwinter pick-me-up that will last a lifetime. \n✨ Reserve your spot today! \n#MindBodySpirit #HolisticWellness #SelfLove #MidwinterHealing
URL:https://mindbodyspirithw.com/event/call-yourself-home/
LOCATION:Mind Body Spirit Classroom\, 1611 Virginia Ave\, Ste 124\, North Bend\, OR\, 97459\, United States
CATEGORIES:Classes and Workshops
ATTACH;FMTTYPE=image/jpeg:https://mindbodyspirithw.com/wp-content/uploads/2025/01/Call-Yourself-Home-1.jpg
ORGANIZER;CN="Mind Body Spirit Holistic Wellness":MAILTO:mindbodyspirithw@gmail.com
END:VEVENT
END:VCALENDAR