BEGIN:VCALENDAR
VERSION:2.0
PRODID:-//Mind Body Spirit - ECPv6.15.20//NONSGML v1.0//EN
CALSCALE:GREGORIAN
METHOD:PUBLISH
X-ORIGINAL-URL:https://mindbodyspirithw.com
X-WR-CALDESC:Events for Mind Body Spirit
REFRESH-INTERVAL;VALUE=DURATION:PT1H
X-Robots-Tag:noindex
X-PUBLISHED-TTL:PT1H
BEGIN:VTIMEZONE
TZID:America/Los_Angeles
BEGIN:DAYLIGHT
TZOFFSETFROM:-0800
TZOFFSETTO:-0700
TZNAME:PDT
DTSTART:20240310T100000
END:DAYLIGHT
BEGIN:STANDARD
TZOFFSETFROM:-0700
TZOFFSETTO:-0800
TZNAME:PST
DTSTART:20241103T090000
END:STANDARD
BEGIN:DAYLIGHT
TZOFFSETFROM:-0800
TZOFFSETTO:-0700
TZNAME:PDT
DTSTART:20250309T100000
END:DAYLIGHT
BEGIN:STANDARD
TZOFFSETFROM:-0700
TZOFFSETTO:-0800
TZNAME:PST
DTSTART:20251102T090000
END:STANDARD
BEGIN:DAYLIGHT
TZOFFSETFROM:-0800
TZOFFSETTO:-0700
TZNAME:PDT
DTSTART:20260308T100000
END:DAYLIGHT
BEGIN:STANDARD
TZOFFSETFROM:-0700
TZOFFSETTO:-0800
TZNAME:PST
DTSTART:20261101T090000
END:STANDARD
END:VTIMEZONE
BEGIN:VEVENT
DTSTART;TZID=America/Los_Angeles:20250419T130000
DTEND;TZID=America/Los_Angeles:20250419T150000
DTSTAMP:20260424T083755
CREATED:20250319T211304Z
LAST-MODIFIED:20250319T211518Z
UID:10001245-1745067600-1745074800@mindbodyspirithw.com
SUMMARY:Hawk Tail Broom Making Workshop
DESCRIPTION: Craft Your Own Magical Altar Broom! \n\nJoin us for a spellbinding Hawk Tail Broom-Making Workshop at Mind Body Spirit Holistic Wellness. In this immersive\, hands-on experience\, you’ll craft a beautiful altar broom using broomcorn\, perfect for your sacred rituals and spiritual practices.\n\n Cost: $50 per person (all supplies included) Reserve Early: Space is limited to 6 participants!\n\nWhether you’re new to crafting or a seasoned practitioner\, this workshop offers a unique way to deepen your connection to your spiritual tools.\n\n Call us at 541-751-3307 Email us at mindbodyspirithw@gmail.com Visit us at 1611 Virginia Avenue\, Suite 124\, North Bend\, OR 97459\n\n#MindBodySpirit #HolisticWellness #WitchCraft #AltarTools #HandmadeMagic
URL:https://mindbodyspirithw.com/event/hawk-tail-broom-making-workshop/
LOCATION:Mind Body Spirit Classroom\, 1611 Virginia Ave\, Ste 124\, North Bend\, OR\, 97459\, United States
CATEGORIES:Classes and Workshops
ATTACH;FMTTYPE=image/png:https://mindbodyspirithw.com/wp-content/uploads/2025/03/Broom-Making-Workshop-Flyer-1920-x-1080-px.png
ORGANIZER;CN="Mind Body Spirit Holistic Wellness":MAILTO:mindbodyspirithw@gmail.com
END:VEVENT
END:VCALENDAR