BEGIN:VCALENDAR
VERSION:2.0
PRODID:-//Mind Body Spirit - ECPv6.15.20//NONSGML v1.0//EN
CALSCALE:GREGORIAN
METHOD:PUBLISH
X-WR-CALNAME:Mind Body Spirit
X-ORIGINAL-URL:https://mindbodyspirithw.com
X-WR-CALDESC:Events for Mind Body Spirit
REFRESH-INTERVAL;VALUE=DURATION:PT1H
X-Robots-Tag:noindex
X-PUBLISHED-TTL:PT1H
BEGIN:VTIMEZONE
TZID:America/Los_Angeles
BEGIN:DAYLIGHT
TZOFFSETFROM:-0800
TZOFFSETTO:-0700
TZNAME:PDT
DTSTART:20230312T100000
END:DAYLIGHT
BEGIN:STANDARD
TZOFFSETFROM:-0700
TZOFFSETTO:-0800
TZNAME:PST
DTSTART:20231105T090000
END:STANDARD
BEGIN:DAYLIGHT
TZOFFSETFROM:-0800
TZOFFSETTO:-0700
TZNAME:PDT
DTSTART:20240310T100000
END:DAYLIGHT
BEGIN:STANDARD
TZOFFSETFROM:-0700
TZOFFSETTO:-0800
TZNAME:PST
DTSTART:20241103T090000
END:STANDARD
BEGIN:DAYLIGHT
TZOFFSETFROM:-0800
TZOFFSETTO:-0700
TZNAME:PDT
DTSTART:20250309T100000
END:DAYLIGHT
BEGIN:STANDARD
TZOFFSETFROM:-0700
TZOFFSETTO:-0800
TZNAME:PST
DTSTART:20251102T090000
END:STANDARD
END:VTIMEZONE
BEGIN:VEVENT
DTSTART;TZID=America/Los_Angeles:20240323T110000
DTEND;TZID=America/Los_Angeles:20240323T150000
DTSTAMP:20260425T053013
CREATED:20240229T234513Z
LAST-MODIFIED:20241228T210236Z
UID:10000021-1711191600-1711206000@mindbodyspirithw.com
SUMMARY:Vision Board Workshop
DESCRIPTION:This vision board workshop is designed to help you unlock your full potential and manifest your dreams into reality. With a focus on goal setting and manifesting\, this workshop provides a powerful platform for self-discovery and transformation. \nKey Features: \n• Goal Setting: Through guided exercises and expert guidance\, learn how to set clear and achievable goals that align with your passions and aspirations. Gain clarity on your desires and create a roadmap to success. \n• Manifesting: Discover the art of manifesting your dreams by harnessing the power of visualization and positive intention. Learn techniques to attract abundance\, success\, and happiness into your life. \nJoin us in this immersive workshop and unleash the power within you to create the life you’ve always envisioned. Whether you’re seeking personal growth\, professional success\, or a deeper sense of purpose\, this vision board workshop is your catalyst for transformation. \nBe sure to purchase your tickets here.
URL:https://mindbodyspirithw.com/event/vision-board-workshop/
LOCATION:Mind Body Spirit Classroom\, 1611 Virginia Ave\, Ste 124\, North Bend\, OR\, 97459\, United States
CATEGORIES:Classes and Workshops
ATTACH;FMTTYPE=image/png:https://mindbodyspirithw.com/wp-content/uploads/2024/02/Copy-of-Vision-Board-Workshop-Banner.png
ORGANIZER;CN="Mind Body Spirit Holistic Wellness":MAILTO:mindbodyspirithw@gmail.com
END:VEVENT
END:VCALENDAR