BEGIN:VCALENDAR
VERSION:2.0
PRODID:-//Mind Body Spirit - ECPv6.15.20//NONSGML v1.0//EN
CALSCALE:GREGORIAN
METHOD:PUBLISH
X-ORIGINAL-URL:https://mindbodyspirithw.com
X-WR-CALDESC:Events for Mind Body Spirit
REFRESH-INTERVAL;VALUE=DURATION:PT1H
X-Robots-Tag:noindex
X-PUBLISHED-TTL:PT1H
BEGIN:VTIMEZONE
TZID:America/Los_Angeles
BEGIN:DAYLIGHT
TZOFFSETFROM:-0800
TZOFFSETTO:-0700
TZNAME:PDT
DTSTART:20230312T100000
END:DAYLIGHT
BEGIN:STANDARD
TZOFFSETFROM:-0700
TZOFFSETTO:-0800
TZNAME:PST
DTSTART:20231105T090000
END:STANDARD
BEGIN:DAYLIGHT
TZOFFSETFROM:-0800
TZOFFSETTO:-0700
TZNAME:PDT
DTSTART:20240310T100000
END:DAYLIGHT
BEGIN:STANDARD
TZOFFSETFROM:-0700
TZOFFSETTO:-0800
TZNAME:PST
DTSTART:20241103T090000
END:STANDARD
BEGIN:DAYLIGHT
TZOFFSETFROM:-0800
TZOFFSETTO:-0700
TZNAME:PDT
DTSTART:20250309T100000
END:DAYLIGHT
BEGIN:STANDARD
TZOFFSETFROM:-0700
TZOFFSETTO:-0800
TZNAME:PST
DTSTART:20251102T090000
END:STANDARD
END:VTIMEZONE
BEGIN:VEVENT
DTSTART;TZID=America/Los_Angeles:20240307T183000
DTEND;TZID=America/Los_Angeles:20240307T200000
DTSTAMP:20260425T053127
CREATED:20240229T211155Z
LAST-MODIFIED:20241228T210345Z
UID:10000020-1709836200-1709841600@mindbodyspirithw.com
SUMMARY:Women's Wellness Group - Managing negative thinking
DESCRIPTION:At the Women’s Wellness Group\, we believe in empowering women to prioritize their well-being and cultivate a positive\, supportive community. Our main values revolve around establishing healthy boundaries\, creating a safe space\, and nurturing personal growth. \nThis week’s topic of our Women’s Wellness Group focuses on addressing negative thinking and negative self-talk\, providing a supportive environment for personal growth and positive change. \n• Comprehensive guidance and strategies to overcome negative thinking patterns \n• Moderator-led sessions to cultivate positive self-talk and boost self-esteem \nBy joining our Women’s Wellness Group\, you embark on a transformative journey towards self-discovery\, personal growth\, and enhanced well-being. Together\, we create a space that encourages self-empowerment\, personal fulfillment\, and the forging of lifelong connections.
URL:https://mindbodyspirithw.com/event/1441/
LOCATION:Mind Body Spirit Classroom\, 1611 Virginia Ave\, Ste 124\, North Bend\, OR\, 97459\, United States
CATEGORIES:Classes and Workshops
ATTACH;FMTTYPE=image/png:https://mindbodyspirithw.com/wp-content/uploads/2024/02/Wellness-management-website-event.png
ORGANIZER;CN="Mind Body Spirit Holistic Wellness":MAILTO:mindbodyspirithw@gmail.com
END:VEVENT
END:VCALENDAR