BEGIN:VCALENDAR
VERSION:2.0
PRODID:-//Mind Body Spirit - ECPv6.15.20//NONSGML v1.0//EN
CALSCALE:GREGORIAN
METHOD:PUBLISH
X-ORIGINAL-URL:https://mindbodyspirithw.com
X-WR-CALDESC:Events for Mind Body Spirit
REFRESH-INTERVAL;VALUE=DURATION:PT1H
X-Robots-Tag:noindex
X-PUBLISHED-TTL:PT1H
BEGIN:VTIMEZONE
TZID:America/Los_Angeles
BEGIN:DAYLIGHT
TZOFFSETFROM:-0800
TZOFFSETTO:-0700
TZNAME:PDT
DTSTART:20250309T100000
END:DAYLIGHT
BEGIN:STANDARD
TZOFFSETFROM:-0700
TZOFFSETTO:-0800
TZNAME:PST
DTSTART:20251102T090000
END:STANDARD
BEGIN:DAYLIGHT
TZOFFSETFROM:-0800
TZOFFSETTO:-0700
TZNAME:PDT
DTSTART:20260308T100000
END:DAYLIGHT
BEGIN:STANDARD
TZOFFSETFROM:-0700
TZOFFSETTO:-0800
TZNAME:PST
DTSTART:20261101T090000
END:STANDARD
BEGIN:DAYLIGHT
TZOFFSETFROM:-0800
TZOFFSETTO:-0700
TZNAME:PDT
DTSTART:20270314T100000
END:DAYLIGHT
BEGIN:STANDARD
TZOFFSETFROM:-0700
TZOFFSETTO:-0800
TZNAME:PST
DTSTART:20271107T090000
END:STANDARD
END:VTIMEZONE
BEGIN:VEVENT
DTSTART;TZID=America/Los_Angeles:20260103T110000
DTEND;TZID=America/Los_Angeles:20260103T113000
DTSTAMP:20260423T160903
CREATED:20251203T023558Z
LAST-MODIFIED:20251203T023558Z
UID:10001607-1767438000-1767439800@mindbodyspirithw.com
SUMMARY:The Enchanted Saturday Series
DESCRIPTION:Step into a world of learning\, healing\, and a little everyday magic.The Enchanted Saturday Series is a weekly free class held every Saturday morning at Mind Body Spirit Holistic Wellness\, designed to introduce you to a wide range of holistic\, spiritual\, and metaphysical practices — all in a warm\, welcoming\, beginner-friendly environment. \nEach Saturday features a new topic\, from essential oils and energy healing to crystals\, meditation\, divination\, seasonal practices\, and more. Whether you’re exploring your spiritual path\, looking to support your well-being\, or simply curious about alternative approaches\, these classes offer a gentle\, accessible way to learn something new. \n✨ Free to attend✨ New topic every week✨ Perfect for beginners✨ No registration required✨ Held inside the Mind Body Spirit classroom \nCome learn\, grow\, and connect with your community — one enchanted Saturday at a time.
URL:https://mindbodyspirithw.com/event/the-enchanted-saturday-series/2026-01-03/
LOCATION:Mind Body Spirit Classroom\, 1611 Virginia Ave\, Ste 124\, North Bend\, OR\, 97459\, United States
CATEGORIES:Classes and Workshops
ATTACH;FMTTYPE=image/png:https://mindbodyspirithw.com/wp-content/uploads/2025/12/The-Enchanted-Saturday-Series.png
ORGANIZER;CN="Mind Body Spirit Holistic Wellness":MAILTO:mindbodyspirithw@gmail.com
END:VEVENT
BEGIN:VEVENT
DTSTART;TZID=America/Los_Angeles:20260107T180000
DTEND;TZID=America/Los_Angeles:20260107T200000
DTSTAMP:20260423T160903
CREATED:20251223T032631Z
LAST-MODIFIED:20251223T032740Z
UID:10001673-1767808800-1767816000@mindbodyspirithw.com
SUMMARY:Spinning 101
DESCRIPTION:Spinning 101: The Park & Draft\nYarn is not as mysterious as we were led to believe. \nTurns out\, you can make it yourself.\nWe’ll show you how. \nIn Spinning 101\, you’ll learn the basics of drop spinning using the park & draft method — a simple\, approachable technique that’s been used for centuries. This beginner-friendly class is designed for knitters\, crocheters\, and fiber-curious folks who want to understand how yarn is made and try making their own. \nIn just two hours\, you’ll spin your first yarn and build a solid foundation to keep practicing at home. Expect a calm\, welcoming environment\, hands-on guidance\, and absolutely no pressure to be perfect. Slightly lumpy yarn is part of the learning process — and part of the fun. \nWhat’s included\n\nDrop spindle to take home\nWool to spin — plus extra for later\nHands-on instruction\n\nClass details\nDate: January 7\, 2025\nTime: 6–8 PM\nLocation: Mind Body Spirit Holistic Wellness\nPony Village Mall\, North Bend\, OR\nPrice: $65 total\n($45 class + $20 materials) \nNo experience required. Just curiosity and a love of cozy crafts.
URL:https://mindbodyspirithw.com/event/spinning-101/
LOCATION:Mind Body Spirit Classroom\, 1611 Virginia Ave\, Ste 124\, North Bend\, OR\, 97459\, United States
CATEGORIES:Classes and Workshops
ATTACH;FMTTYPE=image/png:https://mindbodyspirithw.com/wp-content/uploads/2025/12/Spinning.png
ORGANIZER;CN="Mind Body Spirit Holistic Wellness":MAILTO:mindbodyspirithw@gmail.com
END:VEVENT
BEGIN:VEVENT
DTSTART;TZID=America/Los_Angeles:20260110T110000
DTEND;TZID=America/Los_Angeles:20260110T113000
DTSTAMP:20260423T160903
CREATED:20251203T023558Z
LAST-MODIFIED:20251203T023558Z
UID:10001608-1768042800-1768044600@mindbodyspirithw.com
SUMMARY:The Enchanted Saturday Series
DESCRIPTION:Step into a world of learning\, healing\, and a little everyday magic.The Enchanted Saturday Series is a weekly free class held every Saturday morning at Mind Body Spirit Holistic Wellness\, designed to introduce you to a wide range of holistic\, spiritual\, and metaphysical practices — all in a warm\, welcoming\, beginner-friendly environment. \nEach Saturday features a new topic\, from essential oils and energy healing to crystals\, meditation\, divination\, seasonal practices\, and more. Whether you’re exploring your spiritual path\, looking to support your well-being\, or simply curious about alternative approaches\, these classes offer a gentle\, accessible way to learn something new. \n✨ Free to attend✨ New topic every week✨ Perfect for beginners✨ No registration required✨ Held inside the Mind Body Spirit classroom \nCome learn\, grow\, and connect with your community — one enchanted Saturday at a time.
URL:https://mindbodyspirithw.com/event/the-enchanted-saturday-series/2026-01-10/
LOCATION:Mind Body Spirit Classroom\, 1611 Virginia Ave\, Ste 124\, North Bend\, OR\, 97459\, United States
CATEGORIES:Classes and Workshops
ATTACH;FMTTYPE=image/png:https://mindbodyspirithw.com/wp-content/uploads/2025/12/The-Enchanted-Saturday-Series.png
ORGANIZER;CN="Mind Body Spirit Holistic Wellness":MAILTO:mindbodyspirithw@gmail.com
END:VEVENT
BEGIN:VEVENT
DTSTART;TZID=America/Los_Angeles:20260110T130000
DTEND;TZID=America/Los_Angeles:20260110T150000
DTSTAMP:20260423T160903
CREATED:20251203T024750Z
LAST-MODIFIED:20251203T024750Z
UID:10001671-1768050000-1768057200@mindbodyspirithw.com
SUMMARY:Intentionally Yours
DESCRIPTION:Why wander into the New Year when you can journey there with intention? \nWhat: An experiential workshop to plan your new year \nWhen: Saturday\, January 10\, 2026 from 1pm-3pm \nWhere: Mind\, Body\, Spirit \nInvest $35 for a year’s worth of value \nBecause success happens when opportunity meets preparation.
URL:https://mindbodyspirithw.com/event/intentionally-yours/
LOCATION:Mind Body Spirit Classroom\, 1611 Virginia Ave\, Ste 124\, North Bend\, OR\, 97459\, United States
CATEGORIES:Classes and Workshops
ATTACH;FMTTYPE=image/png:https://mindbodyspirithw.com/wp-content/uploads/2025/12/Intentionally-Yours.png
ORGANIZER;CN="Mind Body Spirit Holistic Wellness":MAILTO:mindbodyspirithw@gmail.com
END:VEVENT
BEGIN:VEVENT
DTSTART;TZID=America/Los_Angeles:20260117T110000
DTEND;TZID=America/Los_Angeles:20260117T113000
DTSTAMP:20260423T160903
CREATED:20251203T023558Z
LAST-MODIFIED:20251203T023558Z
UID:10001609-1768647600-1768649400@mindbodyspirithw.com
SUMMARY:The Enchanted Saturday Series
DESCRIPTION:Step into a world of learning\, healing\, and a little everyday magic.The Enchanted Saturday Series is a weekly free class held every Saturday morning at Mind Body Spirit Holistic Wellness\, designed to introduce you to a wide range of holistic\, spiritual\, and metaphysical practices — all in a warm\, welcoming\, beginner-friendly environment. \nEach Saturday features a new topic\, from essential oils and energy healing to crystals\, meditation\, divination\, seasonal practices\, and more. Whether you’re exploring your spiritual path\, looking to support your well-being\, or simply curious about alternative approaches\, these classes offer a gentle\, accessible way to learn something new. \n✨ Free to attend✨ New topic every week✨ Perfect for beginners✨ No registration required✨ Held inside the Mind Body Spirit classroom \nCome learn\, grow\, and connect with your community — one enchanted Saturday at a time.
URL:https://mindbodyspirithw.com/event/the-enchanted-saturday-series/2026-01-17/
LOCATION:Mind Body Spirit Classroom\, 1611 Virginia Ave\, Ste 124\, North Bend\, OR\, 97459\, United States
CATEGORIES:Classes and Workshops
ATTACH;FMTTYPE=image/png:https://mindbodyspirithw.com/wp-content/uploads/2025/12/The-Enchanted-Saturday-Series.png
ORGANIZER;CN="Mind Body Spirit Holistic Wellness":MAILTO:mindbodyspirithw@gmail.com
END:VEVENT
BEGIN:VEVENT
DTSTART;TZID=America/Los_Angeles:20260131T110000
DTEND;TZID=America/Los_Angeles:20260131T113000
DTSTAMP:20260423T160903
CREATED:20251203T023558Z
LAST-MODIFIED:20251203T023558Z
UID:10001610-1769857200-1769859000@mindbodyspirithw.com
SUMMARY:The Enchanted Saturday Series
DESCRIPTION:Step into a world of learning\, healing\, and a little everyday magic.The Enchanted Saturday Series is a weekly free class held every Saturday morning at Mind Body Spirit Holistic Wellness\, designed to introduce you to a wide range of holistic\, spiritual\, and metaphysical practices — all in a warm\, welcoming\, beginner-friendly environment. \nEach Saturday features a new topic\, from essential oils and energy healing to crystals\, meditation\, divination\, seasonal practices\, and more. Whether you’re exploring your spiritual path\, looking to support your well-being\, or simply curious about alternative approaches\, these classes offer a gentle\, accessible way to learn something new. \n✨ Free to attend✨ New topic every week✨ Perfect for beginners✨ No registration required✨ Held inside the Mind Body Spirit classroom \nCome learn\, grow\, and connect with your community — one enchanted Saturday at a time.
URL:https://mindbodyspirithw.com/event/the-enchanted-saturday-series/2026-01-31/
LOCATION:Mind Body Spirit Classroom\, 1611 Virginia Ave\, Ste 124\, North Bend\, OR\, 97459\, United States
CATEGORIES:Classes and Workshops
ATTACH;FMTTYPE=image/png:https://mindbodyspirithw.com/wp-content/uploads/2025/12/The-Enchanted-Saturday-Series.png
ORGANIZER;CN="Mind Body Spirit Holistic Wellness":MAILTO:mindbodyspirithw@gmail.com
END:VEVENT
END:VCALENDAR