BEGIN:VCALENDAR
VERSION:2.0
PRODID:-//Mind Body Spirit - ECPv6.15.20//NONSGML v1.0//EN
CALSCALE:GREGORIAN
METHOD:PUBLISH
X-WR-CALNAME:Mind Body Spirit
X-ORIGINAL-URL:https://mindbodyspirithw.com
X-WR-CALDESC:Events for Mind Body Spirit
REFRESH-INTERVAL;VALUE=DURATION:PT1H
X-Robots-Tag:noindex
X-PUBLISHED-TTL:PT1H
BEGIN:VTIMEZONE
TZID:America/Los_Angeles
BEGIN:DAYLIGHT
TZOFFSETFROM:-0800
TZOFFSETTO:-0700
TZNAME:PDT
DTSTART:20240310T100000
END:DAYLIGHT
BEGIN:STANDARD
TZOFFSETFROM:-0700
TZOFFSETTO:-0800
TZNAME:PST
DTSTART:20241103T090000
END:STANDARD
BEGIN:DAYLIGHT
TZOFFSETFROM:-0800
TZOFFSETTO:-0700
TZNAME:PDT
DTSTART:20250309T100000
END:DAYLIGHT
BEGIN:STANDARD
TZOFFSETFROM:-0700
TZOFFSETTO:-0800
TZNAME:PST
DTSTART:20251102T090000
END:STANDARD
BEGIN:DAYLIGHT
TZOFFSETFROM:-0800
TZOFFSETTO:-0700
TZNAME:PDT
DTSTART:20260308T100000
END:DAYLIGHT
BEGIN:STANDARD
TZOFFSETFROM:-0700
TZOFFSETTO:-0800
TZNAME:PST
DTSTART:20261101T090000
END:STANDARD
END:VTIMEZONE
BEGIN:VEVENT
DTSTART;TZID=America/Los_Angeles:20251104T180000
DTEND;TZID=America/Los_Angeles:20251104T190000
DTSTAMP:20260423T160645
CREATED:20251026T231935Z
LAST-MODIFIED:20251104T211755Z
UID:10001403-1762279200-1762282800@mindbodyspirithw.com
SUMMARY:Holiday Bath Salt Ornament Workshop
DESCRIPTION:Holiday Bath Salt Ornament WorkshopTuesday\, November 4th at 6:00 PMCost: $20 per person \nJoin us for a cozy\, creative evening as we blend relaxation and holiday cheer! In this hands-on workshop\, you’ll create your own holiday bath salt ornaments. These beautiful\, fragrant decorations double as soothing self-care gifts. Learn about the properties of different herbs and essential oils while customizing your blends to suit your needs for stress relief\, grounding\, or festive rejuvenation. \nAll supplies are included\, and no experience is necessary. Perfect for gift-giving or keeping for your own seasonal self-care ritual! \nSpace is limited\, so pre-registration is encouraged.
URL:https://mindbodyspirithw.com/event/holiday-bath-salt-ornament-workshop/2025-11-04/
LOCATION:Mind Body Spirit Classroom\, 1611 Virginia Ave\, Ste 124\, North Bend\, OR\, 97459\, United States
CATEGORIES:Classes and Workshops
ATTACH;FMTTYPE=image/png:https://mindbodyspirithw.com/wp-content/uploads/2025/10/Bath-Salt-Workshop.png
ORGANIZER;CN="Mind Body Spirit Holistic Wellness":MAILTO:mindbodyspirithw@gmail.com
END:VEVENT
BEGIN:VEVENT
DTSTART;TZID=America/Los_Angeles:20251108T130000
DTEND;TZID=America/Los_Angeles:20251108T143000
DTSTAMP:20260423T160645
CREATED:20251024T234650Z
LAST-MODIFIED:20251024T234650Z
UID:10001401-1762606800-1762612200@mindbodyspirithw.com
SUMMARY:Holiday Turkey Wing Broom Workshop
DESCRIPTION:Sweep in the season with intention and creativity! In this hands-on workshop\, you’ll craft your very own Turkey Wing Broom—a traditional tool used for cleansing\, protection\, and ritual work. Guided by gentle instruction\, you’ll learn about the history and symbolism behind broom making as you create a piece that’s both beautiful and deeply personal. \nAll materials will be provided for making your Turkey Wing Broom. You’re welcome to bring your own charms or adornments if you’d like to personalize your broom with a touch of your own magic. \nSpace is limited\, so reserve your spot early and join us for an afternoon of creativity\, community\, and a bit of old-world charm.
URL:https://mindbodyspirithw.com/event/holiday-turkey-wing-broom-workshop/
LOCATION:Mind Body Spirit Classroom\, 1611 Virginia Ave\, Ste 124\, North Bend\, OR\, 97459\, United States
CATEGORIES:Classes and Workshops
ATTACH;FMTTYPE=image/png:https://mindbodyspirithw.com/wp-content/uploads/2025/10/Turkey-Wing-Cover.png
ORGANIZER;CN="Mind Body Spirit Holistic Wellness":MAILTO:mindbodyspirithw@gmail.com
END:VEVENT
BEGIN:VEVENT
DTSTART;TZID=America/Los_Angeles:20251113T180000
DTEND;TZID=America/Los_Angeles:20251113T193000
DTSTAMP:20260423T160645
CREATED:20251026T234909Z
LAST-MODIFIED:20251104T211620Z
UID:10001426-1763056800-1763062200@mindbodyspirithw.com
SUMMARY:Astrology for Beginners
DESCRIPTION:Have you ever wondered what your birth chart says about you? Join us for this enlightening two-part series designed to introduce you to the fascinating world of astrology! \nIn these beginner-friendly classes\, you’ll learn about the Houses\, Signs\, Planets\, and Aspects. These are essential building blocks of every natal chart. We’ll explore how each element influences personality\, relationships\, and life paths\, helping you begin to interpret your own chart with confidence and curiosity. \nNo prior experience is needed—just an open mind and a desire to explore the cosmic connections that shape your story. \n  \nPlease be sure to bring your star chart to our Astrology for Beginners class.  “Link” will be sent once you reserve your spot.
URL:https://mindbodyspirithw.com/event/astrology-for-beginners/2025-11-13/
LOCATION:Mind Body Spirit Classroom\, 1611 Virginia Ave\, Ste 124\, North Bend\, OR\, 97459\, United States
CATEGORIES:Classes and Workshops
ATTACH;FMTTYPE=image/png:https://mindbodyspirithw.com/wp-content/uploads/2025/10/Beginner-Astrology-Instagram-Post-1.png
ORGANIZER;CN="Mind Body Spirit Holistic Wellness":MAILTO:mindbodyspirithw@gmail.com
END:VEVENT
BEGIN:VEVENT
DTSTART;TZID=America/Los_Angeles:20251115T130000
DTEND;TZID=America/Los_Angeles:20251115T143000
DTSTAMP:20260423T160645
CREATED:20251026T231935Z
LAST-MODIFIED:20251104T211755Z
UID:10001428-1763211600-1763217000@mindbodyspirithw.com
SUMMARY:Holiday Bath Salt Ornament Workshop
DESCRIPTION:Holiday Bath Salt Ornament WorkshopTuesday\, November 4th at 6:00 PMCost: $20 per person \nJoin us for a cozy\, creative evening as we blend relaxation and holiday cheer! In this hands-on workshop\, you’ll create your own holiday bath salt ornaments. These beautiful\, fragrant decorations double as soothing self-care gifts. Learn about the properties of different herbs and essential oils while customizing your blends to suit your needs for stress relief\, grounding\, or festive rejuvenation. \nAll supplies are included\, and no experience is necessary. Perfect for gift-giving or keeping for your own seasonal self-care ritual! \nSpace is limited\, so pre-registration is encouraged.
URL:https://mindbodyspirithw.com/event/holiday-bath-salt-ornament-workshop/2025-11-15/
LOCATION:Mind Body Spirit Classroom\, 1611 Virginia Ave\, Ste 124\, North Bend\, OR\, 97459\, United States
CATEGORIES:Classes and Workshops
ATTACH;FMTTYPE=image/png:https://mindbodyspirithw.com/wp-content/uploads/2025/10/Bath-Salt-Workshop.png
ORGANIZER;CN="Mind Body Spirit Holistic Wellness":MAILTO:mindbodyspirithw@gmail.com
END:VEVENT
END:VCALENDAR