BEGIN:VCALENDAR
VERSION:2.0
PRODID:-//Mind Body Spirit - ECPv6.15.20//NONSGML v1.0//EN
CALSCALE:GREGORIAN
METHOD:PUBLISH
X-WR-CALNAME:Mind Body Spirit
X-ORIGINAL-URL:https://mindbodyspirithw.com
X-WR-CALDESC:Events for Mind Body Spirit
REFRESH-INTERVAL;VALUE=DURATION:PT1H
X-Robots-Tag:noindex
X-PUBLISHED-TTL:PT1H
BEGIN:VTIMEZONE
TZID:America/Los_Angeles
BEGIN:DAYLIGHT
TZOFFSETFROM:-0800
TZOFFSETTO:-0700
TZNAME:PDT
DTSTART:20240310T100000
END:DAYLIGHT
BEGIN:STANDARD
TZOFFSETFROM:-0700
TZOFFSETTO:-0800
TZNAME:PST
DTSTART:20241103T090000
END:STANDARD
BEGIN:DAYLIGHT
TZOFFSETFROM:-0800
TZOFFSETTO:-0700
TZNAME:PDT
DTSTART:20250309T100000
END:DAYLIGHT
BEGIN:STANDARD
TZOFFSETFROM:-0700
TZOFFSETTO:-0800
TZNAME:PST
DTSTART:20251102T090000
END:STANDARD
BEGIN:DAYLIGHT
TZOFFSETFROM:-0800
TZOFFSETTO:-0700
TZNAME:PDT
DTSTART:20260308T100000
END:DAYLIGHT
BEGIN:STANDARD
TZOFFSETFROM:-0700
TZOFFSETTO:-0800
TZNAME:PST
DTSTART:20261101T090000
END:STANDARD
END:VTIMEZONE
BEGIN:VEVENT
DTSTART;TZID=America/Los_Angeles:20250712T130000
DTEND;TZID=America/Los_Angeles:20250712T150000
DTSTAMP:20260424T002840
CREATED:20250624T221548Z
LAST-MODIFIED:20250624T223231Z
UID:10001335-1752325200-1752332400@mindbodyspirithw.com
SUMMARY:Needle Tatting with Beads
DESCRIPTION:🧵 Discover the Art of Needle Tatting! 🧵 \nJoin us for a relaxing and creative Needle Tatting with Beads Class with Sue! Learn this beautiful and delicate craft and leave with the skills to create intricate lace designs. \n💰 Cost: $25 per person (supplies included) \nThis hands-on class is perfect for beginners or anyone looking to explore a timeless craft. Space is limited (only 6 spots for this class)\, so reserve your spot today! \n📞 Call us at 541-751-3307 \n📧 Email us at mindbodyspirithw@gmail.com \n📍 Visit us at 1611 Virginia Avenue\, Suite 124\, North Bend\, OR 97459 \n#MindBodySpirit #HolisticWellness #NeedleTatting #CreativeWellness #HandmadeArt
URL:https://mindbodyspirithw.com/event/needle-tatting-with-beads-2/
LOCATION:Mind Body Spirit Classroom\, 1611 Virginia Ave\, Ste 124\, North Bend\, OR\, 97459\, United States
CATEGORIES:Classes and Workshops
ATTACH;FMTTYPE=image/png:https://mindbodyspirithw.com/wp-content/uploads/2025/06/needle-tatting-with-beads-Facebook-Cover.png
ORGANIZER;CN="Mind Body Spirit Holistic Wellness":MAILTO:mindbodyspirithw@gmail.com
END:VEVENT
BEGIN:VEVENT
DTSTART;TZID=America/Los_Angeles:20250717T180000
DTEND;TZID=America/Los_Angeles:20250717T200000
DTSTAMP:20260424T002840
CREATED:20250701T222654Z
LAST-MODIFIED:20250705T234025Z
UID:10001336-1752775200-1752782400@mindbodyspirithw.com
SUMMARY:Beginning Metaphysical Class
DESCRIPTION:Information coming soon!!! \n$25 per class
URL:https://mindbodyspirithw.com/event/beginning-metaphysical-class/
LOCATION:Mind Body Spirit Classroom\, 1611 Virginia Ave\, Ste 124\, North Bend\, OR\, 97459\, United States
CATEGORIES:Classes and Workshops
ATTACH;FMTTYPE=image/png:https://mindbodyspirithw.com/wp-content/uploads/2025/07/Metaphysical-Basics-Instagram-Post.png
ORGANIZER;CN="Mind Body Spirit Holistic Wellness":MAILTO:mindbodyspirithw@gmail.com
END:VEVENT
BEGIN:VEVENT
DTSTART;TZID=America/Los_Angeles:20250718T180000
DTEND;TZID=America/Los_Angeles:20250718T200000
DTSTAMP:20260424T002840
CREATED:20240725T232223Z
LAST-MODIFIED:20240821T175837Z
UID:10000533-1752861600-1752868800@mindbodyspirithw.com
SUMMARY:Crow Party
DESCRIPTION:🖤✨ Join Our Monthly Crow Party! ✨🖤 \nEmbrace the mystery and magic at Mind Body Spirit Holistic Wellness’ Crow Party! Come dressed in black and trade trinkets with fellow enthusiasts. We meet on the third Friday of each month at 6pm for a night of fun\, connection\, and creativity. \nEach month\, trinkets are themed and open to your unique interpretation. Bring your favorite items to trade\, share a treat\, or make a donation. It’s a perfect opportunity to meet like-minded individuals and enjoy a night of magical exchanges! \nWe look forward to seeing you at our next Crow Party! \n2024 Themes – \n\nAugust – Parts\nSeptember – Fall/Autumn\nOctober – Samhain/Halloween\nNovember – Thanks\nDecember – Yule/Christmas Ornament exchange to celebrate the season\n\n#MindBodySpirit #HolisticWellness #CrowParty #TrinketTrade #CommunityEvent #MysticalGathering #nationalwellnessmonth
URL:https://mindbodyspirithw.com/event/crow-party/2025-07-18/
LOCATION:Mind Body Spirit Classroom\, 1611 Virginia Ave\, Ste 124\, North Bend\, OR\, 97459\, United States
CATEGORIES:Classes and Workshops,Meetup
ATTACH;FMTTYPE=image/png:https://mindbodyspirithw.com/wp-content/uploads/2024/06/Crow-Party.png
ORGANIZER;CN="Mind Body Spirit Holistic Wellness":MAILTO:mindbodyspirithw@gmail.com
END:VEVENT
BEGIN:VEVENT
DTSTART;TZID=America/Los_Angeles:20250724T180000
DTEND;TZID=America/Los_Angeles:20250724T200000
DTSTAMP:20260424T002840
CREATED:20250722T211437Z
LAST-MODIFIED:20250722T213529Z
UID:10001337-1753380000-1753387200@mindbodyspirithw.com
SUMMARY:Beginning Metaphysics
DESCRIPTION:How do you “know”? Meet the “Clairs” – Your intuitive messengers\nMany of us are familiar with Clairvoyance (the ability to perceive things in images) and\nClairaudience (the ability to receive information through hearing). Did you know there\nare six additional “Clairs”? In this class\, you will meet each of the Clairs and will have a\nchance to explore which ones work best for you. You may find\, as others have\, that you\nhave been receiving messages through avenues you haven’t yet recognized. \nThis class is the second in a 3-part series\, July 24th @6pm. Each class may be taken separately\, but is\nbest as a series. We suggest you bring a notebook and a writing instrument. Be\nprepared to capture new information and the inevitable “aha’s”. \n$25 per class/per person
URL:https://mindbodyspirithw.com/event/beginning-metaphysical-class-2-2/
LOCATION:Mind Body Spirit Classroom\, 1611 Virginia Ave\, Ste 124\, North Bend\, OR\, 97459\, United States
CATEGORIES:Classes and Workshops
ATTACH;FMTTYPE=image/png:https://mindbodyspirithw.com/wp-content/uploads/2025/07/Metaphysical-Basics-Instagram-Post.png
ORGANIZER;CN="Mind Body Spirit Holistic Wellness":MAILTO:mindbodyspirithw@gmail.com
END:VEVENT
BEGIN:VEVENT
DTSTART;TZID=America/Los_Angeles:20250729T180000
DTEND;TZID=America/Los_Angeles:20250729T190000
DTSTAMP:20260424T002840
CREATED:20250722T215946Z
LAST-MODIFIED:20250722T220912Z
UID:10001394-1753812000-1753815600@mindbodyspirithw.com
SUMMARY:Beginner Pendulum
DESCRIPTION:Discover the world of pendulums with our Beginner Pendulum Class. This comprehensive class is designed to equip you with the knowledge and skills needed to harness the power of pendulums effectively. Whether you are a beginner or have some experience\, this class will provide you with valuable insights on how to use pendulums\, how to take care of them\, and how to choose the right one for your needs.\n\nKey features of our Beginner Pendulum Class include:\n• How to use: Learn the fundamental techniques and methods for working with pendulums. Explore different ways to ask questions\, interpret responses\, and gain clarity in various aspects of your life.\n• How to take care of: Understand the importance of energetically cleansing and charging your pendulum. Discover simple yet effective methods to maintain the optimal energy flow and connection with your pendulum.\n• How to choose: Uncover the secrets to selecting the perfect pendulum that resonates with your energy and intentions. Gain insights into different materials\, shapes\, and designs to find the ideal pendulum for your personal practice.\n\nEnroll in our Beginner Pendulum Class today and unlock the potential of this remarkable divination tool. Whether you seek guidance\, self-discovery\, or spiritual growth\, our class will empower you to tap into the wisdom and intuition that lie within. Join us on this enlightening journey and enhance your connection with the universe.
URL:https://mindbodyspirithw.com/event/beginner-pendulum/
LOCATION:Mind Body Spirit Classroom\, 1611 Virginia Ave\, Ste 124\, North Bend\, OR\, 97459\, United States
CATEGORIES:Classes and Workshops
ATTACH;FMTTYPE=image/png:https://mindbodyspirithw.com/wp-content/uploads/2025/07/Beginner-Pendulum-4.25-x-5.5-in.png
ORGANIZER;CN="Mind Body Spirit Holistic Wellness":MAILTO:mindbodyspirithw@gmail.com
END:VEVENT
BEGIN:VEVENT
DTSTART;TZID=America/Los_Angeles:20250731T180000
DTEND;TZID=America/Los_Angeles:20250731T200000
DTSTAMP:20260424T002840
CREATED:20250722T211901Z
LAST-MODIFIED:20250722T215820Z
UID:10001338-1753984800-1753992000@mindbodyspirithw.com
SUMMARY:Beginning Metaphysics Class
DESCRIPTION:Beginning Metaphysics Class #3 \nThe Ethical Metaphysician – Magick\, Manifestation\, and Ethics\n“What goes around\, comes around\,” may become very real for those who do not practice morally and responsibly. There are core principles to keep in mind for the best results. These include intention\, consent\, harming none\, Karmic consequences\, and situational contexts. This class will explore these principles\, emphasizing personal reflection and establishing personal boundaries for the conscious and responsible practitioner. \nThis beginning metaphysics class is the third in a three-part series on July 31st at 6 pm. Each class may be taken separately\, but is best as a series. We recommend bringing a notebook and a writing instrument. Be prepared to capture new information and the inevitable “aha’s”. \nWe require all attendees to reserve spots in advance. If we do not meet the minimum required attendance by 5pm on Wednesday\, we will have to cancel the class.\n$25 per class/per person
URL:https://mindbodyspirithw.com/event/beginning-metaphysical-class-2-3/
LOCATION:Mind Body Spirit Classroom\, 1611 Virginia Ave\, Ste 124\, North Bend\, OR\, 97459\, United States
CATEGORIES:Classes and Workshops
ATTACH;FMTTYPE=image/png:https://mindbodyspirithw.com/wp-content/uploads/2025/07/Metaphysical-Basics-Instagram-Post.png
ORGANIZER;CN="Mind Body Spirit Holistic Wellness":MAILTO:mindbodyspirithw@gmail.com
END:VEVENT
END:VCALENDAR