BEGIN:VCALENDAR
VERSION:2.0
PRODID:-//Mind Body Spirit - ECPv6.15.20//NONSGML v1.0//EN
CALSCALE:GREGORIAN
METHOD:PUBLISH
X-ORIGINAL-URL:https://mindbodyspirithw.com
X-WR-CALDESC:Events for Mind Body Spirit
REFRESH-INTERVAL;VALUE=DURATION:PT1H
X-Robots-Tag:noindex
X-PUBLISHED-TTL:PT1H
BEGIN:VTIMEZONE
TZID:America/Los_Angeles
BEGIN:DAYLIGHT
TZOFFSETFROM:-0800
TZOFFSETTO:-0700
TZNAME:PDT
DTSTART:20240310T100000
END:DAYLIGHT
BEGIN:STANDARD
TZOFFSETFROM:-0700
TZOFFSETTO:-0800
TZNAME:PST
DTSTART:20241103T090000
END:STANDARD
BEGIN:DAYLIGHT
TZOFFSETFROM:-0800
TZOFFSETTO:-0700
TZNAME:PDT
DTSTART:20250309T100000
END:DAYLIGHT
BEGIN:STANDARD
TZOFFSETFROM:-0700
TZOFFSETTO:-0800
TZNAME:PST
DTSTART:20251102T090000
END:STANDARD
BEGIN:DAYLIGHT
TZOFFSETFROM:-0800
TZOFFSETTO:-0700
TZNAME:PDT
DTSTART:20260308T100000
END:DAYLIGHT
BEGIN:STANDARD
TZOFFSETFROM:-0700
TZOFFSETTO:-0800
TZNAME:PST
DTSTART:20261101T090000
END:STANDARD
END:VTIMEZONE
BEGIN:VEVENT
DTSTART;TZID=America/Los_Angeles:20250502T180000
DTEND;TZID=America/Los_Angeles:20250502T200000
DTSTAMP:20260424T045213
CREATED:20250126T014505Z
LAST-MODIFIED:20250319T210611Z
UID:10001242-1746208800-1746216000@mindbodyspirithw.com
SUMMARY:Call Yourself Home
DESCRIPTION:Call Yourself Home \n🌸 Self-Love & Detox Workshop 🌸 \n⏰ Time: 6:00 PM\n💰 Cost: $40\n📍 Location: Mind Body Spirit Holistic Wellness\, 1611 Virginia Avenue\, Suite 124\, North Bend\, OR \nI am thrilled to invite you to my next workshop\, all about self-love and detox! Together\, we’ll explore holistic ways to:\n💖 Release old thoughts and sticky emotions\n🌿 Detoxify the body and clear the heart’s arcline\n✨ Simplify your health\, reduce stress\, and embrace love and acceptance \nThis workshop includes:\n🎁 A gift package (valued at the cost of the workshop!) with everything you need for a daily pampering routine free of plastics\, artificial fragrances\, and hormone-disrupting chemicals\n🌸 Somatic practices to support lymphatic health and holistic well-being \nSpace is limited\, so don’t miss your chance to nurture your mind\, body\, and soul with a midwinter pick-me-up that will last a lifetime. \n✨ Reserve your spot today! \n#MindBodySpirit #HolisticWellness #SelfLove #MidwinterHealing
URL:https://mindbodyspirithw.com/event/call-yourself-home/
LOCATION:Mind Body Spirit Classroom\, 1611 Virginia Ave\, Ste 124\, North Bend\, OR\, 97459\, United States
CATEGORIES:Classes and Workshops
ATTACH;FMTTYPE=image/jpeg:https://mindbodyspirithw.com/wp-content/uploads/2025/01/Call-Yourself-Home-1.jpg
ORGANIZER;CN="Mind Body Spirit Holistic Wellness":MAILTO:mindbodyspirithw@gmail.com
END:VEVENT
BEGIN:VEVENT
DTSTART;TZID=America/Los_Angeles:20250507T180000
DTEND;TZID=America/Los_Angeles:20250507T200000
DTSTAMP:20260424T045213
CREATED:20250319T223326Z
LAST-MODIFIED:20250319T223326Z
UID:10001326-1746640800-1746648000@mindbodyspirithw.com
SUMMARY:Kitchen Witchery
DESCRIPTION:🍽️✨ Explore the Magic of Taste! ✨🍽️\nJoin us for a fascinating series on the five tastes: sweet\, salty\, sour\, bitter\, and umami. Discover how these tastes can enhance your daily witchcraft practice. \nEach class includes:\n🔮 A hands-on activity with a take-home element\n🍴 A snack relevant to the topic \n🌟 Don’t forget to let Dorine know at least three days in advance if you have allergies or dietary restrictions. \nFebruary 5th – Sweet \nMarch 5th – Salty \nApril 10th – Sour \nMay 7th – Bitter \nJune TBD – Umami \nSpaces are limited—reserve your spot today! Future class dates to be announced. \n#MindBodySpirit #HolisticWellness #DailyWitchcraft #TasteMagic
URL:https://mindbodyspirithw.com/event/kitchen-witchery-4/
LOCATION:Mind Body Spirit Classroom\, 1611 Virginia Ave\, Ste 124\, North Bend\, OR\, 97459\, United States
CATEGORIES:Classes and Workshops
ATTACH;FMTTYPE=image/png:https://mindbodyspirithw.com/wp-content/uploads/2025/01/Kitchen.png
ORGANIZER;CN="Mind Body Spirit Holistic Wellness":MAILTO:mindbodyspirithw@gmail.com
END:VEVENT
BEGIN:VEVENT
DTSTART;TZID=America/Los_Angeles:20250513T180000
DTEND;TZID=America/Los_Angeles:20250513T193000
DTSTAMP:20260424T045213
CREATED:20250319T223946Z
LAST-MODIFIED:20250319T223946Z
UID:10001327-1747159200-1747164600@mindbodyspirithw.com
SUMMARY:Pendulum 101
DESCRIPTION:Discover the world of pendulums with our Pendulum 101 Class. This comprehensive class is designed to equip you with the knowledge and skills needed to harness the power of pendulums. Whether you are a beginner or have some experience\, this class will provide you with valuable insights on how to use pendulums\, how to take care of them\, and how to choose the right one for your needs.\n\nKey features of our Pendulum Basics Class include:\n• How to use: Learn the fundamental techniques and methods for working with pendulums. Explore different ways to ask questions\, interpret responses\, and gain clarity in various aspects of your life.\n\nEnroll in our Pendulum 101 Class today and unlock the potential of this remarkable divination tool. Whether you seek guidance\, self-discovery\, or spiritual growth\, our class will empower you to tap into the wisdom and intuition that lie within. Join us on this enlightening journey and enhance your connection with the universe.
URL:https://mindbodyspirithw.com/event/pendulum-101/
LOCATION:Mind Body Spirit Classroom\, 1611 Virginia Ave\, Ste 124\, North Bend\, OR\, 97459\, United States
CATEGORIES:Classes and Workshops
ATTACH;FMTTYPE=image/png:https://mindbodyspirithw.com/wp-content/uploads/2024/06/Pendulum-Workshop.png
ORGANIZER;CN="Mind Body Spirit Holistic Wellness":MAILTO:mindbodyspirithw@gmail.com
END:VEVENT
BEGIN:VEVENT
DTSTART;TZID=America/Los_Angeles:20250516T180000
DTEND;TZID=America/Los_Angeles:20250516T200000
DTSTAMP:20260424T045213
CREATED:20240725T232223Z
LAST-MODIFIED:20240821T175837Z
UID:10000531-1747418400-1747425600@mindbodyspirithw.com
SUMMARY:Crow Party
DESCRIPTION:🖤✨ Join Our Monthly Crow Party! ✨🖤 \nEmbrace the mystery and magic at Mind Body Spirit Holistic Wellness’ Crow Party! Come dressed in black and trade trinkets with fellow enthusiasts. We meet on the third Friday of each month at 6pm for a night of fun\, connection\, and creativity. \nEach month\, trinkets are themed and open to your unique interpretation. Bring your favorite items to trade\, share a treat\, or make a donation. It’s a perfect opportunity to meet like-minded individuals and enjoy a night of magical exchanges! \nWe look forward to seeing you at our next Crow Party! \n2024 Themes – \n\nAugust – Parts\nSeptember – Fall/Autumn\nOctober – Samhain/Halloween\nNovember – Thanks\nDecember – Yule/Christmas Ornament exchange to celebrate the season\n\n#MindBodySpirit #HolisticWellness #CrowParty #TrinketTrade #CommunityEvent #MysticalGathering #nationalwellnessmonth
URL:https://mindbodyspirithw.com/event/crow-party/2025-05-16/
LOCATION:Mind Body Spirit Classroom\, 1611 Virginia Ave\, Ste 124\, North Bend\, OR\, 97459\, United States
CATEGORIES:Classes and Workshops,Meetup
ATTACH;FMTTYPE=image/png:https://mindbodyspirithw.com/wp-content/uploads/2024/06/Crow-Party.png
ORGANIZER;CN="Mind Body Spirit Holistic Wellness":MAILTO:mindbodyspirithw@gmail.com
END:VEVENT
END:VCALENDAR