BEGIN:VCALENDAR
VERSION:2.0
PRODID:-//Mind Body Spirit - ECPv6.15.20//NONSGML v1.0//EN
CALSCALE:GREGORIAN
METHOD:PUBLISH
X-ORIGINAL-URL:https://mindbodyspirithw.com
X-WR-CALDESC:Events for Mind Body Spirit
REFRESH-INTERVAL;VALUE=DURATION:PT1H
X-Robots-Tag:noindex
X-PUBLISHED-TTL:PT1H
BEGIN:VTIMEZONE
TZID:UTC
BEGIN:STANDARD
TZOFFSETFROM:+0000
TZOFFSETTO:+0000
TZNAME:UTC
DTSTART:20230101T000000
END:STANDARD
END:VTIMEZONE
BEGIN:VTIMEZONE
TZID:America/Los_Angeles
BEGIN:DAYLIGHT
TZOFFSETFROM:-0800
TZOFFSETTO:-0700
TZNAME:PDT
DTSTART:20230312T100000
END:DAYLIGHT
BEGIN:STANDARD
TZOFFSETFROM:-0700
TZOFFSETTO:-0800
TZNAME:PST
DTSTART:20231105T090000
END:STANDARD
BEGIN:DAYLIGHT
TZOFFSETFROM:-0800
TZOFFSETTO:-0700
TZNAME:PDT
DTSTART:20240310T100000
END:DAYLIGHT
BEGIN:STANDARD
TZOFFSETFROM:-0700
TZOFFSETTO:-0800
TZNAME:PST
DTSTART:20241103T090000
END:STANDARD
BEGIN:DAYLIGHT
TZOFFSETFROM:-0800
TZOFFSETTO:-0700
TZNAME:PDT
DTSTART:20250309T100000
END:DAYLIGHT
BEGIN:STANDARD
TZOFFSETFROM:-0700
TZOFFSETTO:-0800
TZNAME:PST
DTSTART:20251102T090000
END:STANDARD
END:VTIMEZONE
BEGIN:VEVENT
DTSTART;TZID=UTC:20240113T110000
DTEND;TZID=UTC:20240113T130000
DTSTAMP:20260425T070542
CREATED:20240112T130316Z
LAST-MODIFIED:20241228T210644Z
UID:10000002-1705143600-1705150800@mindbodyspirithw.com
SUMMARY:Vision Boards Workshop
DESCRIPTION:
URL:https://mindbodyspirithw.com/event/vision-boards-workshop/
LOCATION:Mind Body Spirit Classroom\, 1611 Virginia Ave\, Ste 124\, North Bend\, OR\, 97459\, United States
CATEGORIES:Classes and Workshops
ORGANIZER;CN="Mind Body Spirit Holistic Wellness":MAILTO:mindbodyspirithw@gmail.com
END:VEVENT
BEGIN:VEVENT
DTSTART;TZID=America/Los_Angeles:20240125T183000
DTEND;TZID=America/Los_Angeles:20240125T193000
DTSTAMP:20260425T070542
CREATED:20240112T013023Z
LAST-MODIFIED:20241228T210711Z
UID:10000001-1706207400-1706211000@mindbodyspirithw.com
SUMMARY:Wellness Group
DESCRIPTION:This is a small group designed to be group run. There is a moderator present who keeps the group on topic and flowing. Each week we discuss a new wellness topic\, ranging from alternative therapies to mental health. \nThis week’s topic is Mental Health and while it is a broad topic\, following weeks will be more focused on specific areas of mental health. We hope to see you at our next wellness group. \nRSVP here
URL:https://mindbodyspirithw.com/event/wellness-group/
LOCATION:Mind Body Spirit Classroom\, 1611 Virginia Ave\, Ste 124\, North Bend\, OR\, 97459\, United States
CATEGORIES:Classes and Workshops
ORGANIZER;CN="Mind Body Spirit Holistic Wellness":MAILTO:mindbodyspirithw@gmail.com
END:VEVENT
BEGIN:VEVENT
DTSTART;TZID=America/Los_Angeles:20240130T180000
DTEND;TZID=America/Los_Angeles:20240130T200000
DTSTAMP:20260425T070542
CREATED:20240123T042931Z
LAST-MODIFIED:20241228T205526Z
UID:10000005-1706637600-1706644800@mindbodyspirithw.com
SUMMARY:Energy Medicine Class
DESCRIPTION:Join Lightsong as she teaches simple protocols that can be self-performed. \nCost is a $20 investment in your health.
URL:https://mindbodyspirithw.com/event/energy-medicine-class/
LOCATION:Mind Body Spirit Classroom\, 1611 Virginia Ave\, Ste 124\, North Bend\, OR\, 97459\, United States
CATEGORIES:Classes and Workshops
END:VEVENT
END:VCALENDAR