BEGIN:VCALENDAR
VERSION:2.0
PRODID:-//Mind Body Spirit - ECPv6.15.20//NONSGML v1.0//EN
CALSCALE:GREGORIAN
METHOD:PUBLISH
X-ORIGINAL-URL:https://mindbodyspirithw.com
X-WR-CALDESC:Events for Mind Body Spirit
REFRESH-INTERVAL;VALUE=DURATION:PT1H
X-Robots-Tag:noindex
X-PUBLISHED-TTL:PT1H
BEGIN:VTIMEZONE
TZID:America/Los_Angeles
BEGIN:DAYLIGHT
TZOFFSETFROM:-0800
TZOFFSETTO:-0700
TZNAME:PDT
DTSTART:20240310T100000
END:DAYLIGHT
BEGIN:STANDARD
TZOFFSETFROM:-0700
TZOFFSETTO:-0800
TZNAME:PST
DTSTART:20241103T090000
END:STANDARD
BEGIN:DAYLIGHT
TZOFFSETFROM:-0800
TZOFFSETTO:-0700
TZNAME:PDT
DTSTART:20250309T100000
END:DAYLIGHT
BEGIN:STANDARD
TZOFFSETFROM:-0700
TZOFFSETTO:-0800
TZNAME:PST
DTSTART:20251102T090000
END:STANDARD
BEGIN:DAYLIGHT
TZOFFSETFROM:-0800
TZOFFSETTO:-0700
TZNAME:PDT
DTSTART:20260308T100000
END:DAYLIGHT
BEGIN:STANDARD
TZOFFSETFROM:-0700
TZOFFSETTO:-0800
TZNAME:PST
DTSTART:20261101T090000
END:STANDARD
BEGIN:DAYLIGHT
TZOFFSETFROM:-0800
TZOFFSETTO:-0700
TZNAME:PDT
DTSTART:20270314T100000
END:DAYLIGHT
BEGIN:STANDARD
TZOFFSETFROM:-0700
TZOFFSETTO:-0800
TZNAME:PST
DTSTART:20271107T090000
END:STANDARD
END:VTIMEZONE
BEGIN:VEVENT
DTSTART;TZID=America/Los_Angeles:20260422T180000
DTEND;TZID=America/Los_Angeles:20260422T193000
DTSTAMP:20260423T144835
CREATED:20251203T013145Z
LAST-MODIFIED:20251203T020918Z
UID:10001580-1776880800-1776886200@mindbodyspirithw.com
SUMMARY:The Spirit & Sage Book Circle
DESCRIPTION:📚 The Spirit & Sage Book Circle \nThe Spirit & Sage Book Circle is a welcoming\, inclusive space where we explore spiritual\, mystical\, and holistic-themed books together. \nWe meet on the 2nd and 4th Wednesdays of each month at 6:00 pm\, taking our time to move through one book over the course of two months. This gentle pace gives everyone space to read\, reflect\, and integrate what we’re learning. \nEach gathering invites open-hearted discussion\, personal insight\, and meaningful conversation inspired by the month’s selected read. Whether you’re new on your path or have walked it for years\, this book circle is a place to learn\, share\, and connect with a community of kindred spirits. \nAll are welcome. Come as you are\, and journey with us one chapter at a time.
URL:https://mindbodyspirithw.com/event/the-spirit-sage-book-circle/2026-04-22/
LOCATION:Mind Body Spirit Classroom\, 1611 Virginia Ave\, Ste 124\, North Bend\, OR\, 97459\, United States
CATEGORIES:Book Club
ATTACH;FMTTYPE=image/png:https://mindbodyspirithw.com/wp-content/uploads/2025/11/Spirit-Sage-Book-Circle.png
ORGANIZER;CN="Mind Body Spirit Holistic Wellness":MAILTO:mindbodyspirithw@gmail.com
END:VEVENT
BEGIN:VEVENT
DTSTART;TZID=America/Los_Angeles:20260408T180000
DTEND;TZID=America/Los_Angeles:20260408T193000
DTSTAMP:20260423T144835
CREATED:20251203T013145Z
LAST-MODIFIED:20251203T020918Z
UID:10001579-1775671200-1775676600@mindbodyspirithw.com
SUMMARY:The Spirit & Sage Book Circle
DESCRIPTION:📚 The Spirit & Sage Book Circle \nThe Spirit & Sage Book Circle is a welcoming\, inclusive space where we explore spiritual\, mystical\, and holistic-themed books together. \nWe meet on the 2nd and 4th Wednesdays of each month at 6:00 pm\, taking our time to move through one book over the course of two months. This gentle pace gives everyone space to read\, reflect\, and integrate what we’re learning. \nEach gathering invites open-hearted discussion\, personal insight\, and meaningful conversation inspired by the month’s selected read. Whether you’re new on your path or have walked it for years\, this book circle is a place to learn\, share\, and connect with a community of kindred spirits. \nAll are welcome. Come as you are\, and journey with us one chapter at a time.
URL:https://mindbodyspirithw.com/event/the-spirit-sage-book-circle/2026-04-08/
LOCATION:Mind Body Spirit Classroom\, 1611 Virginia Ave\, Ste 124\, North Bend\, OR\, 97459\, United States
CATEGORIES:Book Club
ATTACH;FMTTYPE=image/png:https://mindbodyspirithw.com/wp-content/uploads/2025/11/Spirit-Sage-Book-Circle.png
ORGANIZER;CN="Mind Body Spirit Holistic Wellness":MAILTO:mindbodyspirithw@gmail.com
END:VEVENT
BEGIN:VEVENT
DTSTART;TZID=America/Los_Angeles:20260325T180000
DTEND;TZID=America/Los_Angeles:20260325T193000
DTSTAMP:20260423T144835
CREATED:20251203T013145Z
LAST-MODIFIED:20251203T020918Z
UID:10001578-1774461600-1774467000@mindbodyspirithw.com
SUMMARY:The Spirit & Sage Book Circle
DESCRIPTION:📚 The Spirit & Sage Book Circle \nThe Spirit & Sage Book Circle is a welcoming\, inclusive space where we explore spiritual\, mystical\, and holistic-themed books together. \nWe meet on the 2nd and 4th Wednesdays of each month at 6:00 pm\, taking our time to move through one book over the course of two months. This gentle pace gives everyone space to read\, reflect\, and integrate what we’re learning. \nEach gathering invites open-hearted discussion\, personal insight\, and meaningful conversation inspired by the month’s selected read. Whether you’re new on your path or have walked it for years\, this book circle is a place to learn\, share\, and connect with a community of kindred spirits. \nAll are welcome. Come as you are\, and journey with us one chapter at a time.
URL:https://mindbodyspirithw.com/event/the-spirit-sage-book-circle/2026-03-25/
LOCATION:Mind Body Spirit Classroom\, 1611 Virginia Ave\, Ste 124\, North Bend\, OR\, 97459\, United States
CATEGORIES:Book Club
ATTACH;FMTTYPE=image/png:https://mindbodyspirithw.com/wp-content/uploads/2025/11/Spirit-Sage-Book-Circle.png
ORGANIZER;CN="Mind Body Spirit Holistic Wellness":MAILTO:mindbodyspirithw@gmail.com
END:VEVENT
BEGIN:VEVENT
DTSTART;TZID=America/Los_Angeles:20260311T180000
DTEND;TZID=America/Los_Angeles:20260311T193000
DTSTAMP:20260423T144835
CREATED:20251203T013145Z
LAST-MODIFIED:20251203T020918Z
UID:10001577-1773252000-1773257400@mindbodyspirithw.com
SUMMARY:The Spirit & Sage Book Circle
DESCRIPTION:📚 The Spirit & Sage Book Circle \nThe Spirit & Sage Book Circle is a welcoming\, inclusive space where we explore spiritual\, mystical\, and holistic-themed books together. \nWe meet on the 2nd and 4th Wednesdays of each month at 6:00 pm\, taking our time to move through one book over the course of two months. This gentle pace gives everyone space to read\, reflect\, and integrate what we’re learning. \nEach gathering invites open-hearted discussion\, personal insight\, and meaningful conversation inspired by the month’s selected read. Whether you’re new on your path or have walked it for years\, this book circle is a place to learn\, share\, and connect with a community of kindred spirits. \nAll are welcome. Come as you are\, and journey with us one chapter at a time.
URL:https://mindbodyspirithw.com/event/the-spirit-sage-book-circle/2026-03-11/
LOCATION:Mind Body Spirit Classroom\, 1611 Virginia Ave\, Ste 124\, North Bend\, OR\, 97459\, United States
CATEGORIES:Book Club
ATTACH;FMTTYPE=image/png:https://mindbodyspirithw.com/wp-content/uploads/2025/11/Spirit-Sage-Book-Circle.png
ORGANIZER;CN="Mind Body Spirit Holistic Wellness":MAILTO:mindbodyspirithw@gmail.com
END:VEVENT
BEGIN:VEVENT
DTSTART;TZID=America/Los_Angeles:20260225T180000
DTEND;TZID=America/Los_Angeles:20260225T193000
DTSTAMP:20260423T144835
CREATED:20251203T013145Z
LAST-MODIFIED:20251203T020918Z
UID:10001576-1772042400-1772047800@mindbodyspirithw.com
SUMMARY:The Spirit & Sage Book Circle
DESCRIPTION:📚 The Spirit & Sage Book Circle \nThe Spirit & Sage Book Circle is a welcoming\, inclusive space where we explore spiritual\, mystical\, and holistic-themed books together. \nWe meet on the 2nd and 4th Wednesdays of each month at 6:00 pm\, taking our time to move through one book over the course of two months. This gentle pace gives everyone space to read\, reflect\, and integrate what we’re learning. \nEach gathering invites open-hearted discussion\, personal insight\, and meaningful conversation inspired by the month’s selected read. Whether you’re new on your path or have walked it for years\, this book circle is a place to learn\, share\, and connect with a community of kindred spirits. \nAll are welcome. Come as you are\, and journey with us one chapter at a time.
URL:https://mindbodyspirithw.com/event/the-spirit-sage-book-circle/2026-02-25/
LOCATION:Mind Body Spirit Classroom\, 1611 Virginia Ave\, Ste 124\, North Bend\, OR\, 97459\, United States
CATEGORIES:Book Club
ATTACH;FMTTYPE=image/png:https://mindbodyspirithw.com/wp-content/uploads/2025/11/Spirit-Sage-Book-Circle.png
ORGANIZER;CN="Mind Body Spirit Holistic Wellness":MAILTO:mindbodyspirithw@gmail.com
END:VEVENT
BEGIN:VEVENT
DTSTART;TZID=America/Los_Angeles:20260211T180000
DTEND;TZID=America/Los_Angeles:20260211T193000
DTSTAMP:20260423T144835
CREATED:20251203T013145Z
LAST-MODIFIED:20251203T020918Z
UID:10001575-1770832800-1770838200@mindbodyspirithw.com
SUMMARY:The Spirit & Sage Book Circle
DESCRIPTION:📚 The Spirit & Sage Book Circle \nThe Spirit & Sage Book Circle is a welcoming\, inclusive space where we explore spiritual\, mystical\, and holistic-themed books together. \nWe meet on the 2nd and 4th Wednesdays of each month at 6:00 pm\, taking our time to move through one book over the course of two months. This gentle pace gives everyone space to read\, reflect\, and integrate what we’re learning. \nEach gathering invites open-hearted discussion\, personal insight\, and meaningful conversation inspired by the month’s selected read. Whether you’re new on your path or have walked it for years\, this book circle is a place to learn\, share\, and connect with a community of kindred spirits. \nAll are welcome. Come as you are\, and journey with us one chapter at a time.
URL:https://mindbodyspirithw.com/event/the-spirit-sage-book-circle/2026-02-11/
LOCATION:Mind Body Spirit Classroom\, 1611 Virginia Ave\, Ste 124\, North Bend\, OR\, 97459\, United States
CATEGORIES:Book Club
ATTACH;FMTTYPE=image/png:https://mindbodyspirithw.com/wp-content/uploads/2025/11/Spirit-Sage-Book-Circle.png
ORGANIZER;CN="Mind Body Spirit Holistic Wellness":MAILTO:mindbodyspirithw@gmail.com
END:VEVENT
BEGIN:VEVENT
DTSTART;TZID=America/Los_Angeles:20260128T180000
DTEND;TZID=America/Los_Angeles:20260128T193000
DTSTAMP:20260423T144835
CREATED:20251203T013145Z
LAST-MODIFIED:20251203T020918Z
UID:10001574-1769623200-1769628600@mindbodyspirithw.com
SUMMARY:The Spirit & Sage Book Circle
DESCRIPTION:📚 The Spirit & Sage Book Circle \nThe Spirit & Sage Book Circle is a welcoming\, inclusive space where we explore spiritual\, mystical\, and holistic-themed books together. \nWe meet on the 2nd and 4th Wednesdays of each month at 6:00 pm\, taking our time to move through one book over the course of two months. This gentle pace gives everyone space to read\, reflect\, and integrate what we’re learning. \nEach gathering invites open-hearted discussion\, personal insight\, and meaningful conversation inspired by the month’s selected read. Whether you’re new on your path or have walked it for years\, this book circle is a place to learn\, share\, and connect with a community of kindred spirits. \nAll are welcome. Come as you are\, and journey with us one chapter at a time.
URL:https://mindbodyspirithw.com/event/the-spirit-sage-book-circle/2026-01-28/
LOCATION:Mind Body Spirit Classroom\, 1611 Virginia Ave\, Ste 124\, North Bend\, OR\, 97459\, United States
CATEGORIES:Book Club
ATTACH;FMTTYPE=image/png:https://mindbodyspirithw.com/wp-content/uploads/2025/11/Spirit-Sage-Book-Circle.png
ORGANIZER;CN="Mind Body Spirit Holistic Wellness":MAILTO:mindbodyspirithw@gmail.com
END:VEVENT
BEGIN:VEVENT
DTSTART;TZID=America/Los_Angeles:20260114T180000
DTEND;TZID=America/Los_Angeles:20260114T193000
DTSTAMP:20260423T144835
CREATED:20251203T013145Z
LAST-MODIFIED:20251203T020918Z
UID:10001573-1768413600-1768419000@mindbodyspirithw.com
SUMMARY:The Spirit & Sage Book Circle
DESCRIPTION:📚 The Spirit & Sage Book Circle \nThe Spirit & Sage Book Circle is a welcoming\, inclusive space where we explore spiritual\, mystical\, and holistic-themed books together. \nWe meet on the 2nd and 4th Wednesdays of each month at 6:00 pm\, taking our time to move through one book over the course of two months. This gentle pace gives everyone space to read\, reflect\, and integrate what we’re learning. \nEach gathering invites open-hearted discussion\, personal insight\, and meaningful conversation inspired by the month’s selected read. Whether you’re new on your path or have walked it for years\, this book circle is a place to learn\, share\, and connect with a community of kindred spirits. \nAll are welcome. Come as you are\, and journey with us one chapter at a time.
URL:https://mindbodyspirithw.com/event/the-spirit-sage-book-circle/2026-01-14/
LOCATION:Mind Body Spirit Classroom\, 1611 Virginia Ave\, Ste 124\, North Bend\, OR\, 97459\, United States
CATEGORIES:Book Club
ATTACH;FMTTYPE=image/png:https://mindbodyspirithw.com/wp-content/uploads/2025/11/Spirit-Sage-Book-Circle.png
ORGANIZER;CN="Mind Body Spirit Holistic Wellness":MAILTO:mindbodyspirithw@gmail.com
END:VEVENT
BEGIN:VEVENT
DTSTART;TZID=America/Los_Angeles:20251210T180000
DTEND;TZID=America/Los_Angeles:20251210T193000
DTSTAMP:20260423T144835
CREATED:20251104T213131Z
LAST-MODIFIED:20251201T012654Z
UID:10001486-1765389600-1765395000@mindbodyspirithw.com
SUMMARY:Mind Body Spirit's Book Club
DESCRIPTION:🌟 Join Mind Body Spirit’s Book Club! 📚✨ \nWelcome to Mind Body Spirit’s book club. Dive into the world of knowledge and self-discovery with Mind Body Spirit Holistic Wellness’s Book Club! \n📅 When: 2nd & 4th Wednesday of every month\n📚 Theme: Alternating between metaphysical and holistic wellness books every other month \nOur book club is a space to connect with like-minded souls\, explore fascinating topics\, and expand your mind. Whether you’re a seasoned reader or just beginning your journey\, you’ll find inspiration and community here. \nStay tuned for our first book announcement! \n#MindBodySpirit #HolisticWellness #BookClubVibes #MetaphysicalReads #CommunityConnection
URL:https://mindbodyspirithw.com/event/mind-body-spirits-book-club/2025-12-10/
LOCATION:Mind Body Spirit Classroom\, 1611 Virginia Ave\, Ste 124\, North Bend\, OR\, 97459\, United States
CATEGORIES:Book Club
ATTACH;FMTTYPE=image/png:https://mindbodyspirithw.com/wp-content/uploads/2024/12/Book-Club-1.png
ORGANIZER;CN="Mind Body Spirit Holistic Wellness":MAILTO:mindbodyspirithw@gmail.com
END:VEVENT
END:VCALENDAR