BEGIN:VCALENDAR
VERSION:2.0
PRODID:-//Mind Body Spirit - ECPv6.15.20//NONSGML v1.0//EN
CALSCALE:GREGORIAN
METHOD:PUBLISH
X-WR-CALNAME:Mind Body Spirit
X-ORIGINAL-URL:https://mindbodyspirithw.com
X-WR-CALDESC:Events for Mind Body Spirit
REFRESH-INTERVAL;VALUE=DURATION:PT1H
X-Robots-Tag:noindex
X-PUBLISHED-TTL:PT1H
BEGIN:VTIMEZONE
TZID:America/Los_Angeles
BEGIN:DAYLIGHT
TZOFFSETFROM:-0800
TZOFFSETTO:-0700
TZNAME:PDT
DTSTART:20240310T100000
END:DAYLIGHT
BEGIN:STANDARD
TZOFFSETFROM:-0700
TZOFFSETTO:-0800
TZNAME:PST
DTSTART:20241103T090000
END:STANDARD
BEGIN:DAYLIGHT
TZOFFSETFROM:-0800
TZOFFSETTO:-0700
TZNAME:PDT
DTSTART:20250309T100000
END:DAYLIGHT
BEGIN:STANDARD
TZOFFSETFROM:-0700
TZOFFSETTO:-0800
TZNAME:PST
DTSTART:20251102T090000
END:STANDARD
BEGIN:DAYLIGHT
TZOFFSETFROM:-0800
TZOFFSETTO:-0700
TZNAME:PDT
DTSTART:20260308T100000
END:DAYLIGHT
BEGIN:STANDARD
TZOFFSETFROM:-0700
TZOFFSETTO:-0800
TZNAME:PST
DTSTART:20261101T090000
END:STANDARD
END:VTIMEZONE
BEGIN:VEVENT
DTSTART;TZID=America/Los_Angeles:20250305T180000
DTEND;TZID=America/Los_Angeles:20250305T200000
DTSTAMP:20260425T035857
CREATED:20250319T222812Z
LAST-MODIFIED:20250319T222812Z
UID:10001324-1741197600-1741204800@mindbodyspirithw.com
SUMMARY:Kitchen Witchery
DESCRIPTION:🍽️✨ Explore the Magic of Taste! ✨🍽️\nJoin us starting March 5th at 6:00 PM for a fascinating series on the five tastes: sweet\, salty\, sour\, bitter\, and umami. Discover how these tastes can enhance your daily witchcraft practice. \nEach class includes:\n🔮 A hands-on activity with a take-home element\n🍴 A snack relevant to the topic \n🌟 Don’t forget to let Dorine know at least three days in advance if you have allergies or dietary restrictions. \nSpaces are limited—reserve your spot today! Future class dates to be announced. \n#MindBodySpirit #HolisticWellness #DailyWitchcraft #TasteMagic
URL:https://mindbodyspirithw.com/event/kitchen-witchery-2/
LOCATION:Mind Body Spirit Classroom\, 1611 Virginia Ave\, Ste 124\, North Bend\, OR\, 97459\, United States
CATEGORIES:Classes and Workshops
ATTACH;FMTTYPE=image/png:https://mindbodyspirithw.com/wp-content/uploads/2025/01/Kitchen.png
ORGANIZER;CN="Mind Body Spirit Holistic Wellness":MAILTO:mindbodyspirithw@gmail.com
END:VEVENT
END:VCALENDAR