BEGIN:VCALENDAR
VERSION:2.0
PRODID:-//Mind Body Spirit - ECPv6.15.20//NONSGML v1.0//EN
CALSCALE:GREGORIAN
METHOD:PUBLISH
X-WR-CALNAME:Mind Body Spirit
X-ORIGINAL-URL:https://mindbodyspirithw.com
X-WR-CALDESC:Events for Mind Body Spirit
REFRESH-INTERVAL;VALUE=DURATION:PT1H
X-Robots-Tag:noindex
X-PUBLISHED-TTL:PT1H
BEGIN:VTIMEZONE
TZID:America/Los_Angeles
BEGIN:DAYLIGHT
TZOFFSETFROM:-0800
TZOFFSETTO:-0700
TZNAME:PDT
DTSTART:20240310T100000
END:DAYLIGHT
BEGIN:STANDARD
TZOFFSETFROM:-0700
TZOFFSETTO:-0800
TZNAME:PST
DTSTART:20241103T090000
END:STANDARD
BEGIN:DAYLIGHT
TZOFFSETFROM:-0800
TZOFFSETTO:-0700
TZNAME:PDT
DTSTART:20250309T100000
END:DAYLIGHT
BEGIN:STANDARD
TZOFFSETFROM:-0700
TZOFFSETTO:-0800
TZNAME:PST
DTSTART:20251102T090000
END:STANDARD
BEGIN:DAYLIGHT
TZOFFSETFROM:-0800
TZOFFSETTO:-0700
TZNAME:PDT
DTSTART:20260308T100000
END:DAYLIGHT
BEGIN:STANDARD
TZOFFSETFROM:-0700
TZOFFSETTO:-0800
TZNAME:PST
DTSTART:20261101T090000
END:STANDARD
END:VTIMEZONE
BEGIN:VEVENT
DTSTART;TZID=America/Los_Angeles:20250213T180000
DTEND;TZID=America/Los_Angeles:20250213T200000
DTSTAMP:20260425T054705
CREATED:20250111T211619Z
LAST-MODIFIED:20250111T211801Z
UID:10001235-1739469600-1739476800@mindbodyspirithw.com
SUMMARY:WitchCrafting
DESCRIPTION:WitchCrafting\, a workshop to help you on your journey without breaking the bank!! \nLocation: Mind Body Spirit (1611 Virginia Ave\, #124\, North Bend\, OR)\nPrice: Sliding scale $5-10 (Covers the cost of take-home-trinket) \nCome learn how to build\, refresh\, and redecorate your alter\nWithout having to break your bank.\nTips\, tricks and trinkets will be provided by the hosts and\ninstructor. \nFamily-friendly fun for the whole Coven!
URL:https://mindbodyspirithw.com/event/witchcrafting-2/
LOCATION:Mind Body Spirit Classroom\, 1611 Virginia Ave\, Ste 124\, North Bend\, OR\, 97459\, United States
ATTACH;FMTTYPE=image/jpeg:https://mindbodyspirithw.com/wp-content/uploads/2025/01/WitchCrafting-post.jpg
END:VEVENT
END:VCALENDAR