BEGIN:VCALENDAR
VERSION:2.0
PRODID:-//Mind Body Spirit - ECPv6.15.20//NONSGML v1.0//EN
CALSCALE:GREGORIAN
METHOD:PUBLISH
X-WR-CALNAME:Mind Body Spirit
X-ORIGINAL-URL:https://mindbodyspirithw.com
X-WR-CALDESC:Events for Mind Body Spirit
REFRESH-INTERVAL;VALUE=DURATION:PT1H
X-Robots-Tag:noindex
X-PUBLISHED-TTL:PT1H
BEGIN:VTIMEZONE
TZID:America/Los_Angeles
BEGIN:DAYLIGHT
TZOFFSETFROM:-0800
TZOFFSETTO:-0700
TZNAME:PDT
DTSTART:20240310T100000
END:DAYLIGHT
BEGIN:STANDARD
TZOFFSETFROM:-0700
TZOFFSETTO:-0800
TZNAME:PST
DTSTART:20241103T090000
END:STANDARD
BEGIN:DAYLIGHT
TZOFFSETFROM:-0800
TZOFFSETTO:-0700
TZNAME:PDT
DTSTART:20250309T100000
END:DAYLIGHT
BEGIN:STANDARD
TZOFFSETFROM:-0700
TZOFFSETTO:-0800
TZNAME:PST
DTSTART:20251102T090000
END:STANDARD
BEGIN:DAYLIGHT
TZOFFSETFROM:-0800
TZOFFSETTO:-0700
TZNAME:PDT
DTSTART:20260308T100000
END:DAYLIGHT
BEGIN:STANDARD
TZOFFSETFROM:-0700
TZOFFSETTO:-0800
TZNAME:PST
DTSTART:20261101T090000
END:STANDARD
END:VTIMEZONE
BEGIN:VEVENT
DTSTART;TZID=America/Los_Angeles:20250206T180000
DTEND;TZID=America/Los_Angeles:20250206T193000
DTSTAMP:20260425T054707
CREATED:20250126T015542Z
LAST-MODIFIED:20250126T015542Z
UID:10001243-1738864800-1738870200@mindbodyspirithw.com
SUMMARY:Meditation Basics
DESCRIPTION:🌿 Discover the Power of Meditation and Breath-Work 🌿 \nJoin us at Mind Body Spirit Holistic Wellness on February 6 at 6pm for an enriching class exploring the many forms of meditation and transformative breath-work techniques. Whether you’re a beginner or looking to deepen your practice\, this class will guide you through mindfulness\, guided meditations\, and energizing breath-work to help you find balance\, clarity\, and relaxation. \n📍 Location: 1611 Virginia Avenue\, Suite 124\, North Bend\, OR 97459\n💲 Cost: $15 per person \nSpace is limited\, so reserve your spot today and embark on a journey to holistic wellness! \n#MindBodySpirit #HolisticWellness #MeditationWorkshop #SelfCareJourney #BreathWorkHealing
URL:https://mindbodyspirithw.com/event/meditation-basics/
LOCATION:Mind Body Spirit Classroom\, 1611 Virginia Ave\, Ste 124\, North Bend\, OR\, 97459\, United States
CATEGORIES:Classes and Workshops
ATTACH;FMTTYPE=image/png:https://mindbodyspirithw.com/wp-content/uploads/2025/01/Meditation.png
ORGANIZER;CN="Mind Body Spirit Holistic Wellness":MAILTO:mindbodyspirithw@gmail.com
END:VEVENT
BEGIN:VEVENT
DTSTART;TZID=America/Los_Angeles:20250206T180000
DTEND;TZID=America/Los_Angeles:20250206T193000
DTSTAMP:20260425T054707
CREATED:20250602T221840Z
LAST-MODIFIED:20250602T221840Z
UID:10001330-1738864800-1738870200@mindbodyspirithw.com
SUMMARY:Meditation Workshop
DESCRIPTION:🌿 Discover the Power of Meditation and Breath-Work 🌿 \nJoin us at Mind Body Spirit Holistic Wellness for an enriching meditation workshop exploring the many forms of meditation and transformative breath-work techniques. Whether you’re a beginner or looking to deepen your practice\, this class will guide you through mindfulness\, guided meditations\, and energizing breath-work to help you find balance\, clarity\, and relaxation. \n📍 Location: 1611 Virginia Avenue\, Suite 124\, North Bend\, OR 97459\n💲 Cost: $10 per person \nBe sure to wear comfortable clothing as we will practicing a guided meditation. \nSpace is limited\, so reserve your spot today and embark on a journey to holistic wellness! Click here for your ticket. \n#MindBodySpirit #HolisticWellness #MeditationWorkshop #SelfCareJourney #BreathWorkHealing
URL:https://mindbodyspirithw.com/event/meditation-workshop/
LOCATION:Mind Body Spirit Classroom\, 1611 Virginia Ave\, Ste 124\, North Bend\, OR\, 97459\, United States
CATEGORIES:Classes and Workshops
ATTACH;FMTTYPE=image/png:https://mindbodyspirithw.com/wp-content/uploads/2025/01/Meditation.png
ORGANIZER;CN="Mind Body Spirit Holistic Wellness":MAILTO:mindbodyspirithw@gmail.com
END:VEVENT
END:VCALENDAR