BEGIN:VCALENDAR
VERSION:2.0
PRODID:-//Mind Body Spirit - ECPv6.15.20//NONSGML v1.0//EN
CALSCALE:GREGORIAN
METHOD:PUBLISH
X-WR-CALNAME:Mind Body Spirit
X-ORIGINAL-URL:https://mindbodyspirithw.com
X-WR-CALDESC:Events for Mind Body Spirit
REFRESH-INTERVAL;VALUE=DURATION:PT1H
X-Robots-Tag:noindex
X-PUBLISHED-TTL:PT1H
BEGIN:VTIMEZONE
TZID:America/Los_Angeles
BEGIN:DAYLIGHT
TZOFFSETFROM:-0800
TZOFFSETTO:-0700
TZNAME:PDT
DTSTART:20240310T100000
END:DAYLIGHT
BEGIN:STANDARD
TZOFFSETFROM:-0700
TZOFFSETTO:-0800
TZNAME:PST
DTSTART:20241103T090000
END:STANDARD
BEGIN:DAYLIGHT
TZOFFSETFROM:-0800
TZOFFSETTO:-0700
TZNAME:PDT
DTSTART:20250309T100000
END:DAYLIGHT
BEGIN:STANDARD
TZOFFSETFROM:-0700
TZOFFSETTO:-0800
TZNAME:PST
DTSTART:20251102T090000
END:STANDARD
BEGIN:DAYLIGHT
TZOFFSETFROM:-0800
TZOFFSETTO:-0700
TZNAME:PDT
DTSTART:20260308T100000
END:DAYLIGHT
BEGIN:STANDARD
TZOFFSETFROM:-0700
TZOFFSETTO:-0800
TZNAME:PST
DTSTART:20261101T090000
END:STANDARD
END:VTIMEZONE
BEGIN:VEVENT
DTSTART;TZID=America/Los_Angeles:20250201T130000
DTEND;TZID=America/Los_Angeles:20250201T150000
DTSTAMP:20260425T054707
CREATED:20250125T191548Z
LAST-MODIFIED:20250125T191548Z
UID:10001239-1738414800-1738422000@mindbodyspirithw.com
SUMMARY:Brigids Cross Workshop
DESCRIPTION:🌟 Join Us for a Brigids Cross-Making Workshop 🌟 \nCelebrate Imbolc and the season of renewal by crafting your very own Brigid’s Cross! This traditional symbol\, often associated with the goddess Brigid\, represents protection\, fertility\, and the arrival of spring. \n🗓 When: Saturday\, February 1\, 2025\n⏰ Time: 1:00 PM\n📍 Where: Mind Body Spirit Holistic Wellness\n1611 Virginia Avenue\, Suite 124\, North Bend\, OR \nDuring this workshop\, you’ll learn the art of weaving a Brigids Cross and the deep meaning behind this ancient Celtic symbol. All supplies are provided\, and you’ll leave with a meaningful creation to bless your home. \nSpace is limited\, so reserve your spot today! Call us at 541-751-3307 or email mindbodyspirithw@gmail.com. \n#BrigidsCross #ImbolcCelebration #MindBodySpirit #HolisticWellness #SpiritualTraditions
URL:https://mindbodyspirithw.com/event/brigids-cross-workshop/
LOCATION:Mind Body Spirit Classroom\, 1611 Virginia Ave\, Ste 124\, North Bend\, OR\, 97459\, United States
CATEGORIES:Classes and Workshops
ATTACH;FMTTYPE=image/png:https://mindbodyspirithw.com/wp-content/uploads/2025/01/Brigids-Cross-Workshop.png
ORGANIZER;CN="Mind Body Spirit Holistic Wellness":MAILTO:mindbodyspirithw@gmail.com
END:VEVENT
END:VCALENDAR