BEGIN:VCALENDAR
VERSION:2.0
PRODID:-//Mind Body Spirit - ECPv6.15.20//NONSGML v1.0//EN
CALSCALE:GREGORIAN
METHOD:PUBLISH
X-ORIGINAL-URL:https://mindbodyspirithw.com
X-WR-CALDESC:Events for Mind Body Spirit
REFRESH-INTERVAL;VALUE=DURATION:PT1H
X-Robots-Tag:noindex
X-PUBLISHED-TTL:PT1H
BEGIN:VTIMEZONE
TZID:America/Los_Angeles
BEGIN:DAYLIGHT
TZOFFSETFROM:-0800
TZOFFSETTO:-0700
TZNAME:PDT
DTSTART:20240310T100000
END:DAYLIGHT
BEGIN:STANDARD
TZOFFSETFROM:-0700
TZOFFSETTO:-0800
TZNAME:PST
DTSTART:20241103T090000
END:STANDARD
BEGIN:DAYLIGHT
TZOFFSETFROM:-0800
TZOFFSETTO:-0700
TZNAME:PDT
DTSTART:20250309T100000
END:DAYLIGHT
BEGIN:STANDARD
TZOFFSETFROM:-0700
TZOFFSETTO:-0800
TZNAME:PST
DTSTART:20251102T090000
END:STANDARD
BEGIN:DAYLIGHT
TZOFFSETFROM:-0800
TZOFFSETTO:-0700
TZNAME:PDT
DTSTART:20260308T100000
END:DAYLIGHT
BEGIN:STANDARD
TZOFFSETFROM:-0700
TZOFFSETTO:-0800
TZNAME:PST
DTSTART:20261101T090000
END:STANDARD
END:VTIMEZONE
BEGIN:VEVENT
DTSTART;TZID=America/Los_Angeles:20250109T180000
DTEND;TZID=America/Los_Angeles:20250109T190000
DTSTAMP:20260425T072502
CREATED:20241228T002019Z
LAST-MODIFIED:20241228T205016Z
UID:10001218-1736445600-1736449200@mindbodyspirithw.com
SUMMARY:Elemental Living
DESCRIPTION:Elemental Living\n\nNEW CLASS COMING IN JANUARY!!!\n\n\n\nWe all know about the 5 Elements – Earth\, Air\, Fire\, Water\, Spirit…But what’s the practical way to use them in our everyday lives?\n\n\n\nJoin us in January to learn one Witch’s take on Elemental Living!\n\n\n\nWhen: Thursdays in January…\nJanuary 2nd 6pm – Air\nJanuary 9th 6pm – Earth\nJanuary 16th 6pm – Fire\nJanuary 23rd 6pm – Water\nJanuary 30th 6pm – Spirit\n\n\n\nCost: $25 per class\nSign up for all 5 classes and save $25.\n\n\n\nClasses will be held at Mind Body Spirit at 1611 Virginia Ave\, Ste 124\, North Bend\, OR 97459
URL:https://mindbodyspirithw.com/event/elemental-living/2025-01-09/
LOCATION:Mind Body Spirit Classroom\, 1611 Virginia Ave\, Ste 124\, North Bend\, OR\, 97459\, United States
CATEGORIES:Classes and Workshops
ATTACH;FMTTYPE=image/png:https://mindbodyspirithw.com/wp-content/uploads/2024/12/Elemental-Living-Facebook-Cover.png
ORGANIZER;CN="Mind Body Spirit Holistic Wellness":MAILTO:mindbodyspirithw@gmail.com
END:VEVENT
END:VCALENDAR