BEGIN:VCALENDAR
VERSION:2.0
PRODID:-//Mind Body Spirit - ECPv6.15.20//NONSGML v1.0//EN
CALSCALE:GREGORIAN
METHOD:PUBLISH
X-ORIGINAL-URL:https://mindbodyspirithw.com
X-WR-CALDESC:Events for Mind Body Spirit
REFRESH-INTERVAL;VALUE=DURATION:PT1H
X-Robots-Tag:noindex
X-PUBLISHED-TTL:PT1H
BEGIN:VTIMEZONE
TZID:America/Los_Angeles
BEGIN:DAYLIGHT
TZOFFSETFROM:-0800
TZOFFSETTO:-0700
TZNAME:PDT
DTSTART:20240310T100000
END:DAYLIGHT
BEGIN:STANDARD
TZOFFSETFROM:-0700
TZOFFSETTO:-0800
TZNAME:PST
DTSTART:20241103T090000
END:STANDARD
BEGIN:DAYLIGHT
TZOFFSETFROM:-0800
TZOFFSETTO:-0700
TZNAME:PDT
DTSTART:20250309T100000
END:DAYLIGHT
BEGIN:STANDARD
TZOFFSETFROM:-0700
TZOFFSETTO:-0800
TZNAME:PST
DTSTART:20251102T090000
END:STANDARD
BEGIN:DAYLIGHT
TZOFFSETFROM:-0800
TZOFFSETTO:-0700
TZNAME:PDT
DTSTART:20260308T100000
END:DAYLIGHT
BEGIN:STANDARD
TZOFFSETFROM:-0700
TZOFFSETTO:-0800
TZNAME:PST
DTSTART:20261101T090000
END:STANDARD
END:VTIMEZONE
BEGIN:VEVENT
DTSTART;TZID=America/Los_Angeles:20250104T130000
DTEND;TZID=America/Los_Angeles:20250104T150000
DTSTAMP:20260425T071550
CREATED:20241201T234814Z
LAST-MODIFIED:20241228T205542Z
UID:10001215-1735995600-1736002800@mindbodyspirithw.com
SUMMARY:Vision Board Workshop
DESCRIPTION:A vision board is a creative tool used to help visualize and manifest goals\, dreams\, and aspirations. Participants create their boards by arranging inspiring images\, affirmations\, quotes\, and symbols on a physical or digital canvas. These items reflect their personal goals across various areas\, such as career\, health\, relationships\, spirituality\, and more. Vision boards work as a daily reminder to stay focused and motivated\, using the power of visualization to encourage positive change and align actions with intentions. \nJoin us on January 4\, 2025\, at 1 pm to create your personalized vision board! All supplies will be provided\, and the event is completely free. This is the perfect way to start the year with clarity and inspiration. Space is very limited\, so please be sure to contact us to register and reserve your spot.
URL:https://mindbodyspirithw.com/event/vision-board-workshop-3/
LOCATION:Mind Body Spirit Classroom\, 1611 Virginia Ave\, Ste 124\, North Bend\, OR\, 97459\, United States
CATEGORIES:Classes and Workshops
ATTACH;FMTTYPE=image/png:https://mindbodyspirithw.com/wp-content/uploads/2024/12/Vision-Board-Workshop-Banner.png
ORGANIZER;CN="Mind Body Spirit Holistic Wellness":MAILTO:mindbodyspirithw@gmail.com
END:VEVENT
END:VCALENDAR