BEGIN:VCALENDAR
VERSION:2.0
PRODID:-//Mind Body Spirit - ECPv6.15.20//NONSGML v1.0//EN
CALSCALE:GREGORIAN
METHOD:PUBLISH
X-ORIGINAL-URL:https://mindbodyspirithw.com
X-WR-CALDESC:Events for Mind Body Spirit
REFRESH-INTERVAL;VALUE=DURATION:PT1H
X-Robots-Tag:noindex
X-PUBLISHED-TTL:PT1H
BEGIN:VTIMEZONE
TZID:America/Los_Angeles
BEGIN:DAYLIGHT
TZOFFSETFROM:-0800
TZOFFSETTO:-0700
TZNAME:PDT
DTSTART:20230312T100000
END:DAYLIGHT
BEGIN:STANDARD
TZOFFSETFROM:-0700
TZOFFSETTO:-0800
TZNAME:PST
DTSTART:20231105T090000
END:STANDARD
BEGIN:DAYLIGHT
TZOFFSETFROM:-0800
TZOFFSETTO:-0700
TZNAME:PDT
DTSTART:20240310T100000
END:DAYLIGHT
BEGIN:STANDARD
TZOFFSETFROM:-0700
TZOFFSETTO:-0800
TZNAME:PST
DTSTART:20241103T090000
END:STANDARD
BEGIN:DAYLIGHT
TZOFFSETFROM:-0800
TZOFFSETTO:-0700
TZNAME:PDT
DTSTART:20250309T100000
END:DAYLIGHT
BEGIN:STANDARD
TZOFFSETFROM:-0700
TZOFFSETTO:-0800
TZNAME:PST
DTSTART:20251102T090000
END:STANDARD
END:VTIMEZONE
BEGIN:VEVENT
DTSTART;TZID=America/Los_Angeles:20241015T180000
DTEND;TZID=America/Los_Angeles:20241015T200000
DTSTAMP:20260425T122407
CREATED:20240816T191013Z
LAST-MODIFIED:20241228T205903Z
UID:10000609-1729015200-1729022400@mindbodyspirithw.com
SUMMARY:Channeling with LightSong
DESCRIPTION:Join us as we welcome LightSong for another amazing Channeling event. During the session\, she will hold a meditation/journey with her Spirit Guides\, EARTH MEDICINE and STAR DANCER. She will offer group messages as well as individual messages.\n\nWant to know just what to expect during our Channeling with LightSong Session? Check out our quick video with Martha LightSong as she tells us what to expect here.\n\nSpace is limited so be sure to register today! Contact Martha at 541-294-2550 or use the ticket link.
URL:https://mindbodyspirithw.com/event/lightsong-channeling/2024-10-15/
LOCATION:Mind Body Spirit Classroom\, 1611 Virginia Ave\, Ste 124\, North Bend\, OR\, 97459\, United States
CATEGORIES:Classes and Workshops,Readings
ATTACH;FMTTYPE=image/png:https://mindbodyspirithw.com/wp-content/uploads/2024/08/Lightsong-Channeling.png
END:VEVENT
END:VCALENDAR