BEGIN:VCALENDAR
VERSION:2.0
PRODID:-//Mind Body Spirit - ECPv6.15.20//NONSGML v1.0//EN
CALSCALE:GREGORIAN
METHOD:PUBLISH
X-WR-CALNAME:Mind Body Spirit
X-ORIGINAL-URL:https://mindbodyspirithw.com
X-WR-CALDESC:Events for Mind Body Spirit
REFRESH-INTERVAL;VALUE=DURATION:PT1H
X-Robots-Tag:noindex
X-PUBLISHED-TTL:PT1H
BEGIN:VTIMEZONE
TZID:America/Los_Angeles
BEGIN:DAYLIGHT
TZOFFSETFROM:-0800
TZOFFSETTO:-0700
TZNAME:PDT
DTSTART:20230312T100000
END:DAYLIGHT
BEGIN:STANDARD
TZOFFSETFROM:-0700
TZOFFSETTO:-0800
TZNAME:PST
DTSTART:20231105T090000
END:STANDARD
BEGIN:DAYLIGHT
TZOFFSETFROM:-0800
TZOFFSETTO:-0700
TZNAME:PDT
DTSTART:20240310T100000
END:DAYLIGHT
BEGIN:STANDARD
TZOFFSETFROM:-0700
TZOFFSETTO:-0800
TZNAME:PST
DTSTART:20241103T090000
END:STANDARD
BEGIN:DAYLIGHT
TZOFFSETFROM:-0800
TZOFFSETTO:-0700
TZNAME:PDT
DTSTART:20250309T100000
END:DAYLIGHT
BEGIN:STANDARD
TZOFFSETFROM:-0700
TZOFFSETTO:-0800
TZNAME:PST
DTSTART:20251102T090000
END:STANDARD
END:VTIMEZONE
BEGIN:VEVENT
DTSTART;TZID=America/Los_Angeles:20240727T130000
DTEND;TZID=America/Los_Angeles:20240727T150000
DTSTAMP:20260425T171854
CREATED:20240718T234827Z
LAST-MODIFIED:20241228T205713Z
UID:10000231-1722085200-1722092400@mindbodyspirithw.com
SUMMARY:Astrology 102
DESCRIPTION:Beginning Astrology Classes \nWhy Astrology?   To Know Yourself\nWhat is Astrology?    A Mythic Language\nWhen? Note that classes are repeated on Saturdays\, you are not required to attend Thursday and Saturday\nAstrology 101 July 11 Thursday 6PM $25 or Astrology 101 July 13 Saturday 1PM $25\nAstrology 102 July 25 Thursday 6PM $10 or Astrology 102 July 27 Saturday 1PM $10 \nJewell Starsinger 541.290.0411
URL:https://mindbodyspirithw.com/event/astrology-102-2/
LOCATION:Mind Body Spirit Classroom\, 1611 Virginia Ave\, Ste 124\, North Bend\, OR\, 97459\, United States
CATEGORIES:Classes and Workshops
ATTACH;FMTTYPE=image/png:https://mindbodyspirithw.com/wp-content/uploads/2024/06/Astrology-101-102.png
END:VEVENT
END:VCALENDAR