BEGIN:VCALENDAR
VERSION:2.0
PRODID:-//Mind Body Spirit - ECPv6.15.20//NONSGML v1.0//EN
CALSCALE:GREGORIAN
METHOD:PUBLISH
X-ORIGINAL-URL:https://mindbodyspirithw.com
X-WR-CALDESC:Events for Mind Body Spirit
REFRESH-INTERVAL;VALUE=DURATION:PT1H
X-Robots-Tag:noindex
X-PUBLISHED-TTL:PT1H
BEGIN:VTIMEZONE
TZID:America/Los_Angeles
BEGIN:DAYLIGHT
TZOFFSETFROM:-0800
TZOFFSETTO:-0700
TZNAME:PDT
DTSTART:20230312T100000
END:DAYLIGHT
BEGIN:STANDARD
TZOFFSETFROM:-0700
TZOFFSETTO:-0800
TZNAME:PST
DTSTART:20231105T090000
END:STANDARD
BEGIN:DAYLIGHT
TZOFFSETFROM:-0800
TZOFFSETTO:-0700
TZNAME:PDT
DTSTART:20240310T100000
END:DAYLIGHT
BEGIN:STANDARD
TZOFFSETFROM:-0700
TZOFFSETTO:-0800
TZNAME:PST
DTSTART:20241103T090000
END:STANDARD
BEGIN:DAYLIGHT
TZOFFSETFROM:-0800
TZOFFSETTO:-0700
TZNAME:PDT
DTSTART:20250309T100000
END:DAYLIGHT
BEGIN:STANDARD
TZOFFSETFROM:-0700
TZOFFSETTO:-0800
TZNAME:PST
DTSTART:20251102T090000
END:STANDARD
END:VTIMEZONE
BEGIN:VEVENT
DTSTART;TZID=America/Los_Angeles:20240721T113000
DTEND;TZID=America/Los_Angeles:20240721T123000
DTSTAMP:20260425T171850
CREATED:20240719T192718Z
LAST-MODIFIED:20241228T205641Z
UID:10000242-1721561400-1721565000@mindbodyspirithw.com
SUMMARY:Chair Yoga
DESCRIPTION:Chair Yoga Event Location:\nMind Body Spirit Wellness Center\n1611 Virginia Avenue\, Suite 124\nNorth Bend\, OR 97459 \nEvent Description:\nJoin us for a rejuvenating Chair Yoga session designed for all ages and fitness levels! It is a gentle form of yoga that is practiced while sitting on a chair or standing and using the chair for support. This class is perfect for those with limited mobility\, beginners\, or anyone looking for a relaxing way to enhance their flexibility\, strength\, and mindfulness. \nWhat to Expect:\n\nGentle stretches and poses to improve flexibility\nBreathing exercises to enhance relaxation and reduce stress\nGuided meditation for mental clarity and peace\nAn inclusive and supportive environment\n\nWhat to Bring:\n\nComfortable clothing\nWater bottle\nAn open mind and willingness to relax and enjoy\n\nRegistration:\nSpaces are limited\, so please RSVP by July 27th to secure your spot. You can register by calling us at (541) 751-3307 or emailing mindbodyspirithw@gmail.com. \nCost:\n$10 per person \nContact Information:\nFor more information\, contact us at:\n📞 (541) 751-3307\n📧 mindbodyspirithw@gmail.com \n\n#MindBodySpirit #HolisticWellness #Divination #ChairYoga #YogaForAll #RelaxAndStretch #CommunityWellness
URL:https://mindbodyspirithw.com/event/chair-yoga/
LOCATION:Mind Body Spirit Classroom\, 1611 Virginia Ave\, Ste 124\, North Bend\, OR\, 97459\, United States
CATEGORIES:Classes and Workshops
ATTACH;FMTTYPE=image/png:https://mindbodyspirithw.com/wp-content/uploads/2024/07/Chair-Yoga-Banner.png
ORGANIZER;CN="Mind Body Spirit Holistic Wellness":MAILTO:mindbodyspirithw@gmail.com
END:VEVENT
BEGIN:VEVENT
DTSTART;TZID=America/Los_Angeles:20240721T123000
DTEND;TZID=America/Los_Angeles:20240721T133000
DTSTAMP:20260425T171850
CREATED:20240719T215629Z
LAST-MODIFIED:20241228T205653Z
UID:10000245-1721565000-1721568600@mindbodyspirithw.com
SUMMARY:Yoga
DESCRIPTION:Event Title:\nYoga for All Levels \nEvent Location:\nMind Body Spirit Wellness Center\n1611 Virginia Avenue\, Suite 124\nNorth Bend\, OR 97459 \nEvent Description:\nJoin us for a revitalizing Yoga session designed for all levels of experience! Whether you are a seasoned yogi or a complete beginner\, this class will provide the perfect blend of challenge and relaxation. Our skilled instructor will guide you through a series of poses that enhance flexibility\, strength\, and mindfulness. \nWhat to Expect:\n\nA variety of yoga poses suitable for all levels\nBreathing techniques to promote relaxation and focus\nGuided meditation for mental clarity and peace\nAn inclusive and supportive environment\n\nWhat to Bring:\n\nYoga mat (we have some available if you don’t have one)\nComfortable clothing\nWater bottle\nAn open mind and willingness to explore\n\nRegistration:\nSpaces are limited\, so please RSVP to secure your spot. \nCost:\n$10 per person \nContact Information:\nFor more information\, contact us at:\n📞 (541) 751-3307\n📧 mindbodyspirithw@gmail.com \n#MindBodySpirit #HolisticWellness #Divination #YogaForAll #FindYourZen #CommunityWellness
URL:https://mindbodyspirithw.com/event/yoga/
LOCATION:Mind Body Spirit Classroom\, 1611 Virginia Ave\, Ste 124\, North Bend\, OR\, 97459\, United States
CATEGORIES:Classes and Workshops
ATTACH;FMTTYPE=image/png:https://mindbodyspirithw.com/wp-content/uploads/2024/07/White-and-Blue-Modern-Yoga-Class-Banner-Landscape-scaled.png
ORGANIZER;CN="Mind Body Spirit Holistic Wellness":MAILTO:mindbodyspirithw@gmail.com
END:VEVENT
END:VCALENDAR